Workbook

Sheet Детализация
A1: Группа | B1: Исполнитель | C1: Дата передачи | D1: Дата назначения | E1: Дата выполнения | F1: Длительность (раб. ч) | G1: Длительность назначения (раб. ч) | H1: Нарушено (1ч) | I1: Нарушено (8ч) | J1: % выполнения (1ч) | K1: % выполнения (8ч)
A2: Сеть | B2: Иванов И. | C2: 46279.292 | D2: 46279.365 | E2: 46280.417 | F2: =SUM(Время!$H$2:$H$41)/60 | G2: =SUM(Время!$I$2:$I$41)/60 | H2: =IF(F2>1;"Да";"Нет") | I2: =IF(G2>8;"Да";"Нет") | J2: =IF(COUNTIF($A$2:$A$5;A2)=0;"";(COUNTIF($A$2:$A$5;A2)-COUNTIFS($A$2:$A$5;A2;$H$2:$H$5;"Да"))/COUNTIF($A$2:$A$5;A2)*100) | K2: =IF(COUNTIF($A$2:$A$5;A2)=0;"";(COUNTIF($A$2:$A$5;A2)-COUNTIFS($A$2:$A$5;A2;$I$2:$I$5;"Да"))/COUNTIF($A$2:$A$5;A2)*100)
A3: Связь | B3: Смирнов С. | C3: 46280.375 | D3: 46280.479 | E3: 46280.625 | F3: =SUM(Время!$H$42:$H$81)/60 | G3: =SUM(Время!$I$42:$I$81)/60 | H3: =IF(F3>1;"Да";"Нет") | I3: =IF(G3>8;"Да";"Нет") | J3: =IF(COUNTIF($A$2:$A$5;A3)=0;"";(COUNTIF($A$2:$A$5;A3)-COUNTIFS($A$2:$A$5;A3;$H$2:$H$5;"Да"))/COUNTIF($A$2:$A$5;A3)*100) | K3: =IF(COUNTIF($A$2:$A$5;A3)=0;"";(COUNTIF($A$2:$A$5;A3)-COUNTIFS($A$2:$A$5;A3;$I$2:$I$5;"Да"))/COUNTIF($A$2:$A$5;A3)*100)
A4: Инфра | B4: Петров П. | C4: 46280.333 | D4: 46280.542 | E4: 46280.396 | F4: =SUM(Время!$H$82:$H$121)/60 | G4: =SUM(Время!$I$82:$I$121)/60 | H4: =IF(F4>1;"Да";"Нет") | I4: =IF(G4>8;"Да";"Нет") | J4: =IF(COUNTIF($A$2:$A$5;A4)=0;"";(COUNTIF($A$2:$A$5;A4)-COUNTIFS($A$2:$A$5;A4;$H$2:$H$5;"Да"))/COUNTIF($A$2:$A$5;A4)*100) | K4: =IF(COUNTIF($A$2:$A$5;A4)=0;"";(COUNTIF($A$2:$A$5;A4)-COUNTIFS($A$2:$A$5;A4;$I$2:$I$5;"Да"))/COUNTIF($A$2:$A$5;A4)*100)
A5: Сеть | B5: Козлов К. | C5: 46279.417 | D5: 46279.438 | E5: 46282.708 | F5: =SUM(Время!$H$122:$H$161)/60 | G5: =SUM(Время!$I$122:$I$161)/60 | H5: =IF(F5>1;"Да";"Нет") | I5: =IF(G5>8;"Да";"Нет") | J5: =IF(COUNTIF($A$2:$A$5;A5)=0;"";(COUNTIF($A$2:$A$5;A5)-COUNTIFS($A$2:$A$5;A5;$H$2:$H$5;"Да"))/COUNTIF($A$2:$A$5;A5)*100) | K5: =IF(COUNTIF($A$2:$A$5;A5)=0;"";(COUNTIF($A$2:$A$5;A5)-COUNTIFS($A$2:$A$5;A5;$I$2:$I$5;"Да"))/COUNTIF($A$2:$A$5;A5)*100)

Sheet Время
A1: Строка | B1: День | C1: Будний | D1: Start дня | E1: End дня | F1: Start overlap | G1: End overlap | H1: Мин (пер→вып) | I1: Мин (назн→вып)
A2: =$A$2 | B2: =INT($C$2)+0 | C2: =IF(OR(WEEKDAY($B2,2)=7,WEEKDAY($B2,2)=8),0,1) | D2: =B2+8.5/24 | E2: =B2+17.5/24 | F2: =MAX(D2;$C$2) | G2: =MIN(E2;$E$2) | H2: =IF(AND(C2=1;F2<G2),(G2-F2)*1440;0) | I2: =IF(AND(C2=1;MAX(D2;$D$2)<MIN(E2;$E$2)),(MIN(E2;$E$2)-MAX(D2;$D$2))*1440;0)
A3: =$A$2 | B3: =INT($C$2)+1 | C3: =IF(OR(WEEKDAY($B3,2)=7,WEEKDAY($B3,2)=8),0,1) | D3: =B3+8.5/24 | E3: =B3+17.5/24 | F3: =MAX(D3;$C$2) | G3: =MIN(E3;$E$2) | H3: =IF(AND(C3=1;F3<G3),(G3-F3)*1440;0) | I3: =IF(AND(C3=1;MAX(D3;$D$2)<MIN(E3;$E$2)),(MIN(E3;$E$2)-MAX(D3;$D$2))*1440;0)
A4: =$A$2 | B4: =INT($C$2)+2 | C4: =IF(OR(WEEKDAY($B4,2)=7,WEEKDAY($B4,2)=8),0,1) | D4: =B4+8.5/24 | E4: =B4+17.5/24 | F4: =MAX(D4;$C$2) | G4: =MIN(E4;$E$2) | H4: =IF(AND(C4=1;F4<G4),(G4-F4)*1440;0) | I4: =IF(AND(C4=1;MAX(D4;$D$2)<MIN(E4;$E$2)),(MIN(E4;$E$2)-MAX(D4;$D$2))*1440;0)
A5: =$A$2 | B5: =INT($C$2)+3 | C5: =IF(OR(WEEKDAY($B5,2)=7,WEEKDAY($B5,2)=8),0,1) | D5: =B5+8.5/24 | E5: =B5+17.5/24 | F5: =MAX(D5;$C$2) | G5: =MIN(E5;$E$2) | H5: =IF(AND(C5=1;F5<G5),(G5-F5)*1440;0) | I5: =IF(AND(C5=1;MAX(D5;$D$2)<MIN(E5;$E$2)),(MIN(E5;$E$2)-MAX(D5;$D$2))*1440;0)
A6: =$A$2 | B6: =INT($C$2)+4 | C6: =IF(OR(WEEKDAY($B6,2)=7,WEEKDAY($B6,2)=8),0,1) | D6: =B6+8.5/24 | E6: =B6+17.5/24 | F6: =MAX(D6;$C$2) | G6: =MIN(E6;$E$2) | H6: =IF(AND(C6=1;F6<G6),(G6-F6)*1440;0) | I6: =IF(AND(C6=1;MAX(D6;$D$2)<MIN(E6;$E$2)),(MIN(E6;$E$2)-MAX(D6;$D$2))*1440;0)
A7: =$A$2 | B7: =INT($C$2)+5 | C7: =IF(OR(WEEKDAY($B7,2)=7,WEEKDAY($B7,2)=8),0,1) | D7: =B7+8.5/24 | E7: =B7+17.5/24 | F7: =MAX(D7;$C$2) | G7: =MIN(E7;$E$2) | H7: =IF(AND(C7=1;F7<G7),(G7-F7)*1440;0) | I7: =IF(AND(C7=1;MAX(D7;$D$2)<MIN(E7;$E$2)),(MIN(E7;$E$2)-MAX(D7;$D$2))*1440;0)
A8: =$A$2 | B8: =INT($C$2)+6 | C8: =IF(OR(WEEKDAY($B8,2)=7,WEEKDAY($B8,2)=8),0,1) | D8: =B8+8.5/24 | E8: =B8+17.5/24 | F8: =MAX(D8;$C$2) | G8: =MIN(E8;$E$2) | H8: =IF(AND(C8=1;F8<G8),(G8-F8)*1440;0) | I8: =IF(AND(C8=1;MAX(D8;$D$2)<MIN(E8;$E$2)),(MIN(E8;$E$2)-MAX(D8;$D$2))*1440;0)
A9: =$A$2 | B9: =INT($C$2)+7 | C9: =IF(OR(WEEKDAY($B9,2)=7,WEEKDAY($B9,2)=8),0,1) | D9: =B9+8.5/24 | E9: =B9+17.5/24 | F9: =MAX(D9;$C$2) | G9: =MIN(E9;$E$2) | H9: =IF(AND(C9=1;F9<G9),(G9-F9)*1440;0) | I9: =IF(AND(C9=1;MAX(D9;$D$2)<MIN(E9;$E$2)),(MIN(E9;$E$2)-MAX(D9;$D$2))*1440;0)
A10: =$A$2 | B10: =INT($C$2)+8 | C10: =IF(OR(WEEKDAY($B10,2)=7,WEEKDAY($B10,2)=8),0,1) | D10: =B10+8.5/24 | E10: =B10+17.5/24 | F10: =MAX(D10;$C$2) | G10: =MIN(E10;$E$2) | H10: =IF(AND(C10=1;F10<G10),(G10-F10)*1440;0) | I10: =IF(AND(C10=1;MAX(D10;$D$2)<MIN(E10;$E$2)),(MIN(E10;$E$2)-MAX(D10;$D$2))*1440;0)
A11: =$A$2 | B11: =INT($C$2)+9 | C11: =IF(OR(WEEKDAY($B11,2)=7,WEEKDAY($B11,2)=8),0,1) | D11: =B11+8.5/24 | E11: =B11+17.5/24 | F11: =MAX(D11;$C$2) | G11: =MIN(E11;$E$2) | H11: =IF(AND(C11=1;F11<G11),(G11-F11)*1440;0) | I11: =IF(AND(C11=1;MAX(D11;$D$2)<MIN(E11;$E$2)),(MIN(E11;$E$2)-MAX(D11;$D$2))*1440;0)
A12: =$A$2 | B12: =INT($C$2)+10 | C12: =IF(OR(WEEKDAY($B12,2)=7,WEEKDAY($B12,2)=8),0,1) | D12: =B12+8.5/24 | E12: =B12+17.5/24 | F12: =MAX(D12;$C$2) | G12: =MIN(E12;$E$2) | H12: =IF(AND(C12=1;F12<G12),(G12-F12)*1440;0) | I12: =IF(AND(C12=1;MAX(D12;$D$2)<MIN(E12;$E$2)),(MIN(E12;$E$2)-MAX(D12;$D$2))*1440;0)
A13: =$A$2 | B13: =INT($C$2)+11 | C13: =IF(OR(WEEKDAY($B13,2)=7,WEEKDAY($B13,2)=8),0,1) | D13: =B13+8.5/24 | E13: =B13+17.5/24 | F13: =MAX(D13;$C$2) | G13: =MIN(E13;$E$2) | H13: =IF(AND(C13=1;F13<G13),(G13-F13)*1440;0) | I13: =IF(AND(C13=1;MAX(D13;$D$2)<MIN(E13;$E$2)),(MIN(E13;$E$2)-MAX(D13;$D$2))*1440;0)
A14: =$A$2 | B14: =INT($C$2)+12 | C14: =IF(OR(WEEKDAY($B14,2)=7,WEEKDAY($B14,2)=8),0,1) | D14: =B14+8.5/24 | E14: =B14+17.5/24 | F14: =MAX(D14;$C$2) | G14: =MIN(E14;$E$2) | H14: =IF(AND(C14=1;F14<G14),(G14-F14)*1440;0) | I14: =IF(AND(C14=1;MAX(D14;$D$2)<MIN(E14;$E$2)),(MIN(E14;$E$2)-MAX(D14;$D$2))*1440;0)
A15: =$A$2 | B15: =INT($C$2)+13 | C15: =IF(OR(WEEKDAY($B15,2)=7,WEEKDAY($B15,2)=8),0,1) | D15: =B15+8.5/24 | E15: =B15+17.5/24 | F15: =MAX(D15;$C$2) | G15: =MIN(E15;$E$2) | H15: =IF(AND(C15=1;F15<G15),(G15-F15)*1440;0) | I15: =IF(AND(C15=1;MAX(D15;$D$2)<MIN(E15;$E$2)),(MIN(E15;$E$2)-MAX(D15;$D$2))*1440;0)
A16: =$A$2 | B16: =INT($C$2)+14 | C16: =IF(OR(WEEKDAY($B16,2)=7,WEEKDAY($B16,2)=8),0,1) | D16: =B16+8.5/24 | E16: =B16+17.5/24 | F16: =MAX(D16;$C$2) | G16: =MIN(E16;$E$2) | H16: =IF(AND(C16=1;F16<G16),(G16-F16)*1440;0) | I16: =IF(AND(C16=1;MAX(D16;$D$2)<MIN(E16;$E$2)),(MIN(E16;$E$2)-MAX(D16;$D$2))*1440;0)
A17: =$A$2 | B17: =INT($C$2)+15 | C17: =IF(OR(WEEKDAY($B17,2)=7,WEEKDAY($B17,2)=8),0,1) | D17: =B17+8.5/24 | E17: =B17+17.5/24 | F17: =MAX(D17;$C$2) | G17: =MIN(E17;$E$2) | H17: =IF(AND(C17=1;F17<G17),(G17-F17)*1440;0) | I17: =IF(AND(C17=1;MAX(D17;$D$2)<MIN(E17;$E$2)),(MIN(E17;$E$2)-MAX(D17;$D$2))*1440;0)
A18: =$A$2 | B18: =INT($C$2)+16 | C18: =IF(OR(WEEKDAY($B18,2)=7,WEEKDAY($B18,2)=8),0,1) | D18: =B18+8.5/24 | E18: =B18+17.5/24 | F18: =MAX(D18;$C$2) | G18: =MIN(E18;$E$2) | H18: =IF(AND(C18=1;F18<G18),(G18-F18)*1440;0) | I18: =IF(AND(C18=1;MAX(D18;$D$2)<MIN(E18;$E$2)),(MIN(E18;$E$2)-MAX(D18;$D$2))*1440;0)
A19: =$A$2 | B19: =INT($C$2)+17 | C19: =IF(OR(WEEKDAY($B19,2)=7,WEEKDAY($B19,2)=8),0,1) | D19: =B19+8.5/24 | E19: =B19+17.5/24 | F19: =MAX(D19;$C$2) | G19: =MIN(E19;$E$2) | H19: =IF(AND(C19=1;F19<G19),(G19-F19)*1440;0) | I19: =IF(AND(C19=1;MAX(D19;$D$2)<MIN(E19;$E$2)),(MIN(E19;$E$2)-MAX(D19;$D$2))*1440;0)
A20: =$A$2 | B20: =INT($C$2)+18 | C20: =IF(OR(WEEKDAY($B20,2)=7,WEEKDAY($B20,2)=8),0,1) | D20: =B20+8.5/24 | E20: =B20+17.5/24 | F20: =MAX(D20;$C$2) | G20: =MIN(E20;$E$2) | H20: =IF(AND(C20=1;F20<G20),(G20-F20)*1440;0) | I20: =IF(AND(C20=1;MAX(D20;$D$2)<MIN(E20;$E$2)),(MIN(E20;$E$2)-MAX(D20;$D$2))*1440;0)
A21: =$A$2 | B21: =INT($C$2)+19 | C21: =IF(OR(WEEKDAY($B21,2)=7,WEEKDAY($B21,2)=8),0,1) | D21: =B21+8.5/24 | E21: =B21+17.5/24 | F21: =MAX(D21;$C$2) | G21: =MIN(E21;$E$2) | H21: =IF(AND(C21=1;F21<G21),(G21-F21)*1440;0) | I21: =IF(AND(C21=1;MAX(D21;$D$2)<MIN(E21;$E$2)),(MIN(E21;$E$2)-MAX(D21;$D$2))*1440;0)
A22: =$A$2 | B22: =INT($C$2)+20 | C22: =IF(OR(WEEKDAY($B22,2)=7,WEEKDAY($B22,2)=8),0,1) | D22: =B22+8.5/24 | E22: =B22+17.5/24 | F22: =MAX(D22;$C$2) | G22: =MIN(E22;$E$2) | H22: =IF(AND(C22=1;F22<G22),(G22-F22)*1440;0) | I22: =IF(AND(C22=1;MAX(D22;$D$2)<MIN(E22;$E$2)),(MIN(E22;$E$2)-MAX(D22;$D$2))*1440;0)
A23: =$A$2 | B23: =INT($C$2)+21 | C23: =IF(OR(WEEKDAY($B23,2)=7,WEEKDAY($B23,2)=8),0,1) | D23: =B23+8.5/24 | E23: =B23+17.5/24 | F23: =MAX(D23;$C$2) | G23: =MIN(E23;$E$2) | H23: =IF(AND(C23=1;F23<G23),(G23-F23)*1440;0) | I23: =IF(AND(C23=1;MAX(D23;$D$2)<MIN(E23;$E$2)),(MIN(E23;$E$2)-MAX(D23;$D$2))*1440;0)
A24: =$A$2 | B24: =INT($C$2)+22 | C24: =IF(OR(WEEKDAY($B24,2)=7,WEEKDAY($B24,2)=8),0,1) | D24: =B24+8.5/24 | E24: =B24+17.5/24 | F24: =MAX(D24;$C$2) | G24: =MIN(E24;$E$2) | H24: =IF(AND(C24=1;F24<G24),(G24-F24)*1440;0) | I24: =IF(AND(C24=1;MAX(D24;$D$2)<MIN(E24;$E$2)),(MIN(E24;$E$2)-MAX(D24;$D$2))*1440;0)
A25: =$A$2 | B25: =INT($C$2)+23 | C25: =IF(OR(WEEKDAY($B25,2)=7,WEEKDAY($B25,2)=8),0,1) | D25: =B25+8.5/24 | E25: =B25+17.5/24 | F25: =MAX(D25;$C$2) | G25: =MIN(E25;$E$2) | H25: =IF(AND(C25=1;F25<G25),(G25-F25)*1440;0) | I25: =IF(AND(C25=1;MAX(D25;$D$2)<MIN(E25;$E$2)),(MIN(E25;$E$2)-MAX(D25;$D$2))*1440;0)
A26: =$A$2 | B26: =INT($C$2)+24 | C26: =IF(OR(WEEKDAY($B26,2)=7,WEEKDAY($B26,2)=8),0,1) | D26: =B26+8.5/24 | E26: =B26+17.5/24 | F26: =MAX(D26;$C$2) | G26: =MIN(E26;$E$2) | H26: =IF(AND(C26=1;F26<G26),(G26-F26)*1440;0) | I26: =IF(AND(C26=1;MAX(D26;$D$2)<MIN(E26;$E$2)),(MIN(E26;$E$2)-MAX(D26;$D$2))*1440;0)
A27: =$A$2 | B27: =INT($C$2)+25 | C27: =IF(OR(WEEKDAY($B27,2)=7,WEEKDAY($B27,2)=8),0,1) | D27: =B27+8.5/24 | E27: =B27+17.5/24 | F27: =MAX(D27;$C$2) | G27: =MIN(E27;$E$2) | H27: =IF(AND(C27=1;F27<G27),(G27-F27)*1440;0) | I27: =IF(AND(C27=1;MAX(D27;$D$2)<MIN(E27;$E$2)),(MIN(E27;$E$2)-MAX(D27;$D$2))*1440;0)
A28: =$A$2 | B28: =INT($C$2)+26 | C28: =IF(OR(WEEKDAY($B28,2)=7,WEEKDAY($B28,2)=8),0,1) | D28: =B28+8.5/24 | E28: =B28+17.5/24 | F28: =MAX(D28;$C$2) | G28: =MIN(E28;$E$2) | H28: =IF(AND(C28=1;F28<G28),(G28-F28)*1440;0) | I28: =IF(AND(C28=1;MAX(D28;$D$2)<MIN(E28;$E$2)),(MIN(E28;$E$2)-MAX(D28;$D$2))*1440;0)
A29: =$A$2 | B29: =INT($C$2)+27 | C29: =IF(OR(WEEKDAY($B29,2)=7,WEEKDAY($B29,2)=8),0,1) | D29: =B29+8.5/24 | E29: =B29+17.5/24 | F29: =MAX(D29;$C$2) | G29: =MIN(E29;$E$2) | H29: =IF(AND(C29=1;F29<G29),(G29-F29)*1440;0) | I29: =IF(AND(C29=1;MAX(D29;$D$2)<MIN(E29;$E$2)),(MIN(E29;$E$2)-MAX(D29;$D$2))*1440;0)
A30: =$A$2 | B30: =INT($C$2)+28 | C30: =IF(OR(WEEKDAY($B30,2)=7,WEEKDAY($B30,2)=8),0,1) | D30: =B30+8.5/24 | E30: =B30+17.5/24 | F30: =MAX(D30;$C$2) | G30: =MIN(E30;$E$2) | H30: =IF(AND(C30=1;F30<G30),(G30-F30)*1440;0) | I30: =IF(AND(C30=1;MAX(D30;$D$2)<MIN(E30;$E$2)),(MIN(E30;$E$2)-MAX(D30;$D$2))*1440;0)
A31: =$A$2 | B31: =INT($C$2)+29 | C31: =IF(OR(WEEKDAY($B31,2)=7,WEEKDAY($B31,2)=8),0,1) | D31: =B31+8.5/24 | E31: =B31+17.5/24 | F31: =MAX(D31;$C$2) | G31: =MIN(E31;$E$2) | H31: =IF(AND(C31=1;F31<G31),(G31-F31)*1440;0) | I31: =IF(AND(C31=1;MAX(D31;$D$2)<MIN(E31;$E$2)),(MIN(E31;$E$2)-MAX(D31;$D$2))*1440;0)
A32: =$A$2 | B32: =INT($C$2)+30 | C32: =IF(OR(WEEKDAY($B32,2)=7,WEEKDAY($B32,2)=8),0,1) | D32: =B32+8.5/24 | E32: =B32+17.5/24 | F32: =MAX(D32;$C$2) | G32: =MIN(E32;$E$2) | H32: =IF(AND(C32=1;F32<G32),(G32-F32)*1440;0) | I32: =IF(AND(C32=1;MAX(D32;$D$2)<MIN(E32;$E$2)),(MIN(E32;$E$2)-MAX(D32;$D$2))*1440;0)
A33: =$A$2 | B33: =INT($C$2)+31 | C33: =IF(OR(WEEKDAY($B33,2)=7,WEEKDAY($B33,2)=8),0,1) | D33: =B33+8.5/24 | E33: =B33+17.5/24 | F33: =MAX(D33;$C$2) | G33: =MIN(E33;$E$2) | H33: =IF(AND(C33=1;F33<G33),(G33-F33)*1440;0) | I33: =IF(AND(C33=1;MAX(D33;$D$2)<MIN(E33;$E$2)),(MIN(E33;$E$2)-MAX(D33;$D$2))*1440;0)
A34: =$A$2 | B34: =INT($C$2)+32 | C34: =IF(OR(WEEKDAY($B34,2)=7,WEEKDAY($B34,2)=8),0,1) | D34: =B34+8.5/24 | E34: =B34+17.5/24 | F34: =MAX(D34;$C$2) | G34: =MIN(E34;$E$2) | H34: =IF(AND(C34=1;F34<G34),(G34-F34)*1440;0) | I34: =IF(AND(C34=1;MAX(D34;$D$2)<MIN(E34;$E$2)),(MIN(E34;$E$2)-MAX(D34;$D$2))*1440;0)
A35: =$A$2 | B35: =INT($C$2)+33 | C35: =IF(OR(WEEKDAY($B35,2)=7,WEEKDAY($B35,2)=8),0,1) | D35: =B35+8.5/24 | E35: =B35+17.5/24 | F35: =MAX(D35;$C$2) | G35: =MIN(E35;$E$2) | H35: =IF(AND(C35=1;F35<G35),(G35-F35)*1440;0) | I35: =IF(AND(C35=1;MAX(D35;$D$2)<MIN(E35;$E$2)),(MIN(E35;$E$2)-MAX(D35;$D$2))*1440;0)
A36: =$A$2 | B36: =INT($C$2)+34 | C36: =IF(OR(WEEKDAY($B36,2)=7,WEEKDAY($B36,2)=8),0,1) | D36: =B36+8.5/24 | E36: =B36+17.5/24 | F36: =MAX(D36;$C$2) | G36: =MIN(E36;$E$2) | H36: =IF(AND(C36=1;F36<G36),(G36-F36)*1440;0) | I36: =IF(AND(C36=1;MAX(D36;$D$2)<MIN(E36;$E$2)),(MIN(E36;$E$2)-MAX(D36;$D$2))*1440;0)
A37: =$A$2 | B37: =INT($C$2)+35 | C37: =IF(OR(WEEKDAY($B37,2)=7,WEEKDAY($B37,2)=8),0,1) | D37: =B37+8.5/24 | E37: =B37+17.5/24 | F37: =MAX(D37;$C$2) | G37: =MIN(E37;$E$2) | H37: =IF(AND(C37=1;F37<G37),(G37-F37)*1440;0) | I37: =IF(AND(C37=1;MAX(D37;$D$2)<MIN(E37;$E$2)),(MIN(E37;$E$2)-MAX(D37;$D$2))*1440;0)
A38: =$A$2 | B38: =INT($C$2)+36 | C38: =IF(OR(WEEKDAY($B38,2)=7,WEEKDAY($B38,2)=8),0,1) | D38: =B38+8.5/24 | E38: =B38+17.5/24 | F38: =MAX(D38;$C$2) | G38: =MIN(E38;$E$2) | H38: =IF(AND(C38=1;F38<G38),(G38-F38)*1440;0) | I38: =IF(AND(C38=1;MAX(D38;$D$2)<MIN(E38;$E$2)),(MIN(E38;$E$2)-MAX(D38;$D$2))*1440;0)
A39: =$A$2 | B39: =INT($C$2)+37 | C39: =IF(OR(WEEKDAY($B39,2)=7,WEEKDAY($B39,2)=8),0,1) | D39: =B39+8.5/24 | E39: =B39+17.5/24 | F39: =MAX(D39;$C$2) | G39: =MIN(E39;$E$2) | H39: =IF(AND(C39=1;F39<G39),(G39-F39)*1440;0) | I39: =IF(AND(C39=1;MAX(D39;$D$2)<MIN(E39;$E$2)),(MIN(E39;$E$2)-MAX(D39;$D$2))*1440;0)
A40: =$A$2 | B40: =INT($C$2)+38 | C40: =IF(OR(WEEKDAY($B40,2)=7,WEEKDAY($B40,2)=8),0,1) | D40: =B40+8.5/24 | E40: =B40+17.5/24 | F40: =MAX(D40;$C$2) | G40: =MIN(E40;$E$2) | H40: =IF(AND(C40=1;F40<G40),(G40-F40)*1440;0) | I40: =IF(AND(C40=1;MAX(D40;$D$2)<MIN(E40;$E$2)),(MIN(E40;$E$2)-MAX(D40;$D$2))*1440;0)
...

Sheet Карточка
A1: Отчёт «Карточка на исполнение» — сводка по группам за период
A2: Период задан по ДАТЕ ВЫПОЛНЕНИЯ (колонка E детализации)
A4: с | B4: 46266 | C4: по | D4: 46295
A6: Группа | B6: Общее кол-во | C6: В к/срок (1ч) | D6: Нарушения (1ч) | E6: % (1ч) | F6: В к/срок (8ч) | G6: Нарушения (8ч) | H6: % (8ч)
A7: Сеть | B7: =SUMIFS(1;Детализация!$A$2:$A$5;$A7;Детализация!$E$2:$E$5;">="&$B$4;Детализация!$E$2:$E$5;"<="&$D$4) | C7: =B7-D7 | D7: =COUNTIFS(Детализация!$A$2:$A$5;$A7;Детализация!$E$2:$E$5;">="&$B$4;Детализация!$E$2:$E$5;"<="&$D$4;Детализация!$H$2:$H$5;"Да") | E7: =IF(B7=0;"";(B7-D7)/B7*100) | F7: =B7-G7 | G7: =COUNTIFS(Детализация!$A$2:$A$5;$A7;Детализация!$E$2:$E$5;">="&$B$4;Детализация!$E$2:$E$5;"<="&$D$4;Детализация!$I$2:$I$5;"Да") | H7: =IF(B7=0;"";(B7-G7)/B7*100)
A8: Связь | B8: =SUMIFS(1;Детализация!$A$2:$A$5;$A8;Детализация!$E$2:$E$5;">="&$B$4;Детализация!$E$2:$E$5;"<="&$D$4) | C8: =B8-D8 | D8: =COUNTIFS(Детализация!$A$2:$A$5;$A8;Детализация!$E$2:$E$5;">="&$B$4;Детализация!$E$2:$E$5;"<="&$D$4;Детализация!$H$2:$H$5;"Да") | E8: =IF(B8=0;"";(B8-D8)/B8*100) | F8: =B8-G8 | G8: =COUNTIFS(Детализация!$A$2:$A$5;$A8;Детализация!$E$2:$E$5;">="&$B$4;Детализация!$E$2:$E$5;"<="&$D$4;Детализация!$I$2:$I$5;"Да") | H8: =IF(B8=0;"";(B8-G8)/B8*100)
A9: Инфра | B9: =SUMIFS(1;Детализация!$A$2:$A$5;$A9;Детализация!$E$2:$E$5;">="&$B$4;Детализация!$E$2:$E$5;"<="&$D$4) | C9: =B9-D9 | D9: =COUNTIFS(Детализация!$A$2:$A$5;$A9;Детализация!$E$2:$E$5;">="&$B$4;Детализация!$E$2:$E$5;"<="&$D$4;Детализация!$H$2:$H$5;"Да") | E9: =IF(B9=0;"";(B9-D9)/B9*100) | F9: =B9-G9 | G9: =COUNTIFS(Детализация!$A$2:$A$5;$A9;Детализация!$E$2:$E$5;">="&$B$4;Детализация!$E$2:$E$5;"<="&$D$4;Детализация!$I$2:$I$5;"Да") | H9: =IF(B9=0;"";(B9-G9)/B9*100)
A10: ИТОГО | B10: =SUM(B7:B9) | C10: =SUM(C7:C9) | D10: =SUM(D7:D9) | E10: =IF(B10=0;"";(B10-D10)/B10*100) | F10: =SUM(E7:E9) | G10: =SUM(F7:F9) | H10: =IF(B10=0;"";(B10-F10)/B10*100)

Sheet Справка
A1: РАСЧЁТ РАБОЧЕГО ВРЕМЕНИ ЕСУД — КАК ЭТО РАБОТАЕТ
A3: Правило: рабочие дни Пн-Пт, рабочие часы 08:30-17:30 (9 часов).
A4: Выходные (Сб, Вс) и время вне окна НЕ считаются.
A6: ПОЧЕМУ В ВАШЕМ ФАЙЛЕ СЧИТАЛОСЬ НЕПРАВИЛЬНО
A7: 1. Формула 'КОНЕЦ - НАЧАЛО' (или (B2-A2)*24) — это КАЛЕНДАРНОЕ время, а не рабочее.
A8: Она включает ночь, выходные и перерывы.
A9: 2. Нет привязки к окну 08:30-17:30. Если начало в 06:00, формула считает с 06:00, а не с 08:30.
A10: 3. Нет учёта выходных. Пт 18:00 + 1 ч = Сб 19:00, но рабочее время = 0.
A12: КАК СЕЙЧАС СЧИТАЕТ ФАЙЛ
A13: 1. Лист «Детализация» — ваши данные: Группа, Исполнитель, Дата передачи, Дата назначения, Дата выполнения.
A14: 2. Лист «Время» — помощник: для каждой строки детализации раскрывает 40 дней.
A15: 3. Каждый день: берёт пересечение дня с окном 08:30-17:30; если день будний — добавляет минуты, иначе 0.
... A37: - Козлов: 14.09 10:00 → 17.09 17:00. Пн 450 + Вт 540 + Ср 540 + Чт 510 = 2040 мин = 34.0 ч.
