Workbook

Sheet Детализация
A1: Группа | B1: Исполнитель | C1: Дата передачи | D1: Дата назначения | E1: Дата выполнения | F1: Длительность (раб. ч) | G1: Длительность назначения (раб. ч) | H1: Нарушено (1ч) | I1: Нарушено (8ч) | J1: % выполнения (1ч) | K1: % выполнения (8ч)
A2: Сеть | B2: Иванов И. | C2: 46279.292 | D2: 46279.365 | E2: 46280.417 | F2: =SUM(Время!$H$2:$H$41)/60 | G2: =SUM(Время!$I$2:$I$41)/60 | H2: =IF(F2>1;"Да";"Нет") | I2: =IF(G2>8;"Да";"Нет") | J2: =IF(COUNTIF($A$2:$A$5;A2)=0;"";(COUNTIF($A$2:$A$5;A2)-COUNTIFS($A$2:$A$5;A2;$H$2:$H$5;"Да"))/COUNTIF($A$2:$A$5;A2)*100) | K2: =IF(COUNTIF($A$2:$A$5;A2)=0;"";(COUNTIF($A$2:$A$5;A2)-COUNTIFS($A$2:$A$5;A2;$I$2:$I$5;"Да"))/COUNTIF($A$2:$A$5;A2)*100)
A3: Связь | B3: Смирнов С. | C3: 46280.375 | D3: 46280.479 | E3: 46280.625 | F3: =SUM(Время!$H$42:$H$81)/60 | G3: =SUM(Время!$I$42:$I$81)/60 | H3: =IF(F3>1;"Да";"Нет") | I3: =IF(G3>8;"Да";"Нет") | J3: =IF(COUNTIF($A$2:$A$5;A3)=0;"";(COUNTIF($A$2:$A$5;A3)-COUNTIFS($A$2:$A$5;A3;$H$2:$H$5;"Да"))/COUNTIF($A$2:$A$5;A3)*100) | K3: =IF(COUNTIF($A$2:$A$5;A3)=0;"";(COUNTIF($A$2:$A$5;A3)-COUNTIFS($A$2:$A$5;A3;$I$2:$I$5;"Да"))/COUNTIF($A$2:$A$5;A3)*100)
A4: Инфра | B4: Петров П. | C4: 46280.333 | D4: 46280.542 | E4: 46280.396 | F4: =SUM(Время!$H$82:$H$121)/60 | G4: =SUM(Время!$I$82:$I$121)/60 | H4: =IF(F4>1;"Да";"Нет") | I4: =IF(G4>8;"Да";"Нет") | J4: =IF(COUNTIF($A$2:$A$5;A4)=0;"";(COUNTIF($A$2:$A$5;A4)-COUNTIFS($A$2:$A$5;A4;$H$2:$H$5;"Да"))/COUNTIF($A$2:$A$5;A4)*100) | K4: =IF(COUNTIF($A$2:$A$5;A4)=0;"";(COUNTIF($A$2:$A$5;A4)-COUNTIFS($A$2:$A$5;A4;$I$2:$I$5;"Да"))/COUNTIF($A$2:$A$5;A4)*100)
A5: Сеть | B5: Козлов К. | C5: 46279.417 | D5: 46279.438 | E5: 46282.708 | F5: =SUM(Время!$H$122:$H$161)/60 | G5: =SUM(Время!$I$122:$I$161)/60 | H5: =IF(F5>1;"Да";"Нет") | I5: =IF(G5>8;"Да";"Нет") | J5: =IF(COUNTIF($A$2:$A$5;A5)=0;"";(COUNTIF($A$2:$A$5;A5)-COUNTIFS($A$2:$A$5;A5;$H$2:$H$5;"Да"))/COUNTIF($A$2:$A$5;A5)*100) | K5: =IF(COUNTIF($A$2:$A$5;A5)=0;"";(COUNTIF($A$2:$A$5;A5)-COUNTIFS($A$2:$A$5;A5;$I$2:$I$5;"Да"))/COUNTIF($A$2:$A$5;A5)*100)

Sheet Время
A1: Строка | B1: День | C1: Будний | D1: Start дня | E1: End дня | F1: Start overlap | G1: End overlap | H1: Мин (пер→вып) | I1: Мин (назн→вып)
A2: =$A$2 | B2: =INT($C$2)+0 | C2: =IF(OR(WEEKDAY($B2,2)=7,WEEKDAY($B2,2)=8),0,1) | D2: =B2+8.5/24 | E2: =B2+17.5/24 | F2: =MAX(D2;$C$2) | G2: =MIN(E2;$E$2) | H2: =IF(AND(C2=1;F2<G2),(G2-F2)*1440;0) | I2: =IF(AND(C2=1;MAX(D2;$D$2)<MIN(E2;$E$2)),(MIN(E2;$E$2)-MAX(D2;$D$2))*1440;0)
A3: =$A$2 | B3: =INT($C$2)+1 | C3: =IF(OR(WEEKDAY($B3,2)=7,WEEKDAY($B3,2)=8),0,1) | D3: =B3+8.5/24 | E3: =B3+17.5/24 | F3: =MAX(D3;$C$2) | G3: =MIN(E3;$E$2) | H3: =IF(AND(C3=1;F3<G3),(G3-F3)*1440;0) | I3: =IF(AND(C3=1;MAX(D3;$D$2)<MIN(E3;$E$2)),(MIN(E3;$E$2)-MAX(D3;$D$2))*1440;0)
A4: =$A$2 | B4: =INT($C$2)+2 | C4: =IF(OR(WEEKDAY($B4,2)=7,WEEKDAY($B4,2)=8),0,1) | D4: =B4+8.5/24 | E4: =B4+17.5/24 | F4: =MAX(D4;$C$2) | G4: =MIN(E4;$E$2) | H4: =IF(AND(C4=1;F4<G4),(G4-F4)*1440;0) | I4: =IF(AND(C4=1;MAX(D4;$D$2)<MIN(E4;$E$2)),(MIN(E4;$E$2)-MAX(D4;$D$2))*1440;0)
A5: =$A$2 | B5: =INT($C$2)+3 | C5: =IF(OR(WEEKDAY($B5,2)=7,WEEKDAY($B5,2)=8),0,1) | D5: =B5+8.5/24 | E5: =B5+17.5/24 | F5: =MAX(D5;$C$2) | G5: =MIN(E5;$E$2) | H5: =IF(AND(C5=1;F5<G5),(G5-F5)*1440;0) | I5: =IF(AND(C5=1;MAX(D5;$D$2)<MIN(E5;$E$2)),(MIN(E5;$E$2)-MAX(D5;$D$2))*1440;0)
A6: =$A$2 | B6: =INT($C$2)+4 | C6: =IF(OR(WEEKDAY($B6,2)=7,WEEKDAY($B6,2)=8),0,1) | D6: =B6+8.5/24 | E6: =B6+17.5/24 | F6: =MAX(D6;$C$2) | G6: =MIN(E6;$E$2) | H6: =IF(AND(C6=1;F6<G6),(G6-F6)*1440;0) | I6: =IF(AND(C6=1;MAX(D6;$D$2)<MIN(E6;$E$2)),(MIN(E6;$E$2)-MAX(D6;$D$2))*1440;0)
A7: =$A$2 | B7: =INT($C$2)+5 | C7: =IF(OR(WEEKDAY($B7,2)=7,WEEKDAY($B7,2)=8),0,1) | D7: =B7+8.5/24 | E7: =B7+17.5/24 | F7: =MAX(D7;$C$2) | G7: =MIN(E7;$E$2) | H7: =IF(AND(C7=1;F7<G7),(G7-F7)*1440;0) | I7: =IF(AND(C7=1;MAX(D7;$D$2)<MIN(E7;$E$2)),(MIN(E7;$E$2)-MAX(D7;$D$2))*1440;0)
A8: =$A$2 | B8: =INT($C$2)+6 | C8: =IF(OR(WEEKDAY($B8,2)=7,WEEKDAY($B8,2)=8),0,1) | D8: =B8+8.5/24 | E8: =B8+17.5/24 | F8: =MAX(D8;$C$2) | G8: =MIN(E8;$E$2) | H8: =IF(AND(C8=1;F8<G8),(G8-F8)*1440;0) | I8: =IF(AND(C8=1;MAX(D8;$D$2)<MIN(E8;$E$2)),(MIN(E8;$E$2)-MAX(D8;$D$2))*1440;0)
A9: =$A$2 | B9: =INT($C$2)+7 | C9: =IF(OR(WEEKDAY($B9,2)=7,WEEKDAY($B9,2)=8),0,1) | D9: =B9+8.5/24 | E9: =B9+17.5/24 | F9: =MAX(D9;$C$2) | G9: =MIN(E9;$E$2) | H9: =IF(AND(C9=1;F9<G9),(G9-F9)*1440;0) | I9: =IF(AND(C9=1;MAX(D9;$D$2)<MIN(E9;$E$2)),(MIN(E9;$E$2)-MAX(D9;$D$2))*1440;0)
A10: =$A$2 | B10: =INT($C$2)+8 | C10: =IF(OR(WEEKDAY($B10,2)=7,WEEKDAY($B10,2)=8),0,1) | D10: =B10+8.5/24 | E10: =B10+17.5/24 | F10: =MAX(D10;$C$2) | G10: =MIN(E10;$E$2) | H10: =IF(AND(C10=1;F10<G10),(G10-F10)*1440;0) | I10: =IF(AND(C10=1;MAX(D10;$D$2)<MIN(E10;$E$2)),(MIN(E10;$E$2)-MAX(D10;$D$2))*1440;0)
A11: =$A$2 | B11: =INT($C$2)+9 | C11: =IF(OR(WEEKDAY($B11,2)=7,WEEKDAY($B11,2)=8),0,1) | D11: =B11+8.5/24 | E11: =B11+17.5/24 | F11: =MAX(D11;$C$2) | G11: =MIN(E11;$E$2) | H11: =IF(AND(C11=1;F11<G11),(G11-F11)*1440;0) | I11: =IF(AND(C11=1;MAX(D11;$D$2)<MIN(E11;$E$2)),(MIN(E11;$E$2)-MAX(D11;$D$2))*1440;0)
A12: =$A$2 | B12: =INT($C$2)+10 | C12: =IF(OR(WEEKDAY($B12,2)=7,WEEKDAY($B12,2)=8),0,1) | D12: =B12+8.5/24 | E12: =B12+17.5/24 | F12: =MAX(D12;$C$2) | G12: =MIN(E12;$E$2) | H12: =IF(AND(C12=1;F12<G12),(G12-F12)*1440;0) | I12: =IF(AND(C12=1;MAX(D12;$D$2)<MIN(E12;$E$2)),(MIN(E12;$E$2)-MAX(D12;$D$2))*1440;0)
A13: =$A$2 | B13: =INT($C$2)+11 | C13: =IF(OR(WEEKDAY($B13,2)=7,WEEKDAY($B13,2)=8),0,1) | D13: =B13+8.5/24 | E13: =B13+17.5/24 | F13: =MAX(D13;$C$2) | G13: =MIN(E13;$E$2) | H13: =IF(AND(C13=1;F13<G13),(G13-F13)*1440;0) | I13: =IF(AND(C13=1;MAX(D13;$D$2)<MIN(E13;$E$2)),(MIN(E13;$E$2)-MAX(D13;$D$2))*1440;0)
A14: =$A$2 | B14: =INT($C$2)+12 | C14: =IF(OR(WEEKDAY($B14,2)=7,WEEKDAY($B14,2)=8),0,1) | D14: =B14+8.5/24 | E14: =B14+17.5/24 | F14: =MAX(D14;$C$2) | G14: =MIN(E14;$E$2) | H14: =IF(AND(C14=1;F14<G14),(G14-F14)*1440;0) | I14: =IF(AND(C14=1;MAX(D14;$D$2)<MIN(E14;$E$2)),(MIN(E14;$E$2)-MAX(D14;$D$2))*1440;0)
A15: =$A$2 | B15: =INT($C$2)+13 | C15: =IF(OR(WEEKDAY($B15,2)=7,WEEKDAY($B15,2)=8),0,1) | D15: =B15+8.5/24 | E15: =B15+17.5/24 | F15: =MAX(D15;$C$2) | G15: =MIN(E15;$E$2) | H15: =IF(AND(C15=1;F15<G15),(G15-F15)*1440;0) | I15: =IF(AND(C15=1;MAX(D15;$D$2)<MIN(E15;$E$2)),(MIN(E15;$E$2)-MAX(D15;$D$2))*1440;0)
A16: =$A$2 | B16: =INT($C$2)+14 | C16: =IF(OR(WEEKDAY($B16,2)=7,WEEKDAY($B16,2)=8),0,1) | D16: =B16+8.5/24 | E16: =B16+17.5/24 | F16: =MAX(D16;$C$2) | G16: =MIN(E16;$E$2) | H16: =IF(AND(C16=1;F16<G16),(G16-F16)*1440;0) | I16: =IF(AND(C16=1;MAX(D16;$D$2)<MIN(E16;$E$2)),(MIN(E16;$E$2)-MAX(D16;$D$2))*1440;0)
A17: =$A$2 | B17: =INT($C$2)+15 | C17: =IF(OR(WEEKDAY($B17,2)=7,WEEKDAY($B17,2)=8),0,1) | D17: =B17+8.5/24 | E17: =B17+17.5/24 | F17: =MAX(D17;$C$2) | G17: =MIN(E17;$E$2) | H17: =IF(AND(C17=1;F17<G17),(G17-F17)*1440;0) | I17: =IF(AND(C17=1;MAX(D17;$D$2)<MIN(E17;$E$2)),(MIN(E17;$E$2)-MAX(D17;$D$2))*1440;0)
A18: =$A$2 | B18: =INT($C$2)+16 | C18: =IF(OR(WEEKDAY($B18,2)=7,WEEKDAY($B18,2)=8),0,1) | D18: =B18+8.5/24 | E18: =B18+17.5/24 | F18: =MAX(D18;$C$2) | G18: =MIN(E18;$E$2) | H18: =IF(AND(C18=1;F18<G18),(G18-F18)*1440;0) | I18: =IF(AND(C18=1;MAX(D18;$D$2)<MIN(E18;$E$2)),(MIN(E18;$E$2)-MAX(D18;$D$2))*1440;0)
A19: =$A$2 | B19: =INT($C$2)+17 | C19: =IF(OR(WEEKDAY($B19,2)=7,WEEKDAY($B19,2)=8),0,1) | D19: =B19+8.5/24 | E19: =B19+17.5/24 | F19: =MAX(D19;$C$2) | G19: =MIN(E19;$E$2) | H19: =IF(AND(C19=1;F19<G19),(G19-F19)*1440;0) | I19: =IF(AND(C19=1;MAX(D19;$D$2)<MIN(E19;$E$2)),(MIN(E19;$E$2)-MAX(D19;$D$2))*1440;0)
A20: =$A$2 | B20: =INT($C$2)+18 | C20: =IF(OR(WEEKDAY($B20,2)=7,WEEKDAY($B20,2)=8),0,1) | D20: =B20+8.5/24 | E20: =B20+17.5/24 | F20: =MAX(D20;$C$2) | G20: =MIN(E20;$E$2) | H20: =IF(AND(C20=1;F20<G20),(G20-F20)*1440;0) | I20: =IF(AND(C20=1;MAX(D20;$D$2)<MIN(E20;$E$2)),(MIN(E20;$E$2)-MAX(D20;$D$2))*1440;0)
A21: =$A$2 | B21: =INT($C$2)+19 | C21: =IF(OR(WEEKDAY($B21,2)=7,WEEKDAY($B21,2)=8),0,1) | D21: =B21+8.5/24 | E21: =B21+17.5/24 | F21: =MAX(D21;$C$2) | G21: =MIN(E21;$E$2) | H21: =IF(AND(C21=1;F21<G21),(G21-F21)*1440;0) | I21: =IF(AND(C21=1;MAX(D21;$D$2)<MIN(E21;$E$2)),(MIN(E21;$E$2)-MAX(D21;$D$2))*1440;0)
A22: =$A$2 | B22: =INT($C$2)+20 | C22: =IF(OR(WEEKDAY($B22,2)=7,WEEKDAY($B22,2)=8),0,1) | D22: =B22+8.5/24 | E22: =B22+17.5/24 | F22: =MAX(D22;$C$2) | G22: =MIN(E22;$E$2) | H22: =IF(AND(C22=1;F22<G22),(G22-F22)*1440;0) | I22: =IF(AND(C22=1;MAX(D22;$D$2)<MIN(E22;$E$2)),(MIN(E22;$E$2)-MAX(D22;$D$2))*1440;0)
A23: =$A$2 | B23: =INT($C$2)+21 | C23: =IF(OR(WEEKDAY($B23,2)=7,WEEKDAY($B23,2)=8),0,1) | D23: =B23+8.5/24 | E23: =B23+17.5/24 | F23: =MAX(D23;$C$2) | G23: =MIN(E23;$E$2) | H23: =IF(AND(C23=1;F23<G23),(G23-F23)*1440;0) | I23: =IF(AND(C23=1;MAX(D23;$D$2)<MIN(E23;$E$2)),(MIN(E23;$E$2)-MAX(D23;$D$2))*1440;0)
A24: =$A$2 | B24: =INT($C$2)+22 | C24: =IF(OR(WEEKDAY($B24,2)=7,WEEKDAY($B24,2)=8),0,1) | D24: =B24+8.5/24 | E24: =B24+17.5/24 | F24: =MAX(D24;$C$2) | G24: =MIN(E24;$E$2) | H24: =IF(AND(C24=1;F24<G24),(G24-F24)*1440;0) | I24: =IF(AND(C24=1;MAX(D24;$D$2)<MIN(E24;$E$2)),(MIN(E24;$E$2)-MAX(D24;$D$2))*1440;0)
A25: =$A$2 | B25: =INT($C$2)+23 | C25: =IF(OR(WEEKDAY($B25,2)=7,WEEKDAY($B25,2)=8),0,1) | D25: =B25+8.5/24 | E25: =B25+17.5/24 | F25: =MAX(D25;$C$2) | G25: =MIN(E25;$E$2) | H25: =IF(AND(C25=1;F25<G25),(G25-F25)*1440;0) | I25: =IF(AND(C25=1;MAX(D25;$D$2)<MIN(E25;$E$2)),(MIN(E25;$E$2)-MAX(D25;$D$2))*1440;0)
A26: =$A$2 | B26: =INT($C$2)+24 | C26: =IF(OR(WEEKDAY($B26,2)=7,WEEKDAY($B26,2)=8),0,1) | D26: =B26+8.5/24 | E26: =B26+17.5/24 | F26: =MAX(D26;$C$2) | G26: =MIN(E26;$E$2) | H26: =IF(AND(C26=1;F26<G26),(G26-F26)*1440;0) | I26: =IF(AND(C26=1;MAX(D26;$D$2)<MIN(E26;$E$2)),(MIN(E26;$E$2)-MAX(D26;$D$2))*1440;0)
A27: =$A$2 | B27: =INT($C$2)+25 | C27: =IF(OR(WEEKDAY($B27,2)=7,WEEKDAY($B27,2)=8),0,1) | D27: =B27+8.5/24 | E27: =B27+17.5/24 | F27: =MAX(D27;$C$2) | G27: =MIN(E27;$E$2) | H27: =IF(AND(C27=1;F27<G27),(G27-F27)*1440;0) | I27: =IF(AND(C27=1;MAX(D27;$D$2)<MIN(E27;$E$2)),(MIN(E27;$E$2)-MAX(D27;$D$2))*1440;0)
A28: =$A$2 | B28: =INT($C$2)+26 | C28: =IF(OR(WEEKDAY($B28,2)=7,WEEKDAY($B28,2)=8),0,1) | D28: =B28+8.5/24 | E28: =B28+17.5/24 | F28: =MAX(D28;$C$2) | G28: =MIN(E28;$E$2) | H28: =IF(AND(C28=1;F28<G28),(G28-F28)*1440;0) | I28: =IF(AND(C28=1;MAX(D28;$D$2)<MIN(E28;$E$2)),(MIN(E28;$E$2)-MAX(D28;$D$2))*1440;0)
A29: =$A$2 | B29: =INT($C$2)+27 | C29: =IF(OR(WEEKDAY($B29,2)=7,WEEKDAY($B29,2)=8),0,1) | D29: =B29+8.5/24 | E29: =B29+17.5/24 | F29: =MAX(D29;$C$2) | G29: =MIN(E29;$E$2) | H29: =IF(AND(C29=1;F29<G29),(G29-F29)*1440;0) | I29: =IF(AND(C29=1;MAX(D29;$D$2)<MIN(E29;$E$2)),(MIN(E29;$E$2)-MAX(D29;$D$2))*1440;0)
A30: =$A$2 | B30: =INT($C$2)+28 | C30: =IF(OR(WEEKDAY($B30,2)=7,WEEKDAY($B30,2)=8),0,1) | D30: =B30+8.5/24 | E30: =B30+17.5/24 | F30: =MAX(D30;$C$2) | G30: =MIN(E30;$E$2) | H30: =IF(AND(C30=1;F30<G30),(G30-F30)*1440;0) | I30: =IF(AND(C30=1;MAX(D30;$D$2)<MIN(E30;$E$2)),(MIN(E30;$E$2)-MAX(D30;$D$2))*1440;0)
A31: =$A$2 | B31: =INT($C$2)+29 | C31: =IF(OR(WEEKDAY($B31,2)=7,WEEKDAY($B31,2)=8),0,1) | D31: =B31+8.5/24 | E31: =B31+17.5/24 | F31: =MAX(D31;$C$2) | G31: =MIN(E31;$E$2) | H31: =IF(AND(C31=1;F31<G31),(G31-F31)*1440;0) | I31: =IF(AND(C31=1;MAX(D31;$D$2)<MIN(E31;$E$2)),(MIN(E31;$E$2)-MAX(D31;$D$2))*1440;0)
A32: =$A$2 | B32: =INT($C$2)+30 | C32: =IF(OR(WEEKDAY($B32,2)=7,WEEKDAY($B32,2)=8),0,1) | D32: =B32+8.5/24 | E32: =B32+17.5/24 | F32: =MAX(D32;$C$2) | G32: =MIN(E32;$E$2) | H32: =IF(AND(C32=1;F32<G32),(G32-F32)*1440;0) | I32: =IF(AND(C32=1;MAX(D32;$D$2)<MIN(E32;$E$2)),(MIN(E32;$E$2)-MAX(D32;$D$2))*1440;0)
A33: =$A$2 | B33: =INT($C$2)+31 | C33: =IF(OR(WEEKDAY($B33,2)=7,WEEKDAY($B33,2)=8),0,1) | D33: =B33+8.5/24 | E33: =B33+17.5/24 | F33: =MAX(D33;$C$2) | G33: =MIN(E33;$E$2) | H33: =IF(AND(C33=1;F33<G33),(G33-F33)*1440;0) | I33: =IF(AND(C33=1;MAX(D33;$D$2)<MIN(E33;$E$2)),(MIN(E33;$E$2)-MAX(D33;$D$2))*1440;0)
A34: =$A$2 | B34: =INT($C$2)+32 | C34: =IF(OR(WEEKDAY($B34,2)=7,WEEKDAY($B34,2)=8),0,1) | D34: =B34+8.5/24 | E34: =B34+17.5/24 | F34: =MAX(D34;$C$2) | G34: =MIN(E34;$E$2) | H34: =IF(AND(C34=1;F34<G34),(G34-F34)*1440;0) | I34: =IF(AND(C34=1;MAX(D34;$D$2)<MIN(E34;$E$2)),(MIN(E34;$E$2)-MAX(D34;$D$2))*1440;0)
A35: =$A$2 | B35: =INT($C$2)+33 | C35: =IF(OR(WEEKDAY($B35,2)=7,WEEKDAY($B35,2)=8),0,1) | D35: =B35+8.5/24 | E35: =B35+17.5/24 | F35: =MAX(D35;$C$2) | G35: =MIN(E35;$E$2) | H35: =IF(AND(C35=1;F35<G35),(G35-F35)*1440;0) | I35: =IF(AND(C35=1;MAX(D35;$D$2)<MIN(E35;$E$2)),(MIN(E35;$E$2)-MAX(D35;$D$2))*1440;0)
A36: =$A$2 | B36: =INT($C$2)+34 | C36: =IF(OR(WEEKDAY($B36,2)=7,WEEKDAY($B36,2)=8),0,1) | D36: =B36+8.5/24 | E36: =B36+17.5/24 | F36: =MAX(D36;$C$2) | G36: =MIN(E36;$E$2) | H36: =IF(AND(C36=1;F36<G36),(G36-F36)*1440;0) | I36: =IF(AND(C36=1;MAX(D36;$D$2)<MIN(E36;$E$2)),(MIN(E36;$E$2)-MAX(D36;$D$2))*1440;0)
A37: =$A$2 | B37: =INT($C$2)+35 | C37: =IF(OR(WEEKDAY($B37,2)=7,WEEKDAY($B37,2)=8),0,1) | D37: =B37+8.5/24 | E37: =B37+17.5/24 | F37: =MAX(D37;$C$2) | G37: =MIN(E37;$E$2) | H37: =IF(AND(C37=1;F37<G37),(G37-F37)*1440;0) | I37: =IF(AND(C37=1;MAX(D37;$D$2)<MIN(E37;$E$2)),(MIN(E37;$E$2)-MAX(D37;$D$2))*1440;0)
A38: =$A$2 | B38: =INT($C$2)+36 | C38: =IF(OR(WEEKDAY($B38,2)=7,WEEKDAY($B38,2)=8),0,1) | D38: =B38+8.5/24 | E38: =B38+17.5/24 | F38: =MAX(D38;$C$2) | G38: =MIN(E38;$E$2) | H38: =IF(AND(C38=1;F38<G38),(G38-F38)*1440;0) | I38: =IF(AND(C38=1;MAX(D38;$D$2)<MIN(E38;$E$2)),(MIN(E38;$E$2)-MAX(D38;$D$2))*1440;0)
A39: =$A$2 | B39: =INT($C$2)+37 | C39: =IF(OR(WEEKDAY($B39,2)=7,WEEKDAY($B39,2)=8),0,1) | D39: =B39+8.5/24 | E39: =B39+17.5/24 | F39: =MAX(D39;$C$2) | G39: =MIN(E39;$E$2) | H39: =IF(AND(C39=1;F39<G39),(G39-F39)*1440;0) | I39: =IF(AND(C39=1;MAX(D39;$D$2)<MIN(E39;$E$2)),(MIN(E39;$E$2)-MAX(D39;$D$2))*1440;0)
A40: =$A$2 | B40: =INT($C$2)+38 | C40: =IF(OR(WEEKDAY($B40,2)=7,WEEKDAY($B40,2)=8),0,1) | D40: =B40+8.5/24 | E40: =B40+17.5/24 | F40: =MAX(D40;$C$2) | G40: =MIN(E40;$E$2) | H40: =IF(AND(C40=1;F40<G40),(G40-F40)*1440;0) | I40: =IF(AND(C40=1;MAX(D40;$D$2)<MIN(E40;$E$2)),(MIN(E40;$E$2)-MAX(D40;$D$2))*1440;0)
A41: =$A$2 | B41: =INT($C$2)+39 | C41: =IF(OR(WEEKDAY($B41,2)=7,WEEKDAY($B41,2)=8),0,1) | D41: =B41+8.5/24 | E41: =B41+17.5/24 | F41: =MAX(D41;$C$2) | G41: =MIN(E41;$E$2) | H41: =IF(AND(C41=1;F41<G41),(G41-F41)*1440;0) | I41: =IF(AND(C41=1;MAX(D41;$D$2)<MIN(E41;$E$2)),(MIN(E41;$E$2)-MAX(D41;$D$2))*1440;0)
A42: =$A$3 | B42: =INT($C$3)+0 | C42: =IF(OR(WEEKDAY($B42,2)=7,WEEKDAY($B42,2)=8),0,1) | D42: =B42+8.5/24 | E42: =B42+17.5/24 | F42: =MAX(D42;$C$3) | G42: =MIN(E42;$E$3) | H42: =IF(AND(C42=1;F42<G42),(G42-F42)*1440;0) | I42: =IF(AND(C42=1;MAX(D42;$D$3)<MIN(E42;$E$3)),(MIN(E42;$E$3)-MAX(D42;$D$3))*1440;0)
A43: =$A$3 | B43: =INT($C$3)+1 | C43: =IF(OR(WEEKDAY($B43,2)=7,WEEKDAY($B43,2)=8),0,1) | D43: =B43+8.5/24 | E43: =B43+17.5/24 | F43: =MAX(D43;$C$3) | G43: =MIN(E43;$E$3) | H43: =IF(AND(C43=1;F43<G43),(G43-F43)*1440;0) | I43: =IF(AND(C43=1;MAX(D43;$D$3)<MIN(E43;$E$3)),(MIN(E43;$E$3)-MAX(D43;$D$3))*1440;0)
A44: =$A$3 | B44: =INT($C$3)+2 | C44: =IF(OR(WEEKDAY($B44,2)=7,WEEKDAY($B44,2)=8),0,1) | D44: =B44+8.5/24 | E44: =B44+17.5/24 | F44: =MAX(D44;$C$3) | G44: =MIN(E44;$E$3) | H44: =IF(AND(C44=1;F44<G44),(G44-F44)*1440;0) | I44: =IF(AND(C44=1;MAX(D44;$D$3)<MIN(E44;$E$3)),(MIN(E44;$E$3)-MAX(D44;$D$3))*1440;0)
A45: =$A$3 | B45: =INT($C$3)+3 | C45: =IF(OR(WEEKDAY($B45,2)=7,WEEKDAY($B45,2)=8),0,1) | D45: =B45+8.5/24 | E45: =B45+17.5/24 | F45: =MAX(D45;$C$3) | G45: =MIN(E45;$E$3) | H45: =IF(AND(C45=1;F45<G45),(G45-F45)*1440;0) | I45: =IF(AND(C45=1;MAX(D45;$D$3)<MIN(E45;$E$3)),(MIN(E45;$E$3)-MAX(D45;$D$3))*1440;0)
A46: =$A$3 | B46: =INT($C$3)+4 | C46: =IF(OR(WEEKDAY($B46,2)=7,WEEKDAY($B46,2)=8),0,1) | D46: =B46+8.5/24 | E46: =B46+17.5/24 | F46: =MAX(D46;$C$3) | G46: =MIN(E46;$E$3) | H46: =IF(AND(C46=1;F46<G46),(G46-F46)*1440;0) | I46: =IF(AND(C46=1;MAX(D46;$D$3)<MIN(E46;$E$3)),(MIN(E46;$E$3)-MAX(D46;$D$3))*1440;0)
A47: =$A$3 | B47: =INT($C$3)+5 | C47: =IF(OR(WEEKDAY($B47,2)=7,WEEKDAY($B47,2)=8),0,1) | D47: =B47+8.5/24 | E47: =B47+17.5/24 | F47: =MAX(D47;$C$3) | G47: =MIN(E47;$E$3) | H47: =IF(AND(C47=1;F47<G47),(G47-F47)*1440;0) | I47: =IF(AND(C47=1;MAX(D47;$D$3)<MIN(E47;$E$3)),(MIN(E47;$E$3)-MAX(D47;$D$3))*1440;0)
A48: =$A$3 | B48: =INT($C$3)+6 | C48: =IF(OR(WEEKDAY($B48,2)=7,WEEKDAY($B48,2)=8),0,1) | D48: =B48+8.5/24 | E48: =B48+17.5/24 | F48: =MAX(D48;$C$3) | G48: =MIN(E48;$E$3) | H48: =IF(AND(C48=1;F48<G48),(G48-F48)*1440;0) | I48: =IF(AND(C48=1;MAX(D48;$D$3)<MIN(E48;$E$3)),(MIN(E48;$E$3)-MAX(D48;$D$3))*1440;0)
A49: =$A$3 | B49: =INT($C$3)+7 | C49: =IF(OR(WEEKDAY($B49,2)=7,WEEKDAY($B49,2)=8),0,1) | D49: =B49+8.5/24 | E49: =B49+17.5/24 | F49: =MAX(D49;$C$3) | G49: =MIN(E49;$E$3) | H49: =IF(AND(C49=1;F49<G49),(G49-F49)*1440;0) | I49: =IF(AND(C49=1;MAX(D49;$D$3)<MIN(E49;$E$3)),(MIN(E49;$E$3)-MAX(D49;$D$3))*1440;0)
A50: =$A$3 | B50: =INT($C$3)+8 | C50: =IF(OR(WEEKDAY($B50,2)=7,WEEKDAY($B50,2)=8),0,1) | D50: =B50+8.5/24 | E50: =B50+17.5/24 | F50: =MAX(D50;$C$3) | G50: =MIN(E50;$E$3) | H50: =IF(AND(C50=1;F50<G50),(G50-F50)*1440;0) | I50: =IF(AND(C50=1;MAX(D50;$D$3)<MIN(E50;$E$3)),(MIN(E50;$E$3)-MAX(D50;$D$3))*1440;0)
A51: =$A$3 | B51: =INT($C$3)+9 | C51: =IF(OR(WEEKDAY($B51,2)=7,WEEKDAY($B51,2)=8),0,1) | D51: =B51+8.5/24 | E51: =B51+17.5/24 | F51: =MAX(D51;$C$3) | G51: =MIN(E51;$E$3) | H51: =IF(AND(C51=1;F51<G51),(G51-F51)*1440;0) | I51: =IF(AND(C51=1;MAX(D51;$D$3)<MIN(E51;$E$3)),(MIN(E51;$E$3)-MAX(D51;$D$3))*1440;0)
A52: =$A$3 | B52: =INT($C$3)+10 | C52: =IF(OR(WEEKDAY($B52,2)=7,WEEKDAY($B52,2)=8),0,1) | D52: =B52+8.5/24 | E52: =B52+17.5/24 | F52: =MAX(D52;$C$3) | G52: =MIN(E52;$E$3) | H52: =IF(AND(C52=1;F52<G52),(G52-F52)*1440;0) | I52: =IF(AND(C52=1;MAX(D52;$D$3)<MIN(E52;$E$3)),(MIN(E52;$E$3)-MAX(D52;$D$3))*1440;0)
A53: =$A$3 | B53: =INT($C$3)+11 | C53: =IF(OR(WEEKDAY($B53,2)=7,WEEKDAY($B53,2)=8),0,1) | D53: =B53+8.5/24 | E53: =B53+17.5/24 | F53: =MAX(D53;$C$3) | G53: =MIN(E53;$E$3) | H53: =IF(AND(C53=1;F53<G53),(G53-F53)*1440;0) | I53: =IF(AND(C53=1;MAX(D53;$D$3)<MIN(E53;$E$3)),(MIN(E53;$E$3)-MAX(D53;$D$3))*1440;0)
A54: =$A$3 | B54: =INT($C$3)+12 | C54: =IF(OR(WEEKDAY($B54,2)=7,WEEKDAY($B54,2)=8),0,1) | D54: =B54+8.5/24 | E54: =B54+17.5/24 | F54: =MAX(D54;$C$3) | G54: =MIN(E54;$E$3) | H54: =IF(AND(C54=1;F54<G54),(G54-F54)*1440;0) | I54: =IF(AND(C54=1;MAX(D54;$D$3)<MIN(E54;$E$3)),(MIN(E54;$E$3)-MAX(D54;$D$3))*1440;0)
A55: =$A$3 | B55: =INT($C$3)+13 | C55: =IF(OR(WEEKDAY($B55,2)=7,WEEKDAY($B55,2)=8),0,1) | D55: =B55+8.5/24 | E55: =B55+17.5/24 | F55: =MAX(D55;$C$3) | G55: =MIN(E55;$E$3) | H55: =IF(AND(C55=1;F55<G55),(G55-F55)*1440;0) | I55: =IF(AND(C55=1;MAX(D55;$D$3)<MIN(E55;$E$3)),(MIN(E55;$E$3)-MAX(D55;$D$3))*1440;0)
A56: =$A$3 | B56: =INT($C$3)+14 | C56: =IF(OR(WEEKDAY($B56,2)=7,WEEKDAY($B56,2)=8),0,1) | D56: =B56+8.5/24 | E56: =B56+17.5/24 | F56: =MAX(D56;$C$3) | G56: =MIN(E56;$E$3) | H56: =IF(AND(C56=1;F56<G56),(G56-F56)*1440;0) | I56: =IF(AND(C56=1;MAX(D56;$D$3)<MIN(E56;$E$3)),(MIN(E56;$E$3)-MAX(D56;$D$3))*1440;0)
A57: =$A$3 | B57: =INT($C$3)+15 | C57: =IF(OR(WEEKDAY($B57,2)=7,WEEKDAY($B57,2)=8),0,1) | D57: =B57+8.5/24 | E57: =B57+17.5/24 | F57: =MAX(D57;$C$3) | G57: =MIN(E57;$E$3) | H57: =IF(AND(C57=1;F57<G57),(G57-F57)*1440;0) | I57: =IF(AND(C57=1;MAX(D57;$D$3)<MIN(E57;$E$3)),(MIN(E57;$E$3)-MAX(D57;$D$3))*1440;0)
A58: =$A$3 | B58: =INT($C$3)+16 | C58: =IF(OR(WEEKDAY($B58,2)=7,WEEKDAY($B58,2)=8),0,1) | D58: =B58+8.5/24 | E58: =B58+17.5/24 | F58: =MAX(D58;$C$3) | G58: =MIN(E58;$E$3) | H58: =IF(AND(C58=1;F58<G58),(G58-F58)*1440;0) | I58: =IF(AND(C58=1;MAX(D58;$D$3)<MIN(E58;$E$3)),(MIN(E58;$E$3)-MAX(D58;$D$3))*1440;0)
A59: =$A$3 | B59: =INT($C$3)+17 | C59: =IF(OR(WEEKDAY($B59,2)=7,WEEKDAY($B59,2)=8),0,1) | D59: =B59+8.5/24 | E59: =B59+17.5/24 | F59: =MAX(D59;$C$3) | G59: =MIN(E59;$E$3) | H59: =IF(AND(C59=1;F59<G59),(G59-F59)*1440;0) | I59: =IF(AND(C59=1;MAX(D59;$D$3)<MIN(E59;$E$3)),(MIN(E59;$E$3)-MAX(D59;$D$3))*1440;0)
A60: =$A$3 | B60: =INT($C$3)+18 | C60: =IF(OR(WEEKDAY($B60,2)=7,WEEKDAY($B60,2)=8),0,1) | D60: =B60+8.5/24 | E60: =B60+17.5/24 | F60: =MAX(D60;$C$3) | G60: =MIN(E60;$E$3) | H60: =IF(AND(C60=1;F60<G60),(G60-F60)*1440;0) | I60: =IF(AND(C60=1;MAX(D60;$D$3)<MIN(E60;$E$3)),(MIN(E60;$E$3)-MAX(D60;$D$3))*1440;0)
A61: =$A$3 | B61: =INT($C$3)+19 | C61: =IF(OR(WEEKDAY($B61,2)=7,WEEKDAY($B61,2)=8),0,1) | D61: =B61+8.5/24 | E61: =B61+17.5/24 | F61: =MAX(D61;$C$3) | G61: =MIN(E61;$E$3) | H61: =IF(AND(C61=1;F61<G61),(G61-F61)*1440;0) | I61: =IF(AND(C61=1;MAX(D61;$D$3)<MIN(E61;$E$3)),(MIN(E61;$E$3)-MAX(D61;$D$3))*1440;0)
A62: =$A$3 | B62: =INT($C$3)+20 | C62: =IF(OR(WEEKDAY($B62,2)=7,WEEKDAY($B62,2)=8),0,1) | D62: =B62+8.5/24 | E62: =B62+17.5/24 | F62: =MAX(D62;$C$3) | G62: =MIN(E62;$E$3) | H62: =IF(AND(C62=1;F62<G62),(G62-F62)*1440;0) | I62: =IF(AND(C62=1;MAX(D62;$D$3)<MIN(E62;$E$3)),(MIN(E62;$E$3)-MAX(D62;$D$3))*1440;0)
A63: =$A$3 | B63: =INT($C$3)+21 | C63: =IF(OR(WEEKDAY($B63,2)=7,WEEKDAY($B63,2)=8),0,1) | D63: =B63+8.5/24 | E63: =B63+17.5/24 | F63: =MAX(D63;$C$3) | G63: =MIN(E63;$E$3) | H63: =IF(AND(C63=1;F63<G63),(G63-F63)*1440;0) | I63: =IF(AND(C63=1;MAX(D63;$D$3)<MIN(E63;$E$3)),(MIN(E63;$E$3)-MAX(D63;$D$3))*1440;0)
A64: =$A$3 | B64: =INT($C$3)+22 | C64: =IF(OR(WEEKDAY($B64,2)=7,WEEKDAY($B64,2)=8),0,1) | D64: =B64+8.5/24 | E64: =B64+17.5/24 | F64: =MAX(D64;$C$3) | G64: =MIN(E64;$E$3) | H64: =IF(AND(C64=1;F64<G64),(G64-F64)*1440;0) | I64: =IF(AND(C64=1;MAX(D64;$D$3)<MIN(E64;$E$3)),(MIN(E64;$E$3)-MAX(D64;$D$3))*1440;0)
A65: =$A$3 | B65: =INT($C$3)+23 | C65: =IF(OR(WEEKDAY($B65,2)=7,WEEKDAY($B65,2)=8),0,1) | D65: =B65+8.5/24 | E65: =B65+17.5/24 | F65: =MAX(D65;$C$3) | G65: =MIN(E65;$E$3) | H65: =IF(AND(C65=1;F65<G65),(G65-F65)*1440;0) | I65: =IF(AND(C65=1;MAX(D65;$D$3)<MIN(E65;$E$3)),(MIN(E65;$E$3)-MAX(D65;$D$3))*1440;0)
A66: =$A$3 | B66: =INT($C$3)+24 | C66: =IF(OR(WEEKDAY($B66,2)=7,WEEKDAY($B66,2)=8),0,1) | D66: =B66+8.5/24 | E66: =B66+17.5/24 | F66: =MAX(D66;$C$3) | G66: =MIN(E66;$E$3) | H66: =IF(AND(C66=1;F66<G66),(G66-F66)*1440;0) | I66: =IF(AND(C66=1;MAX(D66;$D$3)<MIN(E66;$E$3)),(MIN(E66;$E$3)-MAX(D66;$D$3))*1440;0)
A67: =$A$3 | B67: =INT($C$3)+25 | C67: =IF(OR(WEEKDAY($B67,2)=7,WEEKDAY($B67,2)=8),0,1) | D67: =B67+8.5/24 | E67: =B67+17.5/24 | F67: =MAX(D67;$C$3) | G67: =MIN(E67;$E$3) | H67: =IF(AND(C67=1;F67<G67),(G67-F67)*1440;0) | I67: =IF(AND(C67=1;MAX(D67;$D$3)<MIN(E67;$E$3)),(MIN(E67;$E$3)-MAX(D67;$D$3))*1440;0)
A68: =$A$3 | B68: =INT($C$3)+26 | C68: =IF(OR(WEEKDAY($B68,2)=7,WEEKDAY($B68,2)=8),0,1) | D68: =B68+8.5/24 | E68: =B68+17.5/24 | F68: =MAX(D68;$C$3) | G68: =MIN(E68;$E$3) | H68: =IF(AND(C68=1;F68<G68),(G68-F68)*1440;0) | I68: =IF(AND(C68=1;MAX(D68;$D$3)<MIN(E68;$E$3)),(MIN(E68;$E$3)-MAX(D68;$D$3))*1440;0)
A69: =$A$3 | B69: =INT($C$3)+27 | C69: =IF(OR(WEEKDAY($B69,2)=7,WEEKDAY($B69,2)=8),0,1) | D69: =B69+8.5/24 | E69: =B69+17.5/24 | F69: =MAX(D69;$C$3) | G69: =MIN(E69;$E$3) | H69: =IF(AND(C69=1;F69<G69),(G69-F69)*1440;0) | I69: =IF(AND(C69=1;MAX(D69;$D$3)<MIN(E69;$E$3)),(MIN(E69;$E$3)-MAX(D69;$D$3))*1440;0)
A70: =$A$3 | B70: =INT($C$3)+28 | C70: =IF(OR(WEEKDAY($B70,2)=7,WEEKDAY($B70,2)=8),0,1) | D70: =B70+8.5/24 | E70: =B70+17.5/24 | F70: =MAX(D70;$C$3) | G70: =MIN(E70;$E$3) | H70: =IF(AND(C70=1;F70<G70),(G70-F70)*1440;0) | I70: =IF(AND(C70=1;MAX(D70;$D$3)<MIN(E70;$E$3)),(MIN(E70;$E$3)-MAX(D70;$D$3))*1440;0)
A71: =$A$3 | B71: =INT($C$3)+29 | C71: =IF(OR(WEEKDAY($B71,2)=7,WEEKDAY($B71,2)=8),0,1) | D71: =B71+8.5/24 | E71: =B71+17.5/24 | F71: =MAX(D71;$C$3) | G71: =MIN(E71;$E$3) | H71: =IF(AND(C71=1;F71<G71),(G71-F71)*1440;0) | I71: =IF(AND(C71=1;MAX(D71;$D$3)<MIN(E71;$E$3)),(MIN(E71;$E$3)-MAX(D71;$D$3))*1440;0)
A72: =$A$3 | B72: =INT($C$3)+30 | C72: =IF(OR(WEEKDAY($B72,2)=7,WEEKDAY($B72,2)=8),0,1) | D72: =B72+8.5/24 | E72: =B72+17.5/24 | F72: =MAX(D72;$C$3) | G72: =MIN(E72;$E$3) | H72: =IF(AND(C72=1;F72<G72),(G72-F72)*1440;0) | I72: =IF(AND(C72=1;MAX(D72;$D$3)<MIN(E72;$E$3)),(MIN(E72;$E$3)-MAX(D72;$D$3))*1440;0)
A73: =$A$3 | B73: =INT($C$3)+31 | C73: =IF(OR(WEEKDAY($B73,2)=7,WEEKDAY($B73,2)=8),0,1) | D73: =B73+8.5/24 | E73: =B73+17.5/24 | F73: =MAX(D73;$C$3) | G73: =MIN(E73;$E$3) | H73: =IF(AND(C73=1;F73<G73),(G73-F73)*1440;0) | I73: =IF(AND(C73=1;MAX(D73;$D$3)<MIN(E73;$E$3)),(MIN(E73;$E$3)-MAX(D73;$D$3))*1440;0)
A74: =$A$3 | B74: =INT($C$3)+32 | C74: =IF(OR(WEEKDAY($B74,2)=7,WEEKDAY($B74,2)=8),0,1) | D74: =B74+8.5/24 | E74: =B74+17.5/24 | F74: =MAX(D74;$C$3) | G74: =MIN(E74;$E$3) | H74: =IF(AND(C74=1;F74<G74),(G74-F74)*1440;0) | I74: =IF(AND(C74=1;MAX(D74;$D$3)<MIN(E74;$E$3)),(MIN(E74;$E$3)-MAX(D74;$D$3))*1440;0)
A75: =$A$3 | B75: =INT($C$3)+33 | C75: =IF(OR(WEEKDAY($B75,2)=7,WEEKDAY($B75,2)=8),0,1) | D75: =B75+8.5/24 | E75: =B75+17.5/24 | F75: =MAX(D75;$C$3) | G75: =MIN(E75;$E$3) | H75: =IF(AND(C75=1;F75<G75),(G75-F75)*1440;0) | I75: =IF(AND(C75=1;MAX(D75;$D$3)<MIN(E75;$E$3)),(MIN(E75;$E$3)-MAX(D75;$D$3))*1440;0)
A76: =$A$3 | B76: =INT($C$3)+34 | C76: =IF(OR(WEEKDAY($B76,2)=7,WEEKDAY($B76,2)=8),0,1) | D76: =B76+8.5/24 | E76: =B76+17.5/24 | F76: =MAX(D76;$C$3) | G76: =MIN(E76;$E$3) | H76: =IF(AND(C76=1;F76<G76),(G76-F76)*1440;0) | I76: =IF(AND(C76=1;MAX(D76;$D$3)<MIN(E76;$E$3)),(MIN(E76;$E$3)-MAX(D76;$D$3))*1440;0)
A77: =$A$3 | B77: =INT($C$3)+35 | C77: =IF(OR(WEEKDAY($B77,2)=7,WEEKDAY($B77,2)=8),0,1) | D77: =B77+8.5/24 | E77: =B77+17.5/24 | F77: =MAX(D77;$C$3) | G77: =MIN(E77;$E$3) | H77: =IF(AND(C77=1;F77<G77),(G77-F77)*1440;0) | I77: =IF(AND(C77=1;MAX(D77;$D$3)<MIN(E77;$E$3)),(MIN(E77;$E$3)-MAX(D77;$D$3))*1440;0)
A78: =$A$3 | B78: =INT($C$3)+36 | C78: =IF(OR(WEEKDAY($B78,2)=7,WEEKDAY($B78,2)=8),0,1) | D78: =B78+8.5/24 | E78: =B78+17.5/24 | F78: =MAX(D78;$C$3) | G78: =MIN(E78;$E$3) | H78: =IF(AND(C78=1;F78<G78),(G78-F78)*1440;0) | I78: =IF(AND(C78=1;MAX(D78;$D$3)<MIN(E78;$E$3)),(MIN(E78;$E$3)-MAX(D78;$D$3))*1440;0)
A79: =$A$3 | B79: =INT($C$3)+37 | C79: =IF(OR(WEEKDAY($B79,2)=7,WEEKDAY($B79,2)=8),0,1) | D79: =B79+8.5/24 | E79: =B79+17.5/24 | F79: =MAX(D79;$C$3) | G79: =MIN(E79;$E$3) | H79: =IF(AND(C79=1;F79<G79),(G79-F79)*1440;0) | I79: =IF(AND(C79=1;MAX(D79;$D$3)<MIN(E79;$E$3)),(MIN(E79;$E$3)-MAX(D79;$D$3))*1440;0)
A80: =$A$3 | B80: =INT($C$3)+38 | C80: =IF(OR(WEEKDAY($B80,2)=7,WEEKDAY($B80,2)=8),0,1) | D80: =B80+8.5/24 | E80: =B80+17.5/24 | F80: =MAX(D80;$C$3) | G80: =MIN(E80;$E$3) | H80: =IF(AND(C80=1;F80<G80),(G80-F80)*1440;0) | I80: =IF(AND(C80=1;MAX(D80;$D$3)<MIN(E80;$E$3)),(MIN(E80;$E$3)-MAX(D80;$D$3))*1440;0)
A81: =$A$3 | B81: =INT($C$3)+39 | C81: =IF(OR(WEEKDAY($B81,2)=7,WEEKDAY($B81,2)=8),0,1) | D81: =B81+8.5/24 | E81: =B81+17.5/24 | F81: =MAX(D81;$C$3) | G81: =MIN(E81;$E$3) | H81: =IF(AND(C81=1;F81<G81),(G81-F81)*1440;0) | I81: =IF(AND(C81=1;MAX(D81;$D$3)<MIN(E81;$E$3)),(MIN(E81;$E$3)-MAX(D81;$D$3))*1440;0)
A82: =$A$4 | B82: =INT($C$4)+0 | C82: =IF(OR(WEEKDAY($B82,2)=7,WEEKDAY($B82,2)=8),0,1) | D82: =B82+8.5/24 | E82: =B82+17.5/24 | F82: =MAX(D82;$C$4) | G82: =MIN(E82;$E$4) | H82: =IF(AND(C82=1;F82<G82),(G82-F82)*1440;0) | I82: =IF(AND(C82=1;MAX(D82;$D$4)<MIN(E82;$E$4)),(MIN(E82;$E$4)-MAX(D82;$D$4))*1440;0)
A83: =$A$4 | B83: =INT($C$4)+1 | C83: =IF(OR(WEEKDAY($B83,2)=7,WEEKDAY($B83,2)=8),0,1) | D83: =B83+8.5/24 | E83: =B83+17.5/24 | F83: =MAX(D83;$C$4) | G83: =MIN(E83;$E$4) | H83: =IF(AND(C83=1;F83<G83),(G83-F83)*1440;0) | I83: =IF(AND(C83=1;MAX(D83;$D$4)<MIN(E83;$E$4)),(MIN(E83;$E$4)-MAX(D83;$D$4))*1440;0)
A84: =$A$4 | B84: =INT($C$4)+2 | C84: =IF(OR(WEEKDAY($B84,2)=7,WEEKDAY($B84,2)=8),0,1) | D84: =B84+8.5/24 | E84: =B84+17.5/24 | F84: =MAX(D84;$C$4) | G84: =MIN(E84;$E$4) | H84: =IF(AND(C84=1;F84<G84),(G84-F84)*1440;0) | I84: =IF(AND(C84=1;MAX(D84;$D$4)<MIN(E84;$E$4)),(MIN(E84;$E$4)-MAX(D84;$D$4))*1440;0)
A85: =$A$4 | B85: =INT($C$4)+3 | C85: =IF(OR(WEEKDAY($B85,2)=7,WEEKDAY($B85,2)=8),0,1) | D85: =B85+8.5/24 | E85: =B85+17.5/24 | F85: =MAX(D85;$C$4) | G85: =MIN(E85;$E$4) | H85: =IF(AND(C85=1;F85<G85),(G85-F85)*1440;0) | I85: =IF(AND(C85=1;MAX(D85;$D$4)<MIN(E85;$E$4)),(MIN(E85;$E$4)-MAX(D85;$D$4))*1440;0)
A86: =$A$4 | B86: =INT($C$4)+4 | C86: =IF(OR(WEEKDAY($B86,2)=7,WEEKDAY($B86,2)=8),0,1) | D86: =B86+8.5/24 | E86: =B86+17.5/24 | F86: =MAX(D86;$C$4) | G86: =MIN(E86;$E$4) | H86: =IF(AND(C86=1;F86<G86),(G86-F86)*1440;0) | I86: =IF(AND(C86=1;MAX(D86;$D$4)<MIN(E86;$E$4)),(MIN(E86;$E$4)-MAX(D86;$D$4))*1440;0)
A87: =$A$4 | B87: =INT($C$4)+5 | C87: =IF(OR(WEEKDAY($B87,2)=7,WEEKDAY($B87,2)=8),0,1) | D87: =B87+8.5/24 | E87: =B87+17.5/24 | F87: =MAX(D87;$C$4) | G87: =MIN(E87;$E$4) | H87: =IF(AND(C87=1;F87<G87),(G87-F87)*1440;0) | I87: =IF(AND(C87=1;MAX(D87;$D$4)<MIN(E87;$E$4)),(MIN(E87;$E$4)-MAX(D87;$D$4))*1440;0)
A88: =$A$4 | B88: =INT($C$4)+6 | C88: =IF(OR(WEEKDAY($B88,2)=7,WEEKDAY($B88,2)=8),0,1) | D88: =B88+8.5/24 | E88: =B88+17.5/24 | F88: =MAX(D88;$C$4) | G88: =MIN(E88;$E$4) | H88: =IF(AND(C88=1;F88<G88),(G88-F88)*1440;0) | I88: =IF(AND(C88=1;MAX(D88;$D$4)<MIN(E88;$E$4)),(MIN(E88;$E$4)-MAX(D88;$D$4))*1440;0)
A89: =$A$4 | B89: =INT($C$4)+7 | C89: =IF(OR(WEEKDAY($B89,2)=7,WEEKDAY($B89,2)=8),0,1) | D89: =B89+8.5/24 | E89: =B89+17.5/24 | F89: =MAX(D89;$C$4) | G89: =MIN(E89;$E$4) | H89: =IF(AND(C89=1;F89<G89),(G89-F89)*1440;0) | I89: =IF(AND(C89=1;MAX(D89;$D$4)<MIN(E89;$E$4)),(MIN(E89;$E$4)-MAX(D89;$D$4))*1440;0)
A90: =$A$4 | B90: =INT($C$4)+8 | C90: =IF(OR(WEEKDAY($B90,2)=7,WEEKDAY($B90,2)=8),0,1) | D90: =B90+8.5/24 | E90: =B90+17.5/24 | F90: =MAX(D90;$C$4) | G90: =MIN(E90;$E$4) | H90: =IF(AND(C90=1;F90<G90),(G90-F90)*1440;0) | I90: =IF(AND(C90=1;MAX(D90;$D$4)<MIN(E90;$E$4)),(MIN(E90;$E$4)-MAX(D90;$D$4))*1440;0)
A91: =$A$4 | B91: =INT($C$4)+9 | C91: =IF(OR(WEEKDAY($B91,2)=7,WEEKDAY($B91,2)=8),0,1) | D91: =B91+8.5/24 | E91: =B91+17.5/24 | F91: =MAX(D91;$C$4) | G91: =MIN(E91;$E$4) | H91: =IF(AND(C91=1;F91<G91),(G91-F91)*1440;0) | I91: =IF(AND(C91=1;MAX(D91;$D$4)<MIN(E91;$E$4)),(MIN(E91;$E$4)-MAX(D91;$D$4))*1440;0)
A92: =$A$4 | B92: =INT($C$4)+10 | C92: =IF(OR(WEEKDAY($B92,2)=7,WEEKDAY($B92,2)=8),0,1) | D92: =B92+8.5/24 | E92: =B92+17.5/24 | F92: =MAX(D92;$C$4) | G92: =MIN(E92;$E$4) | H92: =IF(AND(C92=1;F92<G92),(G92-F92)*1440;0) | I92: =IF(AND(C92=1;MAX(D92;$D$4)<MIN(E92;$E$4)),(MIN(E92;$E$4)-MAX(D92;$D$4))*1440;0)
A93: =$A$4 | B93: =INT($C$4)+11 | C93: =IF(OR(WEEKDAY($B93,2)=7,WEEKDAY($B93,2)=8),0,1) | D93: =B93+8.5/24 | E93: =B93+17.5/24 | F93: =MAX(D93;$C$4) | G93: =MIN(E93;$E$4) | H93: =IF(AND(C93=1;F93<G93),(G93-F93)*1440;0) | I93: =IF(AND(C93=1;MAX(D93;$D$4)<MIN(E93;$E$4)),(MIN(E93;$E$4)-MAX(D93;$D$4))*1440;0)
A94: =$A$4 | B94: =INT($C$4)+12 | C94: =IF(OR(WEEKDAY($B94,2)=7,WEEKDAY($B94,2)=8),0,1) | D94: =B94+8.5/24 | E94: =B94+17.5/24 | F94: =MAX(D94;$C$4) | G94: =MIN(E94;$E$4) | H94: =IF(AND(C94=1;F94<G94),(G94-F94)*1440;0) | I94: =IF(AND(C94=1;MAX(D94;$D$4)<MIN(E94;$E$4)),(MIN(E94;$E$4)-MAX(D94;$D$4))*1440;0)
A95: =$A$4 | B95: =INT($C$4)+13 | C95: =IF(OR(WEEKDAY($B95,2)=7,WEEKDAY($B95,2)=8),0,1) | D95: =B95+8.5/24 | E95: =B95+17.5/24 | F95: =MAX(D95;$C$4) | G95: =MIN(E95;$E$4) | H95: =IF(AND(C95=1;F95<G95),(G95-F95)*1440;0) | I95: =IF(AND(C95=1;MAX(D95;$D$4)<MIN(E95;$E$4)),(MIN(E95;$E$4)-MAX(D95;$D$4))*1440;0)
A96: =$A$4 | B96: =INT($C$4)+14 | C96: =IF(OR(WEEKDAY($B96,2)=7,WEEKDAY($B96,2)=8),0,1) | D96: =B96+8.5/24 | E96: =B96+17.5/24 | F96: =MAX(D96;$C$4) | G96: =MIN(E96;$E$4) | H96: =IF(AND(C96=1;F96<G96),(G96-F96)*1440;0) | I96: =IF(AND(C96=1;MAX(D96;$D$4)<MIN(E96;$E$4)),(MIN(E96;$E$4)-MAX(D96;$D$4))*1440;0)
A97: =$A$4 | B97: =INT($C$4)+15 | C97: =IF(OR(WEEKDAY($B97,2)=7,WEEKDAY($B97,2)=8),0,1) | D97: =B97+8.5/24 | E97: =B97+17.5/24 | F97: =MAX(D97;$C$4) | G97: =MIN(E97;$E$4) | H97: =IF(AND(C97=1;F97<G97),(G97-F97)*1440;0) | I97: =IF(AND(C97=1;MAX(D97;$D$4)<MIN(E97;$E$4)),(MIN(E97;$E$4)-MAX(D97;$D$4))*1440;0)
A98: =$A$4 | B98: =INT($C$4)+16 | C98: =IF(OR(WEEKDAY($B98,2)=7,WEEKDAY($B98,2)=8),0,1) | D98: =B98+8.5/24 | E98: =B98+17.5/24 | F98: =MAX(D98;$C$4) | G98: =MIN(E98;$E$4) | H98: =IF(AND(C98=1;F98<G98),(G98-F98)*1440;0) | I98: =IF(AND(C98=1;MAX(D98;$D$4)<MIN(E98;$E$4)),(MIN(E98;$E$4)-MAX(D98;$D$4))*1440;0)
A99: =$A$4 | B99: =INT($C$4)+17 | C99: =IF(OR(WEEKDAY($B99,2)=7,WEEKDAY($B99,2)=8),0,1) | D99: =B99+8.5/24 | E99: =B99+17.5/24 | F99: =MAX(D99;$C$4) | G99: =MIN(E99;$E$4) | H99: =IF(AND(C99=1;F99<G99),(G99-F99)*1440;0) | I99: =IF(AND(C99=1;MAX(D99;$D$4)<MIN(E99;$E$4)),(MIN(E99;$E$4)-MAX(D99;$D$4))*1440;0)
A100: =$A$4 | B100: =INT($C$4)+18 | C100: =IF(OR(WEEKDAY($B100,2)=7,WEEKDAY($B100,2)=8),0,1) | D100: =B100+8.5/24 | E100: =B100+17.5/24 | F100: =MAX(D100;$C$4) | G100: =MIN(E100;$E$4) | H100: =IF(AND(C100=1;F100<G100),(G100-F100)*1440;0) | I100: =IF(AND(C100=1;MAX(D100;$D$4)<MIN(E100;$E$4)),(MIN(E100;$E$4)-MAX(D100;$D$4))*1440;0)
...

Sheet Карточка
A1: Отчёт «Карточка на исполнение» — сводка по группам за период
A2: Период задан по ДАТЕ ВЫПОЛНЕНИЯ (колонка E детализации)
A4: с | B4: 46266 | C4: по | D4: 46295
A6: Группа | B6: Общее кол-во | C6: В к/срок (1ч) | D6: Нарушения (1ч) | E6: % (1ч) | F6: В к/срок (8ч) | G6: Нарушения (8ч) | H6: % (8ч)
A7: Сеть | B7: =SUMIFS(1;Детализация!$A$2:$A$5;$A7;Детализация!$E$2:$E$5;">="&$B$4;Детализация!$E$2:$E$5;"<="&$D$4) | C7: =B7-D7 | D7: =COUNTIFS(Детализация!$A$2:$A$5;$A7;Детализация!$E$2:$E$5;">="&$B$4;Детализация!$E$2:$E$5;"<="&$D$4;Детализация!$H$2:$H$5;"Да") | E7: =IF(B7=0;"";(B7-D7)/B7*100) | F7: =B7-G7 | G7: =COUNTIFS(Детализация!$A$2:$A$5;$A7;Детализация!$E$2:$E$5;">="&$B$4;Детализация!$E$2:$E$5;"<="&$D$4;Детализация!$I$2:$I$5;"Да") | H7: =IF(B7=0;"";(B7-G7)/B7*100)
A8: Связь | B8: =SUMIFS(1;Детализация!$A$2:$A$5;$A8;Детализация!$E$2:$E$5;">="&$B$4;Детализация!$E$2:$E$5;"<="&$D$4) | C8: =B8-D8 | D8: =COUNTIFS(Детализация!$A$2:$A$5;$A8;Детализация!$E$2:$E$5;">="&$B$4;Детализация!$E$2:$E$5;"<="&$D$4;Детализация!$H$2:$H$5;"Да") | E8: =IF(B8=0;"";(B8-D8)/B8*100) | F8: =B8-G8 | G8: =COUNTIFS(Детализация!$A$2:$A$5;$A8;Детализация!$E$2:$E$5;">="&$B$4;Детализация!$E$2:$E$5;"<="&$D$4;Детализация!$I$2:$I$5;"Да") | H8: =IF(B8=0;"";(B8-G8)/B8*100)
A9: Инфра | B9: =SUMIFS(1;Детализация!$A$2:$A$5;$A9;Детализация!$E$2:$E$5;">="&$B$4;Детализация!$E$2:$E$5;"<="&$D$4) | C9: =B9-D9 | D9: =COUNTIFS(Детализация!$A$2:$A$5;$A9;Детализация!$E$2:$E$5;">="&$B$4;Детализация!$E$2:$E$5;"<="&$D$4;Детализация!$H$2:$H$5;"Да") | E9: =IF(B9=0;"";(B9-D9)/B9*100) | F9: =B9-G9 | G9: =COUNTIFS(Детализация!$A$2:$A$5;$A9;Детализация!$E$2:$E$5;">="&$B$4;Детализация!$E$2:$E$5;"<="&$D$4;Детализация!$I$2:$I$5;"Да") | H9: =IF(B9=0;"";(B9-G9)/B9*100)
A10: ИТОГО | B10: =SUM(B7:B9) | C10: =SUM(C7:C9) | D10: =SUM(D7:D9) | E10: =IF(B10=0;"";(B10-D10)/B10*100) | F10: =SUM(E7:E9) | G10: =SUM(F7:F9) | H10: =IF(B10=0;"";(B10-F10)/B10*100)

Sheet Справка
A1: РАСЧЁТ РАБОЧЕГО ВРЕМЕНИ ЕСУД — КАК ЭТО РАБОТАЕТ
A3: Правило: рабочие дни Пн-Пт, рабочие часы 08:30-17:30 (9 часов).
A4: Выходные (Сб, Вс) и время вне окна НЕ считаются.
A6: ПОЧЕМУ В ВАШЕМ ФАЙЛЕ СЧИТАЛОСЬ НЕПРАВИЛЬНО
A7: 1. Формула 'КОНЕЦ - НАЧАЛО' (или (B2-A2)*24) — это КАЛЕНДАРНОЕ время, а не рабочее.
A8: Она включает ночь, выходные и перерывы.
A9: 2. Нет привязки к окну 08:30-17:30. Если начало в 06:00, формула считает с 06:00, а не с 08:30.
A10: 3. Нет учёта выходных. Пт 18:00 + 1 ч = Сб 19:00, но рабочее время = 0.
A12: КАК СЕЙЧАС СЧИТАЕТ ФАЙЛ
A13: 1. Лист «Детализация» — ваши данные: Группа, Исполнитель, Дата передачи, Дата назначения, Дата выполнения.
A14: 2. Лист «Время» — помощник: для каждой строки детализации раскрывает 40 дней.
A15: 3. Каждый день: берёт пересечение дня с окном 08:30-17:30; если день будний — добавляет минуты, иначе 0.
... A37: - Козлов: 14.09 10:00 → 17.09 17:00. Пн 450 + Вт 540 + Ср 540 + Чт 510 = 2040 мин = 34.0 ч.
