Workbook

Sheet Расчет численности
B1: Расчет необходимой штатной численности операторов ЦОО при создании СРОА
B2: Наименование | C2: Январь | D2: Февраль | E2: Март | F2: Апрель | G2: Май | H2: Июнь | I2: Июль | J2: Август | K2: Сентябрь | L2: Октябрь | M2: Ноябрь | N2: Декабрь
A3: 1 | B3: Количество поступающих обращений/диалогов | C3: 68000 | D3: 64000 | E3: 67000 | F3: 62000 | G3: 59000 | H3: 69000 | I3: 66000 | J3: 65000 | K3: 64000 | L3: 62000 | M3: 62000 | N3: 64000
A4: 2 | B4: Фактическая ШЧ ЦОО | C4: 74 | D4: 74 | E4: 74 | F4: 75 | G4: 75 | H4: 75 | I4: 78 | J4: 78 | K4: 78 | L4: 78 | M4: 78 | N4: 78
A5: 3 | B5: Необходимая ШЧ при текущих условиях и объемах, ШЕ | C5: 101 | D5: 101 | E5: 117 | F5: 91 | G5: 106 | H5: ='Потреб тек'!CJ14 -> 101.93553 | I5: ='Потреб тек'!DA14 -> 96.941233 | J5: ='Потреб тек'!DR14 -> 99.482261 | K5: ='Потреб тек'!EI14 -> 94.329995 | L5: ='Потреб тек'!EZ14 -> 96.508868 | M5: ='Потреб тек'!FQ14 -> 97.670492 | N5: ='Потреб тек'!GH14 -> 95.633937 | O5: 97
A6: 4 | B6: Необходимая ШЧ при создании СРОА , из них | I6: =I7+I8 -> 105.56264 | J6: =J7+J8 -> 108.16703 | K6: =K7+K8 -> 105.96168 | L6: =L7+L8 -> 102.38881 | M6: =M7+M8 -> 110.19446 | N6: =N7+N8 -> 107.60791
A7: 4.1. | B7: Для СРОА (макс лимит 3 диалогов одновременно, 21000-22000 диалогов в мес, AHT 40 мин, AR не более 1%) | I7: ='СРОА v2'!DA14 -> 60.994453 | J7: ='СРОА v2'!DR14 -> 61.730707 | K7: ='СРОА v2'!EI14 -> 59.521585 | L7: ='СРОА v2'!EZ14 -> 59.28834 | M7: ='СРОА v2'!FQ14 -> 64.315167 | N7: ='СРОА v2'!GH14 -> 61.738288 | O7: 61
A8: 4.2. | B8: Остальные Вопросы (макс лимит 7 диалогов одновременно, 40000 диалогов, AHT 40 мин) | I8: ='Группа 1 v1'!DA14 -> 44.568192 | J8: ='Группа 1 v1'!DR14 -> 46.43632 | K8: ='Группа 1 v1'!EI14 -> 46.440098 | L8: ='Группа 1 v1'!EZ14 -> 43.100466 | M8: ='Группа 1 v1'!FQ14 -> 45.879294 | N8: ='Группа 1 v1'!GH14 -> 45.869623 | O8: 45
O9: 106
B11: На 15.06.2026 количество ШЕ специалистов по обслуживанию составляет 75 ШЕ (Алматы 22, Шымкент 53). При организации СРОА без увеличения штатной численности, существуют значительные риски по эффективности создания СРОА т.к количество диалогов в 2-х группах не изменится( по сравнению как сейчас), и 1 оператор также будет обслуживать одновременно 10 и более диалогов, что скажется как на качестве консультации/удержании так и на выполнении всех качественных показателей. Согласно бейнча, для качественного обслуживания клиентов количество одновременных диалогов должно быть от 3-5.
B12: Расчет произведен из условия, что в группу СРОА будут поступать дилоги кторые на боте выбрали "Отключение услуг" либо сообщили что хотят отключить услуги(на Айзере).
B13: Вторым этапом, после 2-3 месяцев запуска и анализа, рассмотреть возможность переключения в данную группу клиентов, которые выбрали "Смена ТП" .

Sheet Потреб тек
A1: 31 | B1: ЦОО январь | R1: 28 | S1: февраль | AI1: 31 | AJ1: март | AZ1: =SUM(BB20:BB21) -> 30 | BA1: апрель | BQ1: 31 | BR1: май | CH1: =SUM(CJ20:CJ21) -> 30 | CI1: июнь | CY1: 31 | CZ1: июль | DP1: 31 | DQ1: август | EG1: 30 | EH1: Сентябрь | EX1: 31 | EY1: Октябрь | FO1: 30 | FP1: Ноябрь | GF1: 31 | GG1: Декабрь
B2: Направление | C2: Количество | D2: AHT, min | E2: Service time, sec | F2: Patience, sec | S2: Направление | T2: Количество | U2: AHT, min | V2: Service time, sec | W2: Patience, sec | AJ2: Направление | AK2: Количество | AL2: AHT, min | AM2: Service time, sec | AN2: Patience, sec | BA2: Направление | BB2: Количество | BC2: AHT, min | BD2: Service time, sec | BE2: Patience, sec | BR2: Направление | BS2: Количество | BT2: AHT, min | BU2: Service time, sec | BV2: Patience, sec | CI2: Направление | CJ2: Количество | CK2: AHT, min | CL2: Service time, sec | CM2: Patience, sec | CZ2: Направление | DA2: Количество | DB2: AHT, min | DC2: Service time, sec | DD2: Patience, sec | DQ2: Направление | DR2: Количество | DS2: AHT, min | DT2: Service time, sec | DU2: Patience, sec | EH2: Направление | EI2: Количество | EJ2: AHT, min | EK2: Service time, sec | EL2: Patience, sec | EY2: Направление | EZ2: Количество | FA2: AHT, min | FB2: Service time, sec | FC2: Patience, sec | FP2: Направление | FQ2: Количество | FR2: AHT, min | FS2: Service time, sec | FT2: Patience, sec | GG2: Направление | GH2: Количество | GI2: AHT, min | GJ2: Service time, sec | GK2: Patience, sec
B3: Входящие звонки | C3: 0 | D3: 4.5 | E3: 40 | F3: 40 | S3: Входящие звонки | T3: 0 | U3: 4.5 | V3: 40 | W3: 40 | AJ3: Входящие звонки | AK3: 0 | AL3: 4.5 | AM3: 40 | AN3: 40 | BA3: Входящие звонки | BB3: 0 | BC3: 4.5 | BD3: 40 | BE3: 40 | BR3: Входящие звонки | BS3: 0 | BT3: 4.5 | BU3: 40 | BV3: 40 | CI3: Входящие звонки | CJ3: 0 | CK3: 4.5 | CL3: 40 | CM3: 40 | CZ3: Входящие звонки | DA3: 0 | DB3: 4.5 | DC3: 40 | DD3: 40 | DQ3: Входящие звонки | DR3: 0 | DS3: 4.5 | DT3: 40 | DU3: 40 | EH3: Входящие звонки | EI3: 0 | EJ3: 4.5 | EK3: 40 | EL3: 40 | EY3: Входящие звонки | EZ3: 0 | FA3: 4.5 | FB3: 40 | FC3: 40 | FP3: Входящие звонки | FQ3: 0 | FR3: 4.5 | FS3: 40 | FT3: 40 | GG3: Входящие звонки | GH3: 0 | GI3: 4.5 | GJ3: 40 | GK3: 40
A4: 0.8 | B4: Исходящие звонки | C4: 6000 | D4: 9 | R4: 0.8 | S4: Исходящие звонки | T4: 5000 | U4: 10 | AI4: 0.8 | AJ4: Исходящие звонки | AK4: 6200 | AL4: 10 | AZ4: 0.8 | BA4: Исходящие звонки | BB4: 5700 | BC4: 10 | BQ4: 0.8 | BR4: Исходящие звонки | BS4: 5500 | BT4: 10 | CH4: 0.8 | CI4: Исходящие звонки | CJ4: 5700 | CK4: 10 | CY4: 0.8 | CZ4: Исходящие звонки | DA4: 5500 | DB4: 10 | DP4: 0.8 | DQ4: Исходящие звонки | DR4: 5000 | DS4: 10 | EG4: 0.8 | EH4: Исходящие звонки | EI4: 5000 | EJ4: 10 | EX4: 0.8 | EY4: Исходящие звонки | EZ4: 5500 | FA4: 10 | FO4: 0.8 | FP4: Исходящие звонки | FQ4: 5000 | FR4: 10 | GF4: 0.8 | GG4: Исходящие звонки | GH4: 5000 | GI4: 10
B5: Неголосовые тикеты | S5: Неголосовые тикеты | AJ5: Неголосовые тикеты | BA5: Неголосовые тикеты | BR5: Неголосовые тикеты | CI5: Неголосовые тикеты | CZ5: Неголосовые тикеты | DQ5: Неголосовые тикеты | EH5: Неголосовые тикеты | EY5: Неголосовые тикеты | FP5: Неголосовые тикеты | GG5: Неголосовые тикеты
B6: Чат | C6: 64200 | D6: 53 | E6: 180 | S6: Чат | T6: 58900 | U6: 59 | V6: 180 | AJ6: Чат | AK6: 61000 | AL6: 60 | AM6: 180 | BA6: Чат | BB6: 56000 | BC6: 59 | BD6: 180 | BR6: Чат | BS6: 53500 | BT6: 59 | BU6: 180 | CI6: Чат | CJ6: 63500 | CK6: 60 | CL6: 180 | CZ6: Чат | DA6: 61000 | DB6: 59 | DC6: 180 | DQ6: Чат | DR6: 60000 | DS6: 59 | DT6: 180 | EH6: Чат | EI6: 59000 | EJ6: 59 | EK6: 180 | EY6: Чат | EZ6: 60000 | FA6: 59 | FB6: 180 | FP6: Чат | FQ6: 57000 | FR6: 59 | FS6: 180 | GG6: Чат | GH6: 59000 | GI6: 59 | GJ6: 180
B7: Concurrency | C7: 7 | S7: Concurrency | T7: 7 | AJ7: Concurrency | AK7: 7 | BA7: Concurrency | BB7: 7 | BR7: Concurrency | BS7: 7 | CI7: Concurrency | CJ7: 7 | CZ7: Concurrency | DA7: 7 | DQ7: Concurrency | DR7: 7 | EH7: Concurrency | EI7: 7 | EY7: Concurrency | EZ7: 7 | FP7: Concurrency | FQ7: 7 | GG7: Concurrency | GH7: 7
B8: FTE (Входящие звонки) | S8: FTE (Входящие звонки) | AJ8: FTE (Входящие звонки) | BA8: FTE (Входящие звонки) | BR8: FTE (Входящие звонки) | CI8: FTE (Входящие звонки) | CZ8: FTE (Входящие звонки) | DQ8: FTE (Входящие звонки) | EH8: FTE (Входящие звонки) | EY8: FTE (Входящие звонки) | FP8: FTE (Входящие звонки) | GG8: FTE (Входящие звонки)
B9: FTE (Исходящие звонки) | C9: =H25*A1/C18/C17 -> 9.3773443 | S9: FTE (Исходящие звонки) | T9: =Y25*R1/T18/T17 -> 8.6827262 | AJ9: FTE (Исходящие звонки) | AK9: =AP25*AI1/AK18/AK17 -> 11.639547 | BA9: FTE (Исходящие звонки) | BB9: =BG25*AZ1/BB18/BB17 -> 9.1018923 | BR9: FTE (Исходящие звонки) | BS9: =BX25*BQ1/BS18/BS17 -> 10.551161 | CI9: FTE (Исходящие звонки) | CJ9: =CO25*CH1/CJ18/CJ17 -> 9.1368996 | CZ9: FTE (Исходящие звонки) | DA9: =DF25*CY1/DA18/DA17 -> 8.7825277 | DQ9: FTE (Исходящие звонки) | DR9: =DW25*DP1/DR18/DR17 -> 8.3187796 | EH9: FTE (Исходящие звонки) | EI9: =EN25*EG1/EI18/EI17 -> 7.9841161 | EY9: FTE (Исходящие звонки) | EZ9: =FE25*EX1/EZ18/EZ17 -> 8.6827262 | FP9: FTE (Исходящие звонки) | FQ9: =FV25*FO1/FQ18/FQ17 -> 8.4196133 | GG9: FTE (Исходящие звонки) | GH9: =GM25*GF1/GH18/GH17 -> 7.9841161
B10: FTE (Неголосовые тикеты) | C10: =I25*A1/C18/C17 -> 0 | S10: FTE (Неголосовые тикеты) | T10: =Z25*R1/T18/T17 -> 0 | AJ10: FTE (Неголосовые тикеты) | AK10: =AQ25*AI1/AK18/AK17 -> 0 | BA10: FTE (Неголосовые тикеты) | BB10: =BH25*AZ1/BB18/BB17 -> 0 | BR10: FTE (Неголосовые тикеты) | BS10: =BY25*BQ1/BS18/BS17 -> 0 | CI10: FTE (Неголосовые тикеты) | CJ10: =CP25*CH1/CJ18/CJ17 -> 0 | CZ10: FTE (Неголосовые тикеты) | DA10: =DG25*CY1/DA18/DA17 -> 0 | DQ10: FTE (Неголосовые тикеты) | DR10: =DX25*DP1/DR18/DR17 -> 0 | EH10: FTE (Неголосовые тикеты) | EI10: =EO25*EG1/EI18/EI17 -> 0 | EY10: FTE (Неголосовые тикеты) | EZ10: =FF25*EX1/EZ18/EZ17 -> 0 | FP10: FTE (Неголосовые тикеты) | FQ10: =FW25*FO1/FQ18/FQ17 -> 0 | GG10: FTE (Неголосовые тикеты) | GH10: =GN25*GF1/GH18/GH17 -> 0
B11: FTE (Чат) | C11: =J25*A1/C17/C18 -> 74.34593 | S11: FTE (Чат) | T11: =AA25*R1/T17/T18 -> 74.883721 | AJ11: FTE (Чат) | AK11: =AR25*AI1/AK17/AK18 -> 85.975801 | BA11: FTE (Чат) | BB11: =BI25*AZ1/BB17/BB18 -> 66.559743 | BR11: FTE (Чат) | BS11: =BZ25*BQ1/BS17/BS18 -> 76.904756 | CI11: FTE (Чат) | CJ11: =CQ25*CH1/CJ17/CJ18 -> 75.469589 | CZ11: FTE (Чат) | DA11: =DH25*CY1/DA17/DA18 -> 71.678696 | DQ11: FTE (Чат) | DR11: =DY25*DP1/DR17/DR18 -> 74.251497 | EH11: FTE (Чат) | EI11: =EP25*EG1/EI17/EI18 -> 69.36648 | EY11: FTE (Чат) | EZ11: =FG25*EX1/EZ17/EZ18 -> 70.454545 | FP11: FTE (Чат) | FQ11: =FX25*FO1/FQ17/FQ18 -> 71.67019 | GG11: FTE (Чат) | GH11: =GO25*GF1/GH17/GH18 -> 70.435712
B12: FTE в графике (ВСЕГО) | C12: =SUM(C8:C11) -> 83.723275 | S12: FTE в графике (ВСЕГО) | T12: =SUM(T8:T11) -> 83.566447 | AJ12: FTE в графике (ВСЕГО) | AK12: =SUM(AK8:AK11) -> 97.615348 | BA12: FTE в графике (ВСЕГО) | BB12: =SUM(BB8:BB11) -> 75.661636 | BR12: FTE в графике (ВСЕГО) | BS12: =SUM(BS8:BS11) -> 87.455917 | CI12: FTE в графике (ВСЕГО) | CJ12: =SUM(CJ8:CJ11) -> 84.606488 | CZ12: FTE в графике (ВСЕГО) | DA12: =SUM(DA8:DA11) -> 80.461223 | DQ12: FTE в графике (ВСЕГО) | DR12: =SUM(DR8:DR11) -> 82.570277 | EH12: FTE в графике (ВСЕГО) | EI12: =SUM(EI8:EI11) -> 77.350596 | EY12: FTE в графике (ВСЕГО) | EZ12: =SUM(EZ8:EZ11) -> 79.137272 | FP12: FTE в графике (ВСЕГО) | FQ12: =SUM(FQ8:FQ11) -> 80.089804 | GG12: FTE в графике (ВСЕГО) | GH12: =SUM(GH8:GH11) -> 78.419828
B13: Часов работы за период, ч | C13: =K25/C17*A1 -> 13936.422 | S13: Часов работы за период, ч | T13: =AB25/T17*R1 -> 13859.004 | AJ13: Часов работы за период, ч | AK13: =AS25/AK17*AI1 -> 14987.769 | BA13: Часов работы за период, ч | BB13: =BJ25/BB17*AZ1 -> 13688.38 | BR13: Часов работы за период, ч | BS13: =CA25/BS17*BQ1 -> 13207.23 | CI13: Часов работы за период, ч | CJ13: =CR25/CJ17*CH1 -> 15188.38 | CZ13: Часов работы за период, ч | DA13: =DI25/DA17*CY1 -> 14540.951 | DQ13: Часов работы за период, ч | DR13: =DZ25/DR17*DP1 -> 14329.934 | EH13: Часов работы за период, ч | EI13: =EQ25/EI17*EG1 -> 13982.259 | EY13: Часов работы за период, ч | EZ13: =FH25/EZ17*EX1 -> 14468.857 | FP13: Часов работы за период, ч | FQ13: =FY25/FQ17*FO1 -> 13738.073 | GG13: Часов работы за период, ч | GH13: =GP25/GH17*GF1 -> 14185.748
B14: FTE в штате | C14: =C12/(1-C15) -> 100.87142 | S14: FTE в штате | T14: =T12/(1-T15) -> 100.68247 | AJ14: FTE в штате | AK14: =AK12/(1-AK15) -> 117.60885 | BA14: FTE в штате | BB14: =BB12/(1-BB15) -> 91.158597 | BR14: FTE в штате | BS14: =BS12/(1-BS15) -> 105.36857 | CI14: FTE в штате | CJ14: =CJ12/(1-CJ15) -> 101.93553 | CZ14: FTE в штате | DA14: =DA12/(1-DA15) -> 96.941233 | DQ14: FTE в штате | DR14: =DR12/(1-DR15) -> 99.482261 | EH14: FTE в штате | EI14: =EI12/(1-EI15) -> 94.329995 | EY14: FTE в штате | EZ14: =EZ12/(1-EZ15) -> 96.508868 | FP14: FTE в штате | FQ14: =FQ12/(1-FQ15) -> 97.670492 | GG14: FTE в штате | GH14: =GH12/(1-GH15) -> 95.633937
B15: Плановые отсутствия | C15: 0.17 | S15: Плановые отсутствия | T15: 0.17 | AJ15: Плановые отсутствия | AK15: 0.17 | BA15: Плановые отсутствия | BB15: 0.17 | BR15: Плановые отсутствия | BS15: 0.17 | CI15: Плановые отсутствия | CJ15: 0.17 | CZ15: Плановые отсутствия | DA15: 0.17 | DQ15: Плановые отсутствия | DR15: 0.17 | EH15: Плановые отсутствия | EI15: 0.18 | EY15: Плановые отсутствия | EZ15: 0.18 | FP15: Плановые отсутствия | FQ15: 0.18 | GG15: Плановые отсутствия | GH15: 0.18
B16: Неплановые отсутствия | C16: 0.07 | S16: Неплановые отсутствия | T16: 0.07 | AJ16: Неплановые отсутствия | AK16: 0.07 | BA16: Неплановые отсутствия | BB16: 0.07 | BR16: Неплановые отсутствия | BS16: 0.07 | CI16: Неплановые отсутствия | CJ16: 0.07 | CZ16: Неплановые отсутствия | DA16: 0.07 | DQ16: Неплановые отсутствия | DR16: 0.07 | EH16: Неплановые отсутствия | EI16: 0.07 | EY16: Неплановые отсутствия | EZ16: 0.07 | FP16: Неплановые отсутствия | FQ16: 0.07 | GG16: Неплановые отсутствия | GH16: 0.07
B17: Utilization | C17: 0.86 | S17: Utilization | T17: 0.86 | AJ17: Utilization | AK17: 0.86 | BA17: Utilization | BB17: 0.86 | BR17: Utilization | BS17: 0.86 | CI17: Utilization | CJ17: 0.86 | CZ17: Utilization | DA17: 0.86 | DQ17: Utilization | DR17: 0.86 | EH17: Utilization | EI17: 0.86 | EY17: Utilization | EZ17: 0.86 | FP17: Utilization | FQ17: 0.86 | GG17: Utilization | GH17: 0.86
B18: FTE, hrs*month | C18: =C19*C20 -> 160 | S18: FTE, hrs*month | T18: =T19*T20 -> 160 | AJ18: FTE, hrs*month | AK18: =AK19*AK20 -> 148 | BA18: FTE, hrs*month | BB18: =BB19*BB20 -> 174 | BR18: FTE, hrs*month | BS18: =BS19*BS20 -> 144.83333 | CI18: FTE, hrs*month | CJ18: =CJ19*CJ20 -> 173.33333 | CZ18: FTE, hrs*month | DA18: =DA19*DA20 -> 174 | DQ18: FTE, hrs*month | DR18: =DR19*DR20 -> 167 | EH18: FTE, hrs*month | EI18: =EI19*EI20 -> 174 | EY18: FTE, hrs*month | EZ18: =EZ19*EZ20 -> 176 | FP18: FTE, hrs*month | FQ18: =FQ19*FQ20 -> 165 | GG18: FTE, hrs*month | GH18: =GH19*GH20 -> 174
B19: FTE, hrs*day | C19: 6.6666667 | S19: FTE, hrs*day | T19: 6.6666667 | AJ19: FTE, hrs*day | AK19: 6.7272727 | BA19: FTE, hrs*day | BB19: 6.6923077 | BR19: FTE, hrs*day | BS19: 6.5833333 | CI19: FTE, hrs*day | CJ19: 6.6666667 | CZ19: FTE, hrs*day | DA19: 6.6923077 | DQ19: FTE, hrs*day | DR19: 6.68 | EH19: FTE, hrs*day | EI19: 6.6923077 | EY19: FTE, hrs*day | EZ19: 6.7692308 | FP19: FTE, hrs*day | FQ19: 6.6 | GG19: FTE, hrs*day | GH19: 6.6923077
B20: Рабочих дней | C20: 24 | S20: Рабочих дней | T20: 24 | AJ20: Рабочих дней | AK20: 22 | BA20: Рабочих дней | BB20: 26 | BR20: Рабочих дней | BS20: 22 | CI20: Рабочих дней | CJ20: 26 | CZ20: Рабочих дней | DA20: 26 | DQ20: Рабочих дней | DR20: 25 | EH20: Рабочих дней | EI20: 26 | EY20: Рабочих дней | EZ20: 26 | FP20: Рабочих дней | FQ20: 25 | GG20: Рабочих дней | GH20: 26
B21: Выходных дней | C21: 7 | S21: Выходных дней | T21: 4 | AJ21: Выходных дней | AK21: 9 | BA21: Выходных дней | BB21: 4 | BR21: Выходных дней | BS21: 9 | CI21: Выходных дней | CJ21: 4 | CZ21: Выходных дней | DA21: 5 | DQ21: Выходных дней | DR21: 6 | EH21: Выходных дней | EI21: 4 | EY21: Выходных дней | EZ21: 4 | FP21: Выходных дней | FQ21: 5 | GG21: Выходных дней | GH21: 5
B23: Средний день | S23: Средний день | AJ23: Средний день | BA23: Средний день | BR23: Средний день | CI23: Средний день | CZ23: Средний день | DQ23: Средний день | EH23: Средний день | EY23: Средний день | FP23: Средний день | GG23: Средний день
B24: % | C24: Звонки вход. | D24: Звонки исход. | E24: Неголосовые тикеты | F24: Чаты | G24: Агенты вход. | H24: Агенты исход. | I24: Агенты Неголос. Тикеты | J24: Агенты чаты | K24: Агенты в линии ВСЕГО | L24: SL Вход. | M24: SL Чаты | N24: ASA вход., sec | O24: AR Вход. | P24: OCC Все каналы | S24: % | T24: Звонки вход. | U24: Звонки исход. | V24: Неголосовые тикеты | W24: Чаты | X24: Агенты вход. | Y24: Агенты исход. | Z24: Агенты Неголос. Тикеты | AA24: Агенты чаты | AB24: Агенты в линии ВСЕГО | AC24: SL Вход. | AD24: SL Чаты | AE24: ASA вход., sec | AF24: AR Вход. | AG24: OCC Все каналы | AJ24: % | AK24: Звонки вход. | AL24: Звонки исход. | AM24: Неголосовые тикеты | AN24: Чаты | AO24: Агенты вход. | AP24: Агенты исход. | AQ24: Агенты Неголос. Тикеты | AR24: Агенты чаты | AS24: Агенты в линии ВСЕГО | AT24: SL Вход. | AU24: SL Чаты | AV24: ASA вход., sec | AW24: AR Вход. | AX24: OCC Все каналы | BA24: % | BB24: Звонки вход. | BC24: Звонки исход. | BD24: Неголосовые тикеты | BE24: Чаты | BF24: Агенты вход. | BG24: Агенты исход. | BH24: Агенты Неголос. Тикеты | BI24: Агенты чаты | BJ24: Агенты в линии ВСЕГО | BK24: SL Вход. | BL24: SL Чаты | BM24: ASA вход., sec | BN24: AR Вход. | BO24: OCC Все каналы | BR24: % | BS24: Звонки вход. | BT24: Звонки исход. | BU24: Неголосовые тикеты | BV24: Чаты | BW24: Агенты вход. | BX24: Агенты исход. | BY24: Агенты Неголос. Тикеты | BZ24: Агенты чаты | CA24: Агенты в линии ВСЕГО | CB24: SL Вход. | CC24: SL Чаты | CD24: ASA вход., sec | CE24: AR Вход. | CF24: OCC Все каналы | CI24: % | CJ24: Звонки вход. | CK24: Звонки исход. | CL24: Неголосовые тикеты | CM24: Чаты | CN24: Агенты вход. | CO24: Агенты исход. | CP24: Агенты Неголос. Тикеты | CQ24: Агенты чаты | CR24: Агенты в линии ВСЕГО | CS24: SL Вход. | CT24: SL Чаты | CU24: ASA вход., sec | CV24: AR Вход. | CW24: OCC Все каналы | CZ24: % | DA24: Звонки вход. | DB24: Звонки исход. | DC24: Неголосовые тикеты | DD24: Чаты | DE24: Агенты вход. | DF24: Агенты исход. | DG24: Агенты Неголос. Тикеты | DH24: Агенты чаты | DI24: Агенты в линии ВСЕГО | DJ24: SL Вход. | DK24: SL Чаты | DL24: ASA вход., sec | DM24: AR Вход. | DN24: OCC Все каналы | DQ24: % | DR24: Звонки вход. | DS24: Звонки исход. | DT24: Неголосовые тикеты | DU24: Чаты | DV24: Агенты вход. | DW24: Агенты исход. | DX24: Агенты Неголос. Тикеты | DY24: Агенты чаты | DZ24: Агенты в линии ВСЕГО | EA24: SL Вход. | EB24: SL Чаты | EC24: ASA вход., sec | ED24: AR Вход. | EE24: OCC Все каналы | EH24: % | EI24: Звонки вход. | EJ24: Звонки исход. | EK24: Неголосовые тикеты | EL24: Чаты | EM24: Агенты вход. | EN24: Агенты исход. | EO24: Агенты Неголос. Тикеты | EP24: Агенты чаты | EQ24: Агенты в линии ВСЕГО | ER24: SL Вход. | ES24: SL Чаты | ET24: ASA вход., sec | EU24: AR Вход. | EV24: OCC Все каналы | EY24: % | EZ24: Звонки вход. | FA24: Звонки исход. | FB24: Неголосовые тикеты | FC24: Чаты | FD24: Агенты вход. | FE24: Агенты исход. | FF24: Агенты Неголос. Тикеты | FG24: Агенты чаты | FH24: Агенты в линии ВСЕГО | FI24: SL Вход. | FJ24: SL Чаты | FK24: ASA вход., sec | FL24: AR Вход. | FM24: OCC Все каналы | FP24: % | FQ24: Звонки вход. | FR24: Звонки исход. | FS24: Неголосовые тикеты | FT24: Чаты | FU24: Агенты вход. | FV24: Агенты исход. | FW24: Агенты Неголос. Тикеты | FX24: Агенты чаты | FY24: Агенты в линии ВСЕГО | FZ24: SL Вход. | GA24: SL Чаты | GB24: ASA вход., sec | GC24: AR Вход. | GD24: OCC Все каналы | GG24: % | GH24: Звонки вход. | GI24: Звонки исход. | GJ24: Неголосовые тикеты | GK24: Чаты | GL24: Агенты вход. | GM24: Агенты исход. | GN24: Агенты Неголос. Тикеты | GO24: Агенты чаты | GP24: Агенты в линии ВСЕГО | GQ24: SL Вход. | GR24: SL Чаты | GS24: ASA вход., sec | GT24: AR Вход. | GU24: OCC Все каналы
B25: =SUM(B26:B49) -> 1 | C25: =C3/A1 -> 0 | D25: =C4/A1*A4 -> 154.83871 | E25: =C5/A1 -> 0 | F25: =C6/A1 -> 2070.9677 | G25: =SUM(G26:G49) -> 15 | H25: =SUM(H26:H49) -> 41.623309 | I25: =SUM(I26:I49) -> 0 | J25: =SUM(J26:J49) -> 330 | K25: =SUM(K26:K49) -> 386.62331 | L25: =SUMPRODUCT(C26:C49,L26:L49)/C25 -> #DIV/0! | M25: =SUMPRODUCT(F26:F49,M26:M49)/F25 -> 0.6729398 | N25: =SUMPRODUCT(C26:C49,N26:N49)/C25 -> #DIV/0! | O25: =SUMPRODUCT(C26:C49,O26:O49)/C25 -> #DIV/0! | P25: =SUMPRODUCT(K26:K49,P26:P49)/K25 -> 0.73601929 | S25: =SUM(S26:S49) -> 1 | T25: =T3/R1 -> 0 | U25: =T4/R1*R4 -> 142.85714 | V25: =T5/R1 -> 0 | W25: =T6/R1 -> 2103.5714 | X25: =SUM(X26:X49) -> 15 | Y25: =SUM(Y26:Y49) -> 42.669398 | Z25: =SUM(Z26:Z49) -> 0 | AA25: =SUM(AA26:AA49) -> 368 | AB25: =SUM(AB26:AB49) -> 425.6694 | AC25: =SUMPRODUCT(T26:T49,AC26:AC49)/T25 -> #DIV/0! | AD25: =SUMPRODUCT(W26:W49,AD26:AD49)/W25 -> 0.67967835 | AE25: =SUMPRODUCT(T26:T49,AE26:AE49)/T25 -> #DIV/0! | AF25: =SUMPRODUCT(T26:T49,AF26:AF49)/T25 -> #DIV/0! | AG25: =SUMPRODUCT(AB26:AB49,AG26:AG49)/AB25 -> 0.75013902 | AJ25: =SUM(AJ26:AJ49) -> 1 | AK25: =AK3/AI1 -> 0 | AL25: =AK4/AI1*AI4 -> 160 | AM25: =AK5/AI1 -> 0 | AN25: =AK6/AI1 -> 1967.7419 | AO25: =SUM(AO26:AO49) -> 15 | AP25: =SUM(AP26:AP49) -> 47.789725 | AQ25: =SUM(AQ26:AQ49) -> 0 | AR25: =SUM(AR26:AR49) -> 353 | AS25: =SUM(AS26:AS49) -> 415.78973 | AT25: =SUMPRODUCT(AK26:AK49,AT26:AT49)/AK25 -> #DIV/0! | AU25: =SUMPRODUCT(AN26:AN49,AU26:AU49)/AN25 -> 0.67240605 | AV25: =SUMPRODUCT(AK26:AK49,AV26:AV49)/AK25 -> #DIV/0! | AW25: =SUMPRODUCT(AK26:AK49,AW26:AW49)/AK25 -> #DIV/0! | AX25: =SUMPRODUCT(AS26:AS49,AX26:AX49)/AS25 -> 0.74021227 | BA25: =SUM(BA26:BA49) -> 1 | BB25: =BB3/AZ1 -> 0 | BC25: =BB4/AZ1*AZ4 -> 152 | BD25: =BB5/AZ1 -> 0 | BE25: =BB6/AZ1 -> 1866.6667 | BF25: =SUM(BF26:BF49) -> 15 | BG25: =SUM(BG26:BG49) -> 45.400239 | BH25: =SUM(BH26:BH49) -> 0 | BI25: =SUM(BI26:BI49) -> 332 | BJ25: =SUM(BJ26:BJ49) -> 392.40024 | BK25: =SUMPRODUCT(BB26:BB49,BK26:BK49)/BB25 -> #DIV/0! | BL25: =SUMPRODUCT(BE26:BE49,BL26:BL49)/BE25 -> 0.67523782 | BM25: =SUMPRODUCT(BB26:BB49,BM26:BM49)/BB25 -> #DIV/0! | BN25: =SUMPRODUCT(BB26:BB49,BN26:BN49)/BB25 -> #DIV/0! | BO25: =SUMPRODUCT(BJ26:BJ49,BO26:BO49)/BJ25 -> 0.73281188 | BR25: =SUM(BR26:BR49) -> 1 | BS25: =BS3/BQ1 -> 0 | BT25: =BS4/BQ1*BQ4 -> 141.93548 | BU25: =BS5/BQ1 -> 0 | BV25: =BS6/BQ1 -> 1725.8065 | BW25: =SUM(BW26:BW49) -> 15 | BX25: =SUM(BX26:BX49) -> 42.394111 | BY25: =SUM(BY26:BY49) -> 0 | BZ25: =SUM(BZ26:BZ49) -> 309 | CA25: =SUM(CA26:CA49) -> 366.39411 | CB25: =SUMPRODUCT(BS26:BS49,CB26:CB49)/BS25 -> #DIV/0! | CC25: =SUMPRODUCT(BV26:BV49,CC26:CC49)/BV25 -> 0.65799682 | CD25: =SUMPRODUCT(BS26:BS49,CD26:CD49)/BS25 -> #DIV/0! | CE25: =SUMPRODUCT(BS26:BS49,CE26:CE49)/BS25 -> #DIV/0! | CF25: =SUMPRODUCT(CA26:CA49,CF26:CF49)/CA25 -> 0.72624156 | CI25: =SUM(CI26:CI49) -> 1 | CJ25: =CJ3/CH1 -> 0 | CK25: =CJ4/CH1*CH4 -> 152 | CL25: =CJ5/CH1 -> 0 | CM25: =CJ6/CH1 -> 2116.6667 | CN25: =SUM(CN26:CN49) -> 15 | CO25: =SUM(CO26:CO49) -> 45.400239 | CP25: =SUM(CP26:CP49) -> 0 | CQ25: =SUM(CQ26:CQ49) -> 375 | CR25: =SUM(CR26:CR49) -> 435.40024 | CS25: =SUMPRODUCT(CJ26:CJ49,CS26:CS49)/CJ25 -> #DIV/0! | CT25: =SUMPRODUCT(CM26:CM49,CT26:CT49)/CM25 -> 0.65803422 | CU25: =SUMPRODUCT(CJ26:CJ49,CU26:CU49)/CJ25 -> #DIV/0! | CV25: =SUMPRODUCT(CJ26:CJ49,CV26:CV49)/CJ25 -> #DIV/0! | CW25: =SUMPRODUCT(CR26:CR49,CW26:CW49)/CR25 -> 0.75267365 | CZ25: =SUM(CZ26:CZ49) -> 1 | DA25: =DA3/CY1 -> 0 | DB25: =DA4/CY1*CY4 -> 141.93548 | DC25: =DA5/CY1 -> 0 | DD25: =DA6/CY1 -> 1967.7419 | DE25: =SUM(DE26:DE49) -> 15 | DF25: =SUM(DF26:DF49) -> 42.394111 | DG25: =SUM(DG26:DG49) -> 0 | DH25: =SUM(DH26:DH49) -> 346 | DI25: =SUM(DI26:DI49) -> 403.39411 | DJ25: =SUMPRODUCT(DA26:DA49,DJ26:DJ49)/DA25 -> #DIV/0! | DK25: =SUMPRODUCT(DD26:DD49,DK26:DK49)/DD25 -> 0.65783395 | DL25: =SUMPRODUCT(DA26:DA49,DL26:DL49)/DA25 -> #DIV/0! | DM25: =SUMPRODUCT(DA26:DA49,DM26:DM49)/DA25 -> #DIV/0! | DN25: =SUMPRODUCT(DI26:DI49,DN26:DN49)/DI25 -> 0.74387998 | DQ25: =SUM(DQ26:DQ49) -> 1 | DR25: =DR3/DP1 -> 0 | DS25: =DR4/DP1*DP4 -> 129.03226 | DT25: =DR5/DP1 -> 0 | DU25: =DR6/DP1 -> 1935.4839 | DV25: =SUM(DV26:DV49) -> 15 | DW25: =SUM(DW26:DW49) -> 38.540101 | DX25: =SUM(DX26:DX49) -> 0 | DY25: =SUM(DY26:DY49) -> 344 | DZ25: =SUM(DZ26:DZ49) -> 397.5401 | EA25: =SUMPRODUCT(DR26:DR49,EA26:EA49)/DR25 -> #DIV/0! | EB25: =SUMPRODUCT(DU26:DU49,EB26:EB49)/DU25 -> 0.68108135 | EC25: =SUMPRODUCT(DR26:DR49,EC26:EC49)/DR25 -> #DIV/0! | ED25: =SUMPRODUCT(DR26:DR49,ED26:ED49)/DR25 -> #DIV/0! | EE25: =SUMPRODUCT(DZ26:DZ49,EE26:EE49)/DZ25 -> 0.73802561 | EH25: =SUM(EH26:EH49) -> 1 | EI25: =EI3/EG1 -> 0 | EJ25: =EI4/EG1*EG4 -> 133.33333 | EK25: =EI5/EG1 -> 0 | EL25: =EI6/EG1 -> 1966.6667 | EM25: =SUM(EM26:EM49) -> 15 | EN25: =SUM(EN26:EN49) -> 39.824771 | EO25: =SUM(EO26:EO49) -> 0 | EP25: =SUM(EP26:EP49) -> 346 | EQ25: =SUM(EQ26:EQ49) -> 400.82477 | ER25: =SUMPRODUCT(EI26:EI49,ER26:ER49)/EI25 -> #DIV/0! | ES25: =SUMPRODUCT(EL26:EL49,ES26:ES49)/EL25 -> 0.65935783 | ET25: =SUMPRODUCT(EI26:EI49,ET26:ET49)/EI25 -> #DIV/0! | EU25: =SUMPRODUCT(EI26:EI49,EU26:EU49)/EI25 -> #DIV/0! | EV25: =SUMPRODUCT(EQ26:EQ49,EV26:EV49)/EQ25 -> 0.74469465 | EY25: =SUM(EY26:EY49) -> 1 | EZ25: =EZ3/EX1 -> 0 | FA25: =EZ4/EX1*EX4 -> 141.93548 | FB25: =EZ5/EX1 -> 0 | FC25: =EZ6/EX1 -> 1935.4839 | FD25: =SUM(FD26:FD49) -> 15 | FE25: =SUM(FE26:FE49) -> 42.394111 | FF25: =SUM(FF26:FF49) -> 0 | FG25: =SUM(FG26:FG49) -> 344 | FH25: =SUM(FH26:FH49) -> 401.39411 | FI25: =SUMPRODUCT(EZ26:EZ49,FI26:FI49)/EZ25 -> #DIV/0! | FJ25: =SUMPRODUCT(FC26:FC49,FJ26:FJ49)/FC25 -> 0.68108135 | FK25: =SUMPRODUCT(EZ26:EZ49,FK26:FK49)/EZ25 -> #DIV/0! | FL25: =SUMPRODUCT(EZ26:EZ49,FL26:FL49)/EZ25 -> #DIV/0! | FM25: =SUMPRODUCT(FH26:FH49,FM26:FM49)/FH25 -> 0.73629709 | FP25: =SUM(FP26:FP49) -> 1 | FQ25: =FQ3/FO1 -> 0 | FR25: =FQ4/FO1*FO4 -> 133.33333 | FS25: =FQ5/FO1 -> 0 | FT25: =FQ6/FO1 -> 1900 | FU25: =SUM(FU26:FU49) -> 15 | FV25: =SUM(FV26:FV49) -> 39.824771 | FW25: =SUM(FW26:FW49) -> 0 | FX25: =SUM(FX26:FX49) -> 339 | FY25: =SUM(FY26:FY49) -> 393.82477 | FZ25: =SUMPRODUCT(FQ26:FQ49,FZ26:FZ49)/FQ25 -> #DIV/0! | GA25: =SUMPRODUCT(FT26:FT49,GA26:GA49)/FT25 -> 0.68757336 | GB25: =SUMPRODUCT(FQ26:FQ49,GB26:GB49)/FQ25 -> #DIV/0! | GC25: =SUMPRODUCT(FQ26:FQ49,GC26:GC49)/FQ25 -> #DIV/0! | GD25: =SUMPRODUCT(FY26:FY49,GD26:GD49)/FY25 -> 0.73415134 | GG25: =SUM(GG26:GG49) -> 1 | GH25: =GH3/GF1 -> 0 | GI25: =GH4/GF1*GF4 -> 129.03226 | GJ25: =GH5/GF1 -> 0 | GK25: =GH6/GF1 -> 1903.2258 | GL25: =SUM(GL26:GL49) -> 15 | GM25: =SUM(GM26:GM49) -> 38.540101 | GN25: =SUM(GN26:GN49) -> 0 | GO25: =SUM(GO26:GO49) -> 340 | GP25: =SUM(GP26:GP49) -> 393.5401 | GQ25: =SUMPRODUCT(GH26:GH49,GQ26:GQ49)/GH25 -> #DIV/0! | GR25: =SUMPRODUCT(GK26:GK49,GR26:GR49)/GK25 -> 0.68954224 | GS25: =SUMPRODUCT(GH26:GH49,GS26:GS49)/GH25 -> #DIV/0! | GT25: =SUMPRODUCT(GH26:GH49,GT26:GT49)/GH25 -> #DIV/0! | GU25: =SUMPRODUCT(GP26:GP49,GU26:GU49)/GP25 -> 0.73401233
A26: 0 | R26: 0 | AI26: 0 | AZ26: 0 | BQ26: 0 | CH26: 0 | CY26: 0 | DP26: 0 | EG26: 0 | EX26: 0 | FO26: 0 | GF26: 0
A27: 0.041666667 | R27: 0.041666667 | AI27: 0.041666667 | AZ27: 0.041666667 | BQ27: 0.041666667 | CH27: 0.041666667 | CY27: 0.041666667 | DP27: 0.041666667 | EG27: 0.041666667 | EX27: 0.041666667 | FO27: 0.041666667 | GF27: 0.041666667
A28: 0.083333333 | R28: 0.083333333 | AI28: 0.083333333 | AZ28: 0.083333333 | BQ28: 0.083333333 | CH28: 0.083333333 | CY28: 0.083333333 | DP28: 0.083333333 | EG28: 0.083333333 | EX28: 0.083333333 | FO28: 0.083333333 | GF28: 0.083333333
A29: 0.125 | R29: 0.125 | AI29: 0.125 | AZ29: 0.125 | BQ29: 0.125 | CH29: 0.125 | CY29: 0.125 | DP29: 0.125 | EG29: 0.125 | EX29: 0.125 | FO29: 0.125 | GF29: 0.125
A30: 0.16666667 | R30: 0.16666667 | AI30: 0.16666667 | AZ30: 0.16666667 | BQ30: 0.16666667 | CH30: 0.16666667 | CY30: 0.16666667 | DP30: 0.16666667 | EG30: 0.16666667 | EX30: 0.16666667 | FO30: 0.16666667 | GF30: 0.16666667
A31: 0.20833333 | R31: 0.20833333 | AI31: 0.20833333 | AZ31: 0.20833333 | BQ31: 0.20833333 | CH31: 0.20833333 | CY31: 0.20833333 | DP31: 0.20833333 | EG31: 0.20833333 | EX31: 0.20833333 | FO31: 0.20833333 | GF31: 0.20833333
A32: 0.25 | R32: 0.25 | AI32: 0.25 | AZ32: 0.25 | BQ32: 0.25 | CH32: 0.25 | CY32: 0.25 | DP32: 0.25 | EG32: 0.25 | EX32: 0.25 | FO32: 0.25 | GF32: 0.25
A33: 0.29166667 | R33: 0.29166667 | AI33: 0.29166667 | AZ33: 0.29166667 | BQ33: 0.29166667 | CH33: 0.29166667 | CY33: 0.29166667 | DP33: 0.29166667 | EG33: 0.29166667 | EX33: 0.29166667 | FO33: 0.29166667 | GF33: 0.29166667
A34: 0.33333333 | B34: 0.029211151 | C34: =C$25*B34 -> 0 | D34: =D$25/15 -> 10.322581 | E34: =E$25*B34 -> 0 | F34: =F$25*B34 -> 60.495352 | G34: =[1]!ErlangC_Agents(C34/60,D$3,0.9,E$3/60) -> 1 | H34: =(D34*D$4)/(60*(1-C$16)*0.6) -> 2.7748873 | I34: =(E34*D$5)/(60*(1-C$16)*0.75) -> 0 | J34: =[1]!ErlangC_Agents(F34/60/C$7,D$6,0.8,E$6/60) -> 11 | K34: =SUM(G34:J34) -> 14.774887 | L34: =[1]!ErlangC_ServiceLevel(C34/60,D$3,G34*(1-C$16),E$3/60) -> 1 | M34: =[1]!ErlangC_ServiceLevel(F34/60/C$7,D$6,J34*(1-C$16),E$6/60) -> 0.70932841 | N34: =[1]!ErlangC_ASA(C34/60,D$3,G34*(1-C$16))*60 -> 0 | O34: =[2]!Abandon(G34,F$3,C34,D$3*60) -> 0 | P34: =(C34*D$3+D34*D$4+E34*D$5+F34/C$7*D$6)/(K34*60) -> 0.62148186 | R34: 0.33333333 | S34: 0.029211151 | T34: =T$25*S34 -> 0 | U34: =U$25/15 -> 9.5238095 | V34: =V$25*S34 -> 0 | W34: =W$25*S34 -> 61.447744 | X34: =[1]!ErlangC_Agents(T34/60,U$3,0.9,V$3/60) -> 1 | Y34: =(U34*U$4)/(60*(1-T$16)*0.6) -> 2.8446265 | Z34: =(V34*U$5)/(60*(1-T$16)*0.75) -> 0 | AA34: =[1]!ErlangC_Agents(W34/60/T$7,U$6,0.8,V$6/60) -> 12 | AB34: =SUM(X34:AA34) -> 15.844627 | AC34: =[1]!ErlangC_ServiceLevel(T34/60,U$3,X34*(1-T$16),V$3/60) -> 1 | AD34: =[1]!ErlangC_ServiceLevel(W34/60/T$7,U$6,AA34*(1-T$16),V$6/60) -> 0.68560047 | AE34: =[1]!ErlangC_ASA(T34/60,U$3,X34*(1-T$16))*60 -> 0 | AF34: =[2]!Abandon(X34,W$3,T34,U$3*60) -> 0 | AG34: =(T34*U$3+U34*U$4+V34*U$5+W34/T$7*U$6)/(AB34*60) -> 0.64496607 | AI34: 0.33333333 | AJ34: 0.029211151 | AK34: =AK$25*AJ34 -> 0 | AL34: =AL$25/15 -> 10.666667 | AM34: =AM$25*AJ34 -> 0 | AN34: =AN$25*AJ34 -> 57.480008 | AO34: =[1]!ErlangC_Agents(AK34/60,AL$3,0.9,AM$3/60) -> 1 | AP34: =(AL34*AL$4)/(60*(1-AK$16)*0.6) -> 3.1859817 | AQ34: =(AM34*AL$5)/(60*(1-AK$16)*0.75) -> 0 | AR34: =[1]!ErlangC_Agents(AN34/60/AK$7,AL$6,0.8,AM$6/60) -> 12 | AS34: =SUM(AO34:AR34) -> 16.185982 | AT34: =[1]!ErlangC_ServiceLevel(AK34/60,AL$3,AO34*(1-AK$16),AM$3/60) -> 1 | AU34: =[1]!ErlangC_ServiceLevel(AN34/60/AK$7,AL$6,AR34*(1-AK$16),AM$6/60) -> 0.75747261 | AV34: =[1]!ErlangC_ASA(AK34/60,AL$3,AO34*(1-AK$16))*60 -> 0 | AW34: =[2]!Abandon(AO34,AN$3,AK34,AL$3*60) -> 0 | AX34: =(AK34*AL$3+AL34*AL$4+AM34*AL$5+AN34/AK$7*AL$6)/(AS34*60) -> 0.61715178 | AZ34: 0.33333333 | BA34: 0.029211151 | BB34: =BB$25*BA34 -> 0 | BC34: =BC$25/15 -> 10.133333 | BD34: =BD$25*BA34 -> 0 | BE34: =BE$25*BA34 -> 54.527483 | BF34: =[1]!ErlangC_Agents(BB34/60,BC$3,0.9,BD$3/60) -> 1 | BG34: =(BC34*BC$4)/(60*(1-BB$16)*0.6) -> 3.0266826 | BH34: =(BD34*BC$5)/(60*(1-BB$16)*0.75) -> 0 | BI34: =[1]!ErlangC_Agents(BE34/60/BB$7,BC$6,0.8,BD$6/60) -> 11 | BJ34: =SUM(BF34:BI34) -> 15.026683 | BK34: =[1]!ErlangC_ServiceLevel(BB34/60,BC$3,BF34*(1-BB$16),BD$3/60) -> 1 | BL34: =[1]!ErlangC_ServiceLevel(BE34/60/BB$7,BC$6,BI34*(1-BB$16),BD$6/60) -> 0.70041264 | BM34: =[1]!ErlangC_ASA(BB34/60,BC$3,BF34*(1-BB$16))*60 -> 0 | BN34: =[2]!Abandon(BF34,BE$3,BB34,BC$3*60) -> 0 | BO34: =(BB34*BC$3+BC34*BC$4+BD34*BC$5+BE34/BB$7*BC$6)/(BJ34*60) -> 0.62214011 | BQ34: 0.33333333 | BR34: 0.029211151 | BS34: =BS$25*BR34 -> 0 | BT34: =BT$25/15 -> 9.4623656 | BU34: =BU$25*BR34 -> 0 | BV34: =BV$25*BR34 -> 50.412794 | BW34: =[1]!ErlangC_Agents(BS34/60,BT$3,0.9,BU$3/60) -> 1 | BX34: =(BT34*BT$4)/(60*(1-BS$16)*0.6) -> 2.8262741 | BY34: =(BU34*BT$5)/(60*(1-BS$16)*0.75) -> 0 | BZ34: =[1]!ErlangC_Agents(BV34/60/BS$7,BT$6,0.8,BU$6/60) -> 11 | CA34: =SUM(BW34:BZ34) -> 14.826274 | CB34: =[1]!ErlangC_ServiceLevel(BS34/60,BT$3,BW34*(1-BS$16),BU$3/60) -> 1 | CC34: =[1]!ErlangC_ServiceLevel(BV34/60/BS$7,BT$6,BZ34*(1-BS$16),BU$6/60) -> 0.79789233 | CD34: =[1]!ErlangC_ASA(BS34/60,BT$3,BW34*(1-BS$16))*60 -> 0 | CE34: =[2]!Abandon(BW34,BV$3,BS34,BT$3*60) -> 0 | CF34: =(BS34*BT$3+BT34*BT$4+BU34*BT$5+BV34/BS$7*BT$6)/(CA34*60) -> 0.58402118 | CH34: 0.33333333 | CI34: 0.029211151 | CJ34: =CJ$25*CI34 -> 0 | CK34: =CK$25/15 -> 10.133333 | CL34: =CL$25*CI34 -> 0 | CM34: =CM$25*CI34 -> 61.830271 | CN34: =[1]!ErlangC_Agents(CJ34/60,CK$3,0.9,CL$3/60) -> 1 | CO34: =(CK34*CK$4)/(60*(1-CJ$16)*0.6) -> 3.0266826 | CP34: =(CL34*CK$5)/(60*(1-CJ$16)*0.75) -> 0 | CQ34: =[1]!ErlangC_Agents(CM34/60/CJ$7,CK$6,0.8,CL$6/60) -> 13 | CR34: =SUM(CN34:CQ34) -> 17.026683 | CS34: =[1]!ErlangC_ServiceLevel(CJ34/60,CK$3,CN34*(1-CJ$16),CL$3/60) -> 1 | CT34: =[1]!ErlangC_ServiceLevel(CM34/60/CJ$7,CK$6,CQ34*(1-CJ$16),CL$6/60) -> 0.79417733 | CU34: =[1]!ErlangC_ASA(CJ34/60,CK$3,CN34*(1-CJ$16))*60 -> 0 | CV34: =[2]!Abandon(CN34,CM$3,CJ34,CK$3*60) -> 0 | CW34: =(CJ34*CK$3+CK34*CK$4+CL34*CK$5+CM34/CJ$7*CK$6)/(CR34*60) -> 0.61795859 | CY34: 0.33333333 | CZ34: 0.029211151 | DA34: =DA$25*CZ34 -> 0 | DB34: =DB$25/15 -> 9.4623656 | DC34: =DC$25*CZ34 -> 0 | DD34: =DD$25*CZ34 -> 57.480008 | DE34: =[1]!ErlangC_Agents(DA34/60,DB$3,0.9,DC$3/60) -> 1 | DF34: =(DB34*DB$4)/(60*(1-DA$16)*0.6) -> 2.8262741 | DG34: =(DC34*DB$5)/(60*(1-DA$16)*0.75) -> 0 | DH34: =[1]!ErlangC_Agents(DD34/60/DA$7,DB$6,0.8,DC$6/60) -> 12 | DI34: =SUM(DE34:DH34) -> 15.826274 | DJ34: =[1]!ErlangC_ServiceLevel(DA34/60,DB$3,DE34*(1-DA$16),DC$3/60) -> 1 | DK34: =[1]!ErlangC_ServiceLevel(DD34/60/DA$7,DB$6,DH34*(1-DA$16),DC$6/60) -> 0.7788845 | DL34: =[1]!ErlangC_ASA(DA34/60,DB$3,DE34*(1-DA$16))*60 -> 0 | DM34: =[2]!Abandon(DE34,DD$3,DA34,DB$3*60) -> 0 | DN34: =(DA34*DB$3+DB34*DB$4+DC34*DB$5+DD34/DA$7*DB$6)/(DI34*60) -> 0.60984875 | DP34: 0.33333333 | DQ34: 0.029211151 | DR34: =DR$25*DQ34 -> 0 | DS34: =DS$25/15 -> 8.6021505 | DT34: =DT$25*DQ34 -> 0 | DU34: =DU$25*DQ34 -> 56.537713 | DV34: =[1]!ErlangC_Agents(DR34/60,DS$3,0.9,DT$3/60) -> 1 | DW34: =(DS34*DS$4)/(60*(1-DR$16)*0.6) -> 2.5693401 | DX34: =(DT34*DS$5)/(60*(1-DR$16)*0.75) -> 0 | DY34: =[1]!ErlangC_Agents(DU34/60/DR$7,DS$6,0.8,DT$6/60) -> 12 | DZ34: =SUM(DV34:DY34) -> 15.56934 | EA34: =[1]!ErlangC_ServiceLevel(DR34/60,DS$3,DV34*(1-DR$16),DT$3/60) -> 1 | EB34: =[1]!ErlangC_ServiceLevel(DU34/60/DR$7,DS$6,DY34*(1-DR$16),DT$6/60) -> 0.79782154 | EC34: =[1]!ErlangC_ASA(DR34/60,DS$3,DV34*(1-DR$16))*60 -> 0 | ED34: =[2]!Abandon(DV34,DU$3,DR34,DS$3*60) -> 0 | EE34: =(DR34*DS$3+DS34*DS$4+DT34*DS$5+DU34/DR$7*DS$6)/(DZ34*60) -> 0.60220242 | EG34: 0.33333333 | EH34: 0.029211151 | EI34: =EI$25*EH34 -> 0 | EJ34: =EJ$25/15 -> 8.8888889 | EK34: =EK$25*EH34 -> 0 | EL34: =EL$25*EH34 -> 57.448598 | EM34: =[1]!ErlangC_Agents(EI34/60,EJ$3,0.9,EK$3/60) -> 1 | EN34: =(EJ34*EJ$4)/(60*(1-EI$16)*0.6) -> 2.6549847 | EO34: =(EK34*EJ$5)/(60*(1-EI$16)*0.75) -> 0 | EP34: =[1]!ErlangC_Agents(EL34/60/EI$7,EJ$6,0.8,EK$6/60) -> 12 | EQ34: =SUM(EM34:EP34) -> 15.654985 | ER34: =[1]!ErlangC_ServiceLevel(EI34/60,EJ$3,EM34*(1-EI$16),EK$3/60) -> 1 | ES34: =[1]!ErlangC_ServiceLevel(EL34/60/EI$7,EJ$6,EP34*(1-EI$16),EK$6/60) -> 0.77953485 | ET34: =[1]!ErlangC_ASA(EI34/60,EJ$3,EM34*(1-EI$16))*60 -> 0 | EU34: =[2]!Abandon(EM34,EL$3,EI34,EJ$3*60) -> 0 | EV34: =(EI34*EJ$3+EJ34*EJ$4+EK34*EJ$5+EL34/EI$7*EJ$6)/(EQ34*60) -> 0.61013421 | EX34: 0.33333333 | EY34: 0.029211151 | EZ34: =EZ$25*EY34 -> 0 | FA34: =FA$25/15 -> 9.4623656 | FB34: =FB$25*EY34 -> 0 | FC34: =FC$25*EY34 -> 56.537713 | FD34: =[1]!ErlangC_Agents(EZ34/60,FA$3,0.9,FB$3/60) -> 1 | FE34: =(FA34*FA$4)/(60*(1-EZ$16)*0.6) -> 2.8262741 | FF34: =(FB34*FA$5)/(60*(1-EZ$16)*0.75) -> 0 | FG34: =[1]!ErlangC_Agents(FC34/60/EZ$7,FA$6,0.8,FB$6/60) -> 12 | FH34: =SUM(FD34:FG34) -> 15.826274 | FI34: =[1]!ErlangC_ServiceLevel(EZ34/60,FA$3,FD34*(1-EZ$16),FB$3/60) -> 1 | FJ34: =[1]!ErlangC_ServiceLevel(FC34/60/EZ$7,FA$6,FG34*(1-EZ$16),FB$6/60) -> 0.79782154 | FK34: =[1]!ErlangC_ASA(EZ34/60,FA$3,FD34*(1-EZ$16))*60 -> 0 | FL34: =[2]!Abandon(FD34,FC$3,EZ34,FA$3*60) -> 0 | FM34: =(EZ34*FA$3+FA34*FA$4+FB34*FA$5+FC34/EZ$7*FA$6)/(FH34*60) -> 0.60148481 | FO34: 0.33333333 | FP34: 0.029211151 | FQ34: =FQ$25*FP34 -> 0 | FR34: =FR$25/15 -> 8.8888889 | FS34: =FS$25*FP34 -> 0 | FT34: =FT$25*FP34 -> 55.501188 | FU34: =[1]!ErlangC_Agents(FQ34/60,FR$3,0.9,FS$3/60) -> 1 | FV34: =(FR34*FR$4)/(60*(1-FQ$16)*0.6) -> 2.6549847 | FW34: =(FS34*FR$5)/(60*(1-FQ$16)*0.75) -> 0 | FX34: =[1]!ErlangC_Agents(FT34/60/FQ$7,FR$6,0.8,FS$6/60) -> 11 | FY34: =SUM(FU34:FX34) -> 14.654985 | FZ34: =[1]!ErlangC_ServiceLevel(FQ34/60,FR$3,FU34*(1-FQ$16),FS$3/60) -> 1 | GA34: =[1]!ErlangC_ServiceLevel(FT34/60/FQ$7,FR$6,FX34*(1-FQ$16),FS$6/60) -> 0.67343196 | GB34: =[1]!ErlangC_ASA(FQ34/60,FR$3,FU34*(1-FQ$16))*60 -> 0 | GC34: =[2]!Abandon(FU34,FT$3,FQ34,FR$3*60) -> 0 | GD34: =(FQ34*FR$3+FR34*FR$4+FS34*FR$5+FT34/FQ$7*FR$6)/(FY34*60) -> 0.63310041 | GF34: 0.33333333 | GG34: 0.029211151 | GH34: =GH$25*GG34 -> 0 | GI34: =GI$25/15 -> 8.6021505 | GJ34: =GJ$25*GG34 -> 0 | GK34: =GK$25*GG34 -> 55.595417 | GL34: =[1]!ErlangC_Agents(GH34/60,GI$3,0.9,GJ$3/60) -> 1 | GM34: =(GI34*GI$4)/(60*(1-GH$16)*0.6) -> 2.5693401 | GN34: =(GJ34*GI$5)/(60*(1-GH$16)*0.75) -> 0 | GO34: =[1]!ErlangC_Agents(GK34/60/GH$7,GI$6,0.8,GJ$6/60) -> 11 | GP34: =SUM(GL34:GO34) -> 14.56934 | GQ34: =[1]!ErlangC_ServiceLevel(GH34/60,GI$3,GL34*(1-GH$16),GJ$3/60) -> 1 | GR34: =[1]!ErlangC_ServiceLevel(GK34/60/GH$7,GI$6,GO34*(1-GH$16),GJ$6/60) -> 0.67073788 | GS34: =[1]!ErlangC_ASA(GH34/60,GI$3,GL34*(1-GH$16))*60 -> 0 | GT34: =[2]!Abandon(GL34,GK$3,GH34,GI$3*60) -> 0 | GU34: =(GH34*GI$3+GI34*GI$4+GJ34*GI$5+GK34/GH$7*GI$6)/(GP34*60) -> 0.63445044
A35: 0.375 | B35: 0.06364992 | C35: =C$25*B35 -> 0 | D35: =D$25/15 -> 10.322581 | E35: =E$25*B35 -> 0 | F35: =F$25*B35 -> 131.81693 | G35: =[1]!ErlangC_Agents(C35/60,D$3,0.9,E$3/60) -> 1 | H35: =(D35*D$4)/(60*(1-C$16)*0.6) -> 2.7748873 | I35: =(E35*D$5)/(60*(1-C$16)*0.75) -> 0 | J35: =[1]!ErlangC_Agents(F35/60/C$7,D$6,0.8,E$6/60) -> 21 | K35: =SUM(G35:J35) -> 24.774887 | L35: =[1]!ErlangC_ServiceLevel(C35/60,D$3,G35*(1-C$16),E$3/60) -> 1 | M35: =[1]!ErlangC_ServiceLevel(F35/60/C$7,D$6,J35*(1-C$16),E$6/60) -> 0.72414992 | N35: =[1]!ErlangC_ASA(C35/60,D$3,G35*(1-C$16))*60 -> 0 | O35: =[2]!Abandon(G35,F$3,C35,D$3*60) -> 0 | P35: =(C35*D$3+D35*D$4+E35*D$5+F35/C$7*D$6)/(K35*60) -> 0.73390559 | R35: 0.375 | S35: 0.06364992 | T35: =T$25*S35 -> 0 | U35: =U$25/15 -> 9.5238095 | V35: =V$25*S35 -> 0 | W35: =W$25*S35 -> 133.89215 | X35: =[1]!ErlangC_Agents(T35/60,U$3,0.9,V$3/60) -> 1 | Y35: =(U35*U$4)/(60*(1-T$16)*0.6) -> 2.8446265 | Z35: =(V35*U$5)/(60*(1-T$16)*0.75) -> 0 | AA35: =[1]!ErlangC_Agents(W35/60/T$7,U$6,0.8,V$6/60) -> 24 | AB35: =SUM(X35:AA35) -> 27.844627 | AC35: =[1]!ErlangC_ServiceLevel(T35/60,U$3,X35*(1-T$16),V$3/60) -> 1 | AD35: =[1]!ErlangC_ServiceLevel(W35/60/T$7,U$6,AA35*(1-T$16),V$6/60) -> 0.67773033 | AE35: =[1]!ErlangC_ASA(T35/60,U$3,X35*(1-T$16))*60 -> 0 | AF35: =[2]!Abandon(X35,W$3,T35,U$3*60) -> 0 | AG35: =(T35*U$3+U35*U$4+V35*U$5+W35/T$7*U$6)/(AB35*60) -> 0.73249182 | AI35: 0.375 | AJ35: 0.06364992 | AK35: =AK$25*AJ35 -> 0 | AL35: =AL$25/15 -> 10.666667 | AM35: =AM$25*AJ35 -> 0 | AN35: =AN$25*AJ35 -> 125.24662 | AO35: =[1]!ErlangC_Agents(AK35/60,AL$3,0.9,AM$3/60) -> 1 | AP35: =(AL35*AL$4)/(60*(1-AK$16)*0.6) -> 3.1859817 | AQ35: =(AM35*AL$5)/(60*(1-AK$16)*0.75) -> 0 | AR35: =[1]!ErlangC_Agents(AN35/60/AK$7,AL$6,0.8,AM$6/60) -> 23 | AS35: =SUM(AO35:AR35) -> 27.185982 | AT35: =[1]!ErlangC_ServiceLevel(AK35/60,AL$3,AO35*(1-AK$16),AM$3/60) -> 1 | AU35: =[1]!ErlangC_ServiceLevel(AN35/60/AK$7,AL$6,AR35*(1-AK$16),AM$6/60) -> 0.67434848 | AV35: =[1]!ErlangC_ASA(AK35/60,AL$3,AO35*(1-AK$16))*60 -> 0 | AW35: =[2]!Abandon(AO35,AN$3,AK35,AL$3*60) -> 0 | AX35: =(AK35*AL$3+AL35*AL$4+AM35*AL$5+AN35/AK$7*AL$6)/(AS35*60) -> 0.72354023 | AZ35: 0.375 | BA35: 0.06364992 | BB35: =BB$25*BA35 -> 0 | BC35: =BC$25/15 -> 10.133333 | BD35: =BD$25*BA35 -> 0 | BE35: =BE$25*BA35 -> 118.81318 | BF35: =[1]!ErlangC_Agents(BB35/60,BC$3,0.9,BD$3/60) -> 1 | BG35: =(BC35*BC$4)/(60*(1-BB$16)*0.6) -> 3.0266826 | BH35: =(BD35*BC$5)/(60*(1-BB$16)*0.75) -> 0 | BI35: =[1]!ErlangC_Agents(BE35/60/BB$7,BC$6,0.8,BD$6/60) -> 21 | BJ35: =SUM(BF35:BI35) -> 25.026683 | BK35: =[1]!ErlangC_ServiceLevel(BB35/60,BC$3,BF35*(1-BB$16),BD$3/60) -> 1 | BL35: =[1]!ErlangC_ServiceLevel(BE35/60/BB$7,BC$6,BI35*(1-BB$16),BD$6/60) -> 0.71153174 | BM35: =[1]!ErlangC_ASA(BB35/60,BC$3,BF35*(1-BB$16))*60 -> 0 | BN35: =[2]!Abandon(BF35,BE$3,BB35,BC$3*60) -> 0 | BO35: =(BB35*BC$3+BC35*BC$4+BD35*BC$5+BE35/BB$7*BC$6)/(BJ35*60) -> 0.73438868 | BQ35: 0.375 | BR35: 0.06364992 | BS35: =BS$25*BR35 -> 0 | BT35: =BT$25/15 -> 9.4623656 | BU35: =BU$25*BR35 -> 0 | BV35: =BV$25*BR35 -> 109.84744 | BW35: =[1]!ErlangC_Agents(BS35/60,BT$3,0.9,BU$3/60) -> 1 | BX35: =(BT35*BT$4)/(60*(1-BS$16)*0.6) -> 2.8262741 | BY35: =(BU35*BT$5)/(60*(1-BS$16)*0.75) -> 0 | BZ35: =[1]!ErlangC_Agents(BV35/60/BS$7,BT$6,0.8,BU$6/60) -> 20 | CA35: =SUM(BW35:BZ35) -> 23.826274 | CB35: =[1]!ErlangC_ServiceLevel(BS35/60,BT$3,BW35*(1-BS$16),BU$3/60) -> 1 | CC35: =[1]!ErlangC_ServiceLevel(BV35/60/BS$7,BT$6,BZ35*(1-BS$16),BU$6/60) -> 0.75357613 | CD35: =[1]!ErlangC_ASA(BS35/60,BT$3,BW35*(1-BS$16))*60 -> 0 | CE35: =[2]!Abandon(BW35,BV$3,BS35,BT$3*60) -> 0 | CF35: =(BS35*BT$3+BT35*BT$4+BU35*BT$5+BV35/BS$7*BT$6)/(CA35*60) -> 0.71383428 | CH35: 0.375 | CI35: 0.06364992 | CJ35: =CJ$25*CI35 -> 0 | CK35: =CK$25/15 -> 10.133333 | CL35: =CL$25*CI35 -> 0 | CM35: =CM$25*CI35 -> 134.72566 | CN35: =[1]!ErlangC_Agents(CJ35/60,CK$3,0.9,CL$3/60) -> 1 | CO35: =(CK35*CK$4)/(60*(1-CJ$16)*0.6) -> 3.0266826 | CP35: =(CL35*CK$5)/(60*(1-CJ$16)*0.75) -> 0 | CQ35: =[1]!ErlangC_Agents(CM35/60/CJ$7,CK$6,0.8,CL$6/60) -> 24 | CR35: =SUM(CN35:CQ35) -> 28.026683 | CS35: =[1]!ErlangC_ServiceLevel(CJ35/60,CK$3,CN35*(1-CJ$16),CL$3/60) -> 1 | CT35: =[1]!ErlangC_ServiceLevel(CM35/60/CJ$7,CK$6,CQ35*(1-CJ$16),CL$6/60) -> 0.61420247 | CU35: =[1]!ErlangC_ASA(CJ35/60,CK$3,CN35*(1-CJ$16))*60 -> 0 | CV35: =[2]!Abandon(CN35,CM$3,CJ35,CK$3*60) -> 0 | CW35: =(CJ35*CK$3+CK35*CK$4+CL35*CK$5+CM35/CJ$7*CK$6)/(CR35*60) -> 0.74698146 | CY35: 0.375 | CZ35: 0.06364992 | DA35: =DA$25*CZ35 -> 0 | DB35: =DB$25/15 -> 9.4623656 | DC35: =DC$25*CZ35 -> 0 | DD35: =DD$25*CZ35 -> 125.24662 | DE35: =[1]!ErlangC_Agents(DA35/60,DB$3,0.9,DC$3/60) -> 1 | DF35: =(DB35*DB$4)/(60*(1-DA$16)*0.6) -> 2.8262741 | DG35: =(DC35*DB$5)/(60*(1-DA$16)*0.75) -> 0 | DH35: =[1]!ErlangC_Agents(DD35/60/DA$7,DB$6,0.8,DC$6/60) -> 22 | DI35: =SUM(DE35:DH35) -> 25.826274 | DJ35: =[1]!ErlangC_ServiceLevel(DA35/60,DB$3,DE35*(1-DA$16),DC$3/60) -> 1 | DK35: =[1]!ErlangC_ServiceLevel(DD35/60/DA$7,DB$6,DH35*(1-DA$16),DC$6/60) -> 0.57622358 | DL35: =[1]!ErlangC_ASA(DA35/60,DB$3,DE35*(1-DA$16))*60 -> 0 | DM35: =[2]!Abandon(DE35,DD$3,DA35,DB$3*60) -> 0 | DN35: =(DA35*DB$3+DB35*DB$4+DC35*DB$5+DD35/DA$7*DB$6)/(DI35*60) -> 0.74231492 | DP35: 0.375 | DQ35: 0.06364992 | DR35: =DR$25*DQ35 -> 0 | DS35: =DS$25/15 -> 8.6021505 | DT35: =DT$25*DQ35 -> 0 | DU35: =DU$25*DQ35 -> 123.19339 | DV35: =[1]!ErlangC_Agents(DR35/60,DS$3,0.9,DT$3/60) -> 1 | DW35: =(DS35*DS$4)/(60*(1-DR$16)*0.6) -> 2.5693401 | DX35: =(DT35*DS$5)/(60*(1-DR$16)*0.75) -> 0 | DY35: =[1]!ErlangC_Agents(DU35/60/DR$7,DS$6,0.8,DT$6/60) -> 22 | DZ35: =SUM(DV35:DY35) -> 25.56934 | EA35: =[1]!ErlangC_ServiceLevel(DR35/60,DS$3,DV35*(1-DR$16),DT$3/60) -> 1 | EB35: =[1]!ErlangC_ServiceLevel(DU35/60/DR$7,DS$6,DY35*(1-DR$16),DT$6/60) -> 0.623571 | EC35: =[1]!ErlangC_ASA(DR35/60,DS$3,DV35*(1-DR$16))*60 -> 0 | ED35: =[2]!Abandon(DV35,DU$3,DR35,DS$3*60) -> 0 | EE35: =(DR35*DS$3+DS35*DS$4+DT35*DS$5+DU35/DR$7*DS$6)/(DZ35*60) -> 0.73288674 | EG35: 0.375 | EH35: 0.06364992 | EI35: =EI$25*EH35 -> 0 | EJ35: =EJ$25/15 -> 8.8888889 | EK35: =EK$25*EH35 -> 0 | EL35: =EL$25*EH35 -> 125.17818 | EM35: =[1]!ErlangC_Agents(EI35/60,EJ$3,0.9,EK$3/60) -> 1 | EN35: =(EJ35*EJ$4)/(60*(1-EI$16)*0.6) -> 2.6549847 | EO35: =(EK35*EJ$5)/(60*(1-EI$16)*0.75) -> 0 | EP35: =[1]!ErlangC_Agents(EL35/60/EI$7,EJ$6,0.8,EK$6/60) -> 22 | EQ35: =SUM(EM35:EP35) -> 25.654985 | ER35: =[1]!ErlangC_ServiceLevel(EI35/60,EJ$3,EM35*(1-EI$16),EK$3/60) -> 1 | ES35: =[1]!ErlangC_ServiceLevel(EL35/60/EI$7,EJ$6,EP35*(1-EI$16),EK$6/60) -> 0.577868 | ET35: =[1]!ErlangC_ASA(EI35/60,EJ$3,EM35*(1-EI$16))*60 -> 0 | EU35: =[2]!Abandon(EM35,EL$3,EI35,EJ$3*60) -> 0 | EV35: =(EI35*EJ$3+EJ35*EJ$4+EK35*EJ$5+EL35/EI$7*EJ$6)/(EQ35*60) -> 0.74317077 | EX35: 0.375 | EY35: 0.06364992 | EZ35: =EZ$25*EY35 -> 0 | FA35: =FA$25/15 -> 9.4623656 | FB35: =FB$25*EY35 -> 0 | FC35: =FC$25*EY35 -> 123.19339 | FD35: =[1]!ErlangC_Agents(EZ35/60,FA$3,0.9,FB$3/60) -> 1 | FE35: =(FA35*FA$4)/(60*(1-EZ$16)*0.6) -> 2.8262741 | FF35: =(FB35*FA$5)/(60*(1-EZ$16)*0.75) -> 0 | FG35: =[1]!ErlangC_Agents(FC35/60/EZ$7,FA$6,0.8,FB$6/60) -> 22 | FH35: =SUM(FD35:FG35) -> 25.826274 | FI35: =[1]!ErlangC_ServiceLevel(EZ35/60,FA$3,FD35*(1-EZ$16),FB$3/60) -> 1 | FJ35: =[1]!ErlangC_ServiceLevel(FC35/60/EZ$7,FA$6,FG35*(1-EZ$16),FB$6/60) -> 0.623571 | FK35: =[1]!ErlangC_ASA(EZ35/60,FA$3,FD35*(1-EZ$16))*60 -> 0 | FL35: =[2]!Abandon(FD35,FC$3,EZ35,FA$3*60) -> 0 | FM35: =(EZ35*FA$3+FA35*FA$4+FB35*FA$5+FC35/EZ$7*FA$6)/(FH35*60) -> 0.73114687 | FO35: 0.375 | FP35: 0.06364992 | FQ35: =FQ$25*FP35 -> 0 | FR35: =FR$25/15 -> 8.8888889 | FS35: =FS$25*FP35 -> 0 | FT35: =FT$25*FP35 -> 120.93485 | FU35: =[1]!ErlangC_Agents(FQ35/60,FR$3,0.9,FS$3/60) -> 1 | FV35: =(FR35*FR$4)/(60*(1-FQ$16)*0.6) -> 2.6549847 | FW35: =(FS35*FR$5)/(60*(1-FQ$16)*0.75) -> 0 | FX35: =[1]!ErlangC_Agents(FT35/60/FQ$7,FR$6,0.8,FS$6/60) -> 22 | FY35: =SUM(FU35:FX35) -> 25.654985 | FZ35: =[1]!ErlangC_ServiceLevel(FQ35/60,FR$3,FU35*(1-FQ$16),FS$3/60) -> 1 | GA35: =[1]!ErlangC_ServiceLevel(FT35/60/FQ$7,FR$6,FX35*(1-FQ$16),FS$6/60) -> 0.67106576 | GB35: =[1]!ErlangC_ASA(FQ35/60,FR$3,FU35*(1-FQ$16))*60 -> 0 | GC35: =[2]!Abandon(FU35,FT$3,FQ35,FR$3*60) -> 0 | GD35: =(FQ35*FR$3+FR35*FR$4+FS35*FR$5+FT35/FQ$7*FR$6)/(FY35*60) -> 0.71993604 | GF35: 0.375 | GG35: 0.06364992 | GH35: =GH$25*GG35 -> 0 | GI35: =GI$25/15 -> 8.6021505 | GJ35: =GJ$25*GG35 -> 0 | GK35: =GK$25*GG35 -> 121.14017 | GL35: =[1]!ErlangC_Agents(GH35/60,GI$3,0.9,GJ$3/60) -> 1 | GM35: =(GI35*GI$4)/(60*(1-GH$16)*0.6) -> 2.5693401 | GN35: =(GJ35*GI$5)/(60*(1-GH$16)*0.75) -> 0 | GO35: =[1]!ErlangC_Agents(GK35/60/GH$7,GI$6,0.8,GJ$6/60) -> 22 | GP35: =SUM(GL35:GO35) -> 25.56934 | GQ35: =[1]!ErlangC_ServiceLevel(GH35/60,GI$3,GL35*(1-GH$16),GJ$3/60) -> 1 | GR35: =[1]!ErlangC_ServiceLevel(GK35/60/GH$7,GI$6,GO35*(1-GH$16),GJ$6/60) -> 0.66694006 | GS35: =[1]!ErlangC_ASA(GH35/60,GI$3,GL35*(1-GH$16))*60 -> 0 | GT35: =[2]!Abandon(GL35,GK$3,GH35,GI$3*60) -> 0 | GU35: =(GH35*GI$3+GI35*GI$4+GJ35*GI$5+GK35/GH$7*GI$6)/(GP35*60) -> 0.72160647
A36: 0.41666667 | B36: 0.083880003 | C36: =C$25*B36 -> 0 | D36: =D$25/15 -> 10.322581 | E36: =E$25*B36 -> 0 | F36: =F$25*B36 -> 173.71278 | G36: =[1]!ErlangC_Agents(C36/60,D$3,0.9,E$3/60) -> 1 | H36: =(D36*D$4)/(60*(1-C$16)*0.6) -> 2.7748873 | I36: =(E36*D$5)/(60*(1-C$16)*0.75) -> 0 | J36: =[1]!ErlangC_Agents(F36/60/C$7,D$6,0.8,E$6/60) -> 27 | K36: =SUM(G36:J36) -> 30.774887 | L36: =[1]!ErlangC_ServiceLevel(C36/60,D$3,G36*(1-C$16),E$3/60) -> 1 | M36: =[1]!ErlangC_ServiceLevel(F36/60/C$7,D$6,J36*(1-C$16),E$6/60) -> 0.64504788 | N36: =[1]!ErlangC_ASA(C36/60,D$3,G36*(1-C$16))*60 -> 0 | O36: =[2]!Abandon(G36,F$3,C36,D$3*60) -> 0 | P36: =(C36*D$3+D36*D$4+E36*D$5+F36/C$7*D$6)/(K36*60) -> 0.76261159 | R36: 0.41666667 | S36: 0.083880003 | T36: =T$25*S36 -> 0 | U36: =U$25/15 -> 9.5238095 | V36: =V$25*S36 -> 0 | W36: =W$25*S36 -> 176.44758 | X36: =[1]!ErlangC_Agents(T36/60,U$3,0.9,V$3/60) -> 1 | Y36: =(U36*U$4)/(60*(1-T$16)*0.6) -> 2.8446265 | Z36: =(V36*U$5)/(60*(1-T$16)*0.75) -> 0 | AA36: =[1]!ErlangC_Agents(W36/60/T$7,U$6,0.8,V$6/60) -> 30 | AB36: =SUM(X36:AA36) -> 33.844627 | AC36: =[1]!ErlangC_ServiceLevel(T36/60,U$3,X36*(1-T$16),V$3/60) -> 1 | AD36: =[1]!ErlangC_ServiceLevel(W36/60/T$7,U$6,AA36*(1-T$16),V$6/60) -> 0.63603224 | AE36: =[1]!ErlangC_ASA(T36/60,U$3,X36*(1-T$16))*60 -> 0 | AF36: =[2]!Abandon(X36,W$3,T36,U$3*60) -> 0 | AG36: =(T36*U$3+U36*U$4+V36*U$5+W36/T$7*U$6)/(AB36*60) -> 0.77926654 | AI36: 0.41666667 | AJ36: 0.083880003 | AK36: =AK$25*AJ36 -> 0 | AL36: =AL$25/15 -> 10.666667 | AM36: =AM$25*AJ36 -> 0 | AN36: =AN$25*AJ36 -> 165.0542 | AO36: =[1]!ErlangC_Agents(AK36/60,AL$3,0.9,AM$3/60) -> 1 | AP36: =(AL36*AL$4)/(60*(1-AK$16)*0.6) -> 3.1859817 | AQ36: =(AM36*AL$5)/(60*(1-AK$16)*0.75) -> 0 | AR36: =[1]!ErlangC_Agents(AN36/60/AK$7,AL$6,0.8,AM$6/60) -> 29 | AS36: =SUM(AO36:AR36) -> 33.185982 | AT36: =[1]!ErlangC_ServiceLevel(AK36/60,AL$3,AO36*(1-AK$16),AM$3/60) -> 1 | AU36: =[1]!ErlangC_ServiceLevel(AN36/60/AK$7,AL$6,AR36*(1-AK$16),AM$6/60) -> 0.66804322 | AV36: =[1]!ErlangC_ASA(AK36/60,AL$3,AO36*(1-AK$16))*60 -> 0 | AW36: =[2]!Abandon(AO36,AN$3,AK36,AL$3*60) -> 0 | AX36: =(AK36*AL$3+AL36*AL$4+AM36*AL$5+AN36/AK$7*AL$6)/(AS36*60) -> 0.76408615 | AZ36: 0.41666667 | BA36: 0.083880003 | BB36: =BB$25*BA36 -> 0 | BC36: =BC$25/15 -> 10.133333 | BD36: =BD$25*BA36 -> 0 | BE36: =BE$25*BA36 -> 156.57601 | BF36: =[1]!ErlangC_Agents(BB36/60,BC$3,0.9,BD$3/60) -> 1 | BG36: =(BC36*BC$4)/(60*(1-BB$16)*0.6) -> 3.0266826 | BH36: =(BD36*BC$5)/(60*(1-BB$16)*0.75) -> 0 | BI36: =[1]!ErlangC_Agents(BE36/60/BB$7,BC$6,0.8,BD$6/60) -> 27 | BJ36: =SUM(BF36:BI36) -> 31.026683 | BK36: =[1]!ErlangC_ServiceLevel(BB36/60,BC$3,BF36*(1-BB$16),BD$3/60) -> 1 | BL36: =[1]!ErlangC_ServiceLevel(BE36/60/BB$7,BC$6,BI36*(1-BB$16),BD$6/60) -> 0.62842243 | BM36: =[1]!ErlangC_ASA(BB36/60,BC$3,BF36*(1-BB$16))*60 -> 0 | BN36: =[2]!Abandon(BF36,BE$3,BB36,BC$3*60) -> 0 | BO36: =(BB36*BC$3+BC36*BC$4+BD36*BC$5+BE36/BB$7*BC$6)/(BJ36*60) -> 0.76334586 | BQ36: 0.41666667 | BR36: 0.083880003 | BS36: =BS$25*BR36 -> 0 | BT36: =BT$25/15 -> 9.4623656 | BU36: =BU$25*BR36 -> 0 | BV36: =BV$25*BR36 -> 144.76065 | BW36: =[1]!ErlangC_Agents(BS36/60,BT$3,0.9,BU$3/60) -> 1 | BX36: =(BT36*BT$4)/(60*(1-BS$16)*0.6) -> 2.8262741 | BY36: =(BU36*BT$5)/(60*(1-BS$16)*0.75) -> 0 | BZ36: =[1]!ErlangC_Agents(BV36/60/BS$7,BT$6,0.8,BU$6/60) -> 25 | CA36: =SUM(BW36:BZ36) -> 28.826274 | CB36: =[1]!ErlangC_ServiceLevel(BS36/60,BT$3,BW36*(1-BS$16),BU$3/60) -> 1 | CC36: =[1]!ErlangC_ServiceLevel(BV36/60/BS$7,BT$6,BZ36*(1-BS$16),BU$6/60) -> 0.59334094 | CD36: =[1]!ErlangC_ASA(BS36/60,BT$3,BW36*(1-BS$16))*60 -> 0 | CE36: =[2]!Abandon(BW36,BV$3,BS36,BT$3*60) -> 0 | CF36: =(BS36*BT$3+BT36*BT$4+BU36*BT$5+BV36/BS$7*BT$6)/(CA36*60) -> 0.76015671 | CH36: 0.41666667 | CI36: 0.083880003 | CJ36: =CJ$25*CI36 -> 0 | CK36: =CK$25/15 -> 10.133333 | CL36: =CL$25*CI36 -> 0 | CM36: =CM$25*CI36 -> 177.54601 | CN36: =[1]!ErlangC_Agents(CJ36/60,CK$3,0.9,CL$3/60) -> 1 | CO36: =(CK36*CK$4)/(60*(1-CJ$16)*0.6) -> 3.0266826 | CP36: =(CL36*CK$5)/(60*(1-CJ$16)*0.75) -> 0 | CQ36: =[1]!ErlangC_Agents(CM36/60/CJ$7,CK$6,0.8,CL$6/60) -> 31 | CR36: =SUM(CN36:CQ36) -> 35.026683 | CS36: =[1]!ErlangC_ServiceLevel(CJ36/60,CK$3,CN36*(1-CJ$16),CL$3/60) -> 1 | CT36: =[1]!ErlangC_ServiceLevel(CM36/60/CJ$7,CK$6,CQ36*(1-CJ$16),CL$6/60) -> 0.68069274 | CU36: =[1]!ErlangC_ASA(CJ36/60,CK$3,CN36*(1-CJ$16))*60 -> 0 | CV36: =[2]!Abandon(CN36,CM$3,CJ36,CK$3*60) -> 0 | CW36: =(CJ36*CK$3+CK36*CK$4+CL36*CK$5+CM36/CJ$7*CK$6)/(CR36*60) -> 0.77234274 | CY36: 0.41666667 | CZ36: 0.083880003 | DA36: =DA$25*CZ36 -> 0 | DB36: =DB$25/15 -> 9.4623656 | DC36: =DC$25*CZ36 -> 0 | DD36: =DD$25*CZ36 -> 165.0542 | DE36: =[1]!ErlangC_Agents(DA36/60,DB$3,0.9,DC$3/60) -> 1 | DF36: =(DB36*DB$4)/(60*(1-DA$16)*0.6) -> 2.8262741 | DG36: =(DC36*DB$5)/(60*(1-DA$16)*0.75) -> 0 | DH36: =[1]!ErlangC_Agents(DD36/60/DA$7,DB$6,0.8,DC$6/60) -> 28 | DI36: =SUM(DE36:DH36) -> 31.826274 | DJ36: =[1]!ErlangC_ServiceLevel(DA36/60,DB$3,DE36*(1-DA$16),DC$3/60) -> 1 | DK36: =[1]!ErlangC_ServiceLevel(DD36/60/DA$7,DB$6,DH36*(1-DA$16),DC$6/60) -> 0.59402723 | DL36: =[1]!ErlangC_ASA(DA36/60,DB$3,DE36*(1-DA$16))*60 -> 0 | DM36: =[2]!Abandon(DE36,DD$3,DA36,DB$3*60) -> 0 | DN36: =(DA36*DB$3+DB36*DB$4+DC36*DB$5+DD36/DA$7*DB$6)/(DI36*60) -> 0.77807556 | DP36: 0.41666667 | DQ36: 0.083880003 | DR36: =DR$25*DQ36 -> 0 | DS36: =DS$25/15 -> 8.6021505 | DT36: =DT$25*DQ36 -> 0 | DU36: =DU$25*DQ36 -> 162.34839 | DV36: =[1]!ErlangC_Agents(DR36/60,DS$3,0.9,DT$3/60) -> 1 | DW36: =(DS36*DS$4)/(60*(1-DR$16)*0.6) -> 2.5693401 | DX36: =(DT36*DS$5)/(60*(1-DR$16)*0.75) -> 0 | DY36: =[1]!ErlangC_Agents(DU36/60/DR$7,DS$6,0.8,DT$6/60) -> 28 | DZ36: =SUM(DV36:DY36) -> 31.56934 | EA36: =[1]!ErlangC_ServiceLevel(DR36/60,DS$3,DV36*(1-DR$16),DT$3/60) -> 1 | EB36: =[1]!ErlangC_ServiceLevel(DU36/60/DR$7,DS$6,DY36*(1-DR$16),DT$6/60) -> 0.64695175 | EC36: =[1]!ErlangC_ASA(DR36/60,DS$3,DV36*(1-DR$16))*60 -> 0 | ED36: =[2]!Abandon(DV36,DU$3,DR36,DS$3*60) -> 0 | EE36: =(DR36*DS$3+DS36*DS$4+DT36*DS$5+DU36/DR$7*DS$6)/(DZ36*60) -> 0.76782649 | EG36: 0.41666667 | EH36: 0.083880003 | EI36: =EI$25*EH36 -> 0 | EJ36: =EJ$25/15 -> 8.8888889 | EK36: =EK$25*EH36 -> 0 | EL36: =EL$25*EH36 -> 164.96401 | EM36: =[1]!ErlangC_Agents(EI36/60,EJ$3,0.9,EK$3/60) -> 1 | EN36: =(EJ36*EJ$4)/(60*(1-EI$16)*0.6) -> 2.6549847 | EO36: =(EK36*EJ$5)/(60*(1-EI$16)*0.75) -> 0 | EP36: =[1]!ErlangC_Agents(EL36/60/EI$7,EJ$6,0.8,EK$6/60) -> 28 | EQ36: =SUM(EM36:EP36) -> 31.654985 | ER36: =[1]!ErlangC_ServiceLevel(EI36/60,EJ$3,EM36*(1-EI$16),EK$3/60) -> 1 | ES36: =[1]!ErlangC_ServiceLevel(EL36/60/EI$7,EJ$6,EP36*(1-EI$16),EK$6/60) -> 0.59588156 | ET36: =[1]!ErlangC_ASA(EI36/60,EJ$3,EM36*(1-EI$16))*60 -> 0 | EU36: =[2]!Abandon(EM36,EL$3,EI36,EJ$3*60) -> 0 | EV36: =(EI36*EJ$3+EJ36*EJ$4+EK36*EJ$5+EL36/EI$7*EJ$6)/(EQ36*60) -> 0.77886617 | EX36: 0.41666667 | EY36: 0.083880003 | EZ36: =EZ$25*EY36 -> 0 | FA36: =FA$25/15 -> 9.4623656 | FB36: =FB$25*EY36 -> 0 | FC36: =FC$25*EY36 -> 162.34839 | FD36: =[1]!ErlangC_Agents(EZ36/60,FA$3,0.9,FB$3/60) -> 1 | FE36: =(FA36*FA$4)/(60*(1-EZ$16)*0.6) -> 2.8262741 | FF36: =(FB36*FA$5)/(60*(1-EZ$16)*0.75) -> 0 | FG36: =[1]!ErlangC_Agents(FC36/60/EZ$7,FA$6,0.8,FB$6/60) -> 28 | FH36: =SUM(FD36:FG36) -> 31.826274 | FI36: =[1]!ErlangC_ServiceLevel(EZ36/60,FA$3,FD36*(1-EZ$16),FB$3/60) -> 1 | FJ36: =[1]!ErlangC_ServiceLevel(FC36/60/EZ$7,FA$6,FG36*(1-EZ$16),FB$6/60) -> 0.64695175 | FK36: =[1]!ErlangC_ASA(EZ36/60,FA$3,FD36*(1-EZ$16))*60 -> 0 | FL36: =[2]!Abandon(FD36,FC$3,EZ36,FA$3*60) -> 0 | FM36: =(EZ36*FA$3+FA36*FA$4+FB36*FA$5+FC36/EZ$7*FA$6)/(FH36*60) -> 0.76613256 | FO36: 0.41666667 | FP36: 0.083880003 | FQ36: =FQ$25*FP36 -> 0 | FR36: =FR$25/15 -> 8.8888889 | FS36: =FS$25*FP36 -> 0 | FT36: =FT$25*FP36 -> 159.37201 | FU36: =[1]!ErlangC_Agents(FQ36/60,FR$3,0.9,FS$3/60) -> 1 | FV36: =(FR36*FR$4)/(60*(1-FQ$16)*0.6) -> 2.6549847 | FW36: =(FS36*FR$5)/(60*(1-FQ$16)*0.75) -> 0 | FX36: =[1]!ErlangC_Agents(FT36/60/FQ$7,FR$6,0.8,FS$6/60) -> 28 | FY36: =SUM(FU36:FX36) -> 31.654985 | FZ36: =[1]!ErlangC_ServiceLevel(FQ36/60,FR$3,FU36*(1-FQ$16),FS$3/60) -> 1 | GA36: =[1]!ErlangC_ServiceLevel(FT36/60/FQ$7,FR$6,FX36*(1-FQ$16),FS$6/60) -> 0.69898647 | GB36: =[1]!ErlangC_ASA(FQ36/60,FR$3,FU36*(1-FQ$16))*60 -> 0 | GC36: =[2]!Abandon(FU36,FT$3,FQ36,FR$3*60) -> 0 | GD36: =(FQ36*FR$3+FR36*FR$4+FS36*FR$5+FT36/FQ$7*FR$6)/(FY36*60) -> 0.75405039 | GF36: 0.41666667 | GG36: 0.083880003 | GH36: =GH$25*GG36 -> 0 | GI36: =GI$25/15 -> 8.6021505 | GJ36: =GJ$25*GG36 -> 0 | GK36: =GK$25*GG36 -> 159.64259 | GL36: =[1]!ErlangC_Agents(GH36/60,GI$3,0.9,GJ$3/60) -> 1 | GM36: =(GI36*GI$4)/(60*(1-GH$16)*0.6) -> 2.5693401 | GN36: =(GJ36*GI$5)/(60*(1-GH$16)*0.75) -> 0 | GO36: =[1]!ErlangC_Agents(GK36/60/GH$7,GI$6,0.8,GJ$6/60) -> 28 | GP36: =SUM(GL36:GO36) -> 31.56934 | GQ36: =[1]!ErlangC_ServiceLevel(GH36/60,GI$3,GL36*(1-GH$16),GJ$3/60) -> 1 | GR36: =[1]!ErlangC_ServiceLevel(GK36/60/GH$7,GI$6,GO36*(1-GH$16),GJ$6/60) -> 0.6945119 | GS36: =[1]!ErlangC_ASA(GH36/60,GI$3,GL36*(1-GH$16))*60 -> 0 | GT36: =[2]!Abandon(GL36,GK$3,GH36,GI$3*60) -> 0 | GU36: =(GH36*GI$3+GI36*GI$4+GJ36*GI$5+GK36/GH$7*GI$6)/(GP36*60) -> 0.75578628
A37: 0.45833333 | B37: 0.094080093 | C37: =C$25*B37 -> 0 | D37: =D$25/15 -> 10.322581 | E37: =E$25*B37 -> 0 | F37: =F$25*B37 -> 194.83684 | G37: =[1]!ErlangC_Agents(C37/60,D$3,0.9,E$3/60) -> 1 | H37: =(D37*D$4)/(60*(1-C$16)*0.6) -> 2.7748873 | I37: =(E37*D$5)/(60*(1-C$16)*0.75) -> 0 | J37: =[1]!ErlangC_Agents(F37/60/C$7,D$6,0.8,E$6/60) -> 30 | K37: =SUM(G37:J37) -> 33.774887 | L37: =[1]!ErlangC_ServiceLevel(C37/60,D$3,G37*(1-C$16),E$3/60) -> 1 | M37: =[1]!ErlangC_ServiceLevel(F37/60/C$7,D$6,J37*(1-C$16),E$6/60) -> 0.66801995 | N37: =[1]!ErlangC_ASA(C37/60,D$3,G37*(1-C$16))*60 -> 0 | O37: =[2]!Abandon(G37,F$3,C37,D$3*60) -> 0 | P37: =(C37*D$3+D37*D$4+E37*D$5+F37/C$7*D$6)/(K37*60) -> 0.773798 | R37: 0.45833333 | S37: 0.094080093 | T37: =T$25*S37 -> 0 | U37: =U$25/15 -> 9.5238095 | V37: =V$25*S37 -> 0 | W37: =W$25*S37 -> 197.90419 | X37: =[1]!ErlangC_Agents(T37/60,U$3,0.9,V$3/60) -> 1 | Y37: =(U37*U$4)/(60*(1-T$16)*0.6) -> 2.8446265 | Z37: =(V37*U$5)/(60*(1-T$16)*0.75) -> 0 | AA37: =[1]!ErlangC_Agents(W37/60/T$7,U$6,0.8,V$6/60) -> 33 | AB37: =SUM(X37:AA37) -> 36.844627 | AC37: =[1]!ErlangC_ServiceLevel(T37/60,U$3,X37*(1-T$16),V$3/60) -> 1 | AD37: =[1]!ErlangC_ServiceLevel(W37/60/T$7,U$6,AA37*(1-T$16),V$6/60) -> 0.61606414 | AE37: =[1]!ErlangC_ASA(T37/60,U$3,X37*(1-T$16))*60 -> 0 | AF37: =[2]!Abandon(X37,W$3,T37,U$3*60) -> 0 | AG37: =(T37*U$3+U37*U$4+V37*U$5+W37/T$7*U$6)/(AB37*60) -> 0.7976232 | AI37: 0.45833333 | AJ37: 0.094080093 | AK37: =AK$25*AJ37 -> 0 | AL37: =AL$25/15 -> 10.666667 | AM37: =AM$25*AJ37 -> 0 | AN37: =AN$25*AJ37 -> 185.12534 | AO37: =[1]!ErlangC_Agents(AK37/60,AL$3,0.9,AM$3/60) -> 1 | AP37: =(AL37*AL$4)/(60*(1-AK$16)*0.6) -> 3.1859817 | AQ37: =(AM37*AL$5)/(60*(1-AK$16)*0.75) -> 0 | AR37: =[1]!ErlangC_Agents(AN37/60/AK$7,AL$6,0.8,AM$6/60) -> 32 | AS37: =SUM(AO37:AR37) -> 36.185982 | AT37: =[1]!ErlangC_ServiceLevel(AK37/60,AL$3,AO37*(1-AK$16),AM$3/60) -> 1 | AU37: =[1]!ErlangC_ServiceLevel(AN37/60/AK$7,AL$6,AR37*(1-AK$16),AM$6/60) -> 0.6648111 | AV37: =[1]!ErlangC_ASA(AK37/60,AL$3,AO37*(1-AK$16))*60 -> 0 | AW37: =[2]!Abandon(AO37,AN$3,AK37,AL$3*60) -> 0 | AX37: =(AK37*AL$3+AL37*AL$4+AM37*AL$5+AN37/AK$7*AL$6)/(AS37*60) -> 0.77997761 | AZ37: 0.45833333 | BA37: 0.094080093 | BB37: =BB$25*BA37 -> 0 | BC37: =BC$25/15 -> 10.133333 | BD37: =BD$25*BA37 -> 0 | BE37: =BE$25*BA37 -> 175.61617 | BF37: =[1]!ErlangC_Agents(BB37/60,BC$3,0.9,BD$3/60) -> 1 | BG37: =(BC37*BC$4)/(60*(1-BB$16)*0.6) -> 3.0266826 | BH37: =(BD37*BC$5)/(60*(1-BB$16)*0.75) -> 0 | BI37: =[1]!ErlangC_Agents(BE37/60/BB$7,BC$6,0.8,BD$6/60) -> 30 | BJ37: =SUM(BF37:BI37) -> 34.026683 | BK37: =[1]!ErlangC_ServiceLevel(BB37/60,BC$3,BF37*(1-BB$16),BD$3/60) -> 1 | BL37: =[1]!ErlangC_ServiceLevel(BE37/60/BB$7,BC$6,BI37*(1-BB$16),BD$6/60) -> 0.65102433 | BM37: =[1]!ErlangC_ASA(BB37/60,BC$3,BF37*(1-BB$16))*60 -> 0 | BN37: =[2]!Abandon(BF37,BE$3,BB37,BC$3*60) -> 0 | BO37: =(BB37*BC$3+BC37*BC$4+BD37*BC$5+BE37/BB$7*BC$6)/(BJ37*60) -> 0.7746503 | BQ37: 0.45833333 | BR37: 0.094080093 | BS37: =BS$25*BR37 -> 0 | BT37: =BT$25/15 -> 9.4623656 | BU37: =BU$25*BR37 -> 0 | BV37: =BV$25*BR37 -> 162.36403 | BW37: =[1]!ErlangC_Agents(BS37/60,BT$3,0.9,BU$3/60) -> 1 | BX37: =(BT37*BT$4)/(60*(1-BS$16)*0.6) -> 2.8262741 | BY37: =(BU37*BT$5)/(60*(1-BS$16)*0.75) -> 0 | BZ37: =[1]!ErlangC_Agents(BV37/60/BS$7,BT$6,0.8,BU$6/60) -> 28 | CA37: =SUM(BW37:BZ37) -> 31.826274 | CB37: =[1]!ErlangC_ServiceLevel(BS37/60,BT$3,BW37*(1-BS$16),BU$3/60) -> 1 | CC37: =[1]!ErlangC_ServiceLevel(BV37/60/BS$7,BT$6,BZ37*(1-BS$16),BU$6/60) -> 0.64666163 | CD37: =[1]!ErlangC_ASA(BS37/60,BT$3,BW37*(1-BS$16))*60 -> 0 | CE37: =[2]!Abandon(BW37,BV$3,BS37,BT$3*60) -> 0 | CF37: =(BS37*BT$3+BT37*BT$4+BU37*BT$5+BV37/BS$7*BT$6)/(CA37*60) -> 0.76620158 | CH37: 0.45833333 | CI37: 0.094080093 | CJ37: =CJ$25*CI37 -> 0 | CK37: =CK$25/15 -> 10.133333 | CL37: =CL$25*CI37 -> 0 | CM37: =CM$25*CI37 -> 199.1362 | CN37: =[1]!ErlangC_Agents(CJ37/60,CK$3,0.9,CL$3/60) -> 1 | CO37: =(CK37*CK$4)/(60*(1-CJ$16)*0.6) -> 3.0266826 | CP37: =(CL37*CK$5)/(60*(1-CJ$16)*0.75) -> 0 | CQ37: =[1]!ErlangC_Agents(CM37/60/CJ$7,CK$6,0.8,CL$6/60) -> 34 | CR37: =SUM(CN37:CQ37) -> 38.026683 | CS37: =[1]!ErlangC_ServiceLevel(CJ37/60,CK$3,CN37*(1-CJ$16),CL$3/60) -> 1 | CT37: =[1]!ErlangC_ServiceLevel(CM37/60/CJ$7,CK$6,CQ37*(1-CJ$16),CL$6/60) -> 0.65298225 | CU37: =[1]!ErlangC_ASA(CJ37/60,CK$3,CN37*(1-CJ$16))*60 -> 0 | CV37: =[2]!Abandon(CN37,CM$3,CJ37,CK$3*60) -> 0 | CW37: =(CJ37*CK$3+CK37*CK$4+CL37*CK$5+CM37/CJ$7*CK$6)/(CR37*60) -> 0.79252027 | CY37: 0.45833333 | CZ37: 0.094080093 | DA37: =DA$25*CZ37 -> 0 | DB37: =DB$25/15 -> 9.4623656 | DC37: =DC$25*CZ37 -> 0 | DD37: =DD$25*CZ37 -> 185.12534 | DE37: =[1]!ErlangC_Agents(DA37/60,DB$3,0.9,DC$3/60) -> 1 | DF37: =(DB37*DB$4)/(60*(1-DA$16)*0.6) -> 2.8262741 | DG37: =(DC37*DB$5)/(60*(1-DA$16)*0.75) -> 0 | DH37: =[1]!ErlangC_Agents(DD37/60/DA$7,DB$6,0.8,DC$6/60) -> 31 | DI37: =SUM(DE37:DH37) -> 34.826274 | DJ37: =[1]!ErlangC_ServiceLevel(DA37/60,DB$3,DE37*(1-DA$16),DC$3/60) -> 1 | DK37: =[1]!ErlangC_ServiceLevel(DD37/60/DA$7,DB$6,DH37*(1-DA$16),DC$6/60) -> 0.60042604 | DL37: =[1]!ErlangC_ASA(DA37/60,DB$3,DE37*(1-DA$16))*60 -> 0 | DM37: =[2]!Abandon(DE37,DD$3,DA37,DB$3*60) -> 0 | DN37: =(DA37*DB$3+DB37*DB$4+DC37*DB$5+DD37/DA$7*DB$6)/(DI37*60) -> 0.79201019 | DP37: 0.45833333 | DQ37: 0.094080093 | DR37: =DR$25*DQ37 -> 0 | DS37: =DS$25/15 -> 8.6021505 | DT37: =DT$25*DQ37 -> 0 | DU37: =DU$25*DQ37 -> 182.0905 | DV37: =[1]!ErlangC_Agents(DR37/60,DS$3,0.9,DT$3/60) -> 1 | DW37: =(DS37*DS$4)/(60*(1-DR$16)*0.6) -> 2.5693401 | DX37: =(DT37*DS$5)/(60*(1-DR$16)*0.75) -> 0 | DY37: =[1]!ErlangC_Agents(DU37/60/DR$7,DS$6,0.8,DT$6/60) -> 31 | DZ37: =SUM(DV37:DY37) -> 34.56934 | EA37: =[1]!ErlangC_ServiceLevel(DR37/60,DS$3,DV37*(1-DR$16),DT$3/60) -> 1 | EB37: =[1]!ErlangC_ServiceLevel(DU37/60/DR$7,DS$6,DY37*(1-DR$16),DT$6/60) -> 0.65593545 | EC37: =[1]!ErlangC_ASA(DR37/60,DS$3,DV37*(1-DR$16))*60 -> 0 | ED37: =[2]!Abandon(DV37,DU$3,DR37,DS$3*60) -> 0 | EE37: =(DR37*DS$3+DS37*DS$4+DT37*DS$5+DU37/DR$7*DS$6)/(DZ37*60) -> 0.78141705 | EG37: 0.45833333 | EH37: 0.094080093 | EI37: =EI$25*EH37 -> 0 | EJ37: =EJ$25/15 -> 8.8888889 | EK37: =EK$25*EH37 -> 0 | EL37: =EL$25*EH37 -> 185.02418 | EM37: =[1]!ErlangC_Agents(EI37/60,EJ$3,0.9,EK$3/60) -> 1 | EN37: =(EJ37*EJ$4)/(60*(1-EI$16)*0.6) -> 2.6549847 | EO37: =(EK37*EJ$5)/(60*(1-EI$16)*0.75) -> 0 | EP37: =[1]!ErlangC_Agents(EL37/60/EI$7,EJ$6,0.8,EK$6/60) -> 31 | EQ37: =SUM(EM37:EP37) -> 34.654985 | ER37: =[1]!ErlangC_ServiceLevel(EI37/60,EJ$3,EM37*(1-EI$16),EK$3/60) -> 1 | ES37: =[1]!ErlangC_ServiceLevel(EL37/60/EI$7,EJ$6,EP37*(1-EI$16),EK$6/60) -> 0.60237894 | ET37: =[1]!ErlangC_ASA(EI37/60,EJ$3,EM37*(1-EI$16))*60 -> 0 | EU37: =[2]!Abandon(EM37,EL$3,EI37,EJ$3*60) -> 0 | EV37: =(EI37*EJ$3+EJ37*EJ$4+EK37*EJ$5+EL37/EI$7*EJ$6)/(EQ37*60) -> 0.79275677 | EX37: 0.45833333 | EY37: 0.094080093 | EZ37: =EZ$25*EY37 -> 0 | FA37: =FA$25/15 -> 9.4623656 | FB37: =FB$25*EY37 -> 0 | FC37: =FC$25*EY37 -> 182.0905 | FD37: =[1]!ErlangC_Agents(EZ37/60,FA$3,0.9,FB$3/60) -> 1 | FE37: =(FA37*FA$4)/(60*(1-EZ$16)*0.6) -> 2.8262741 | FF37: =(FB37*FA$5)/(60*(1-EZ$16)*0.75) -> 0 | FG37: =[1]!ErlangC_Agents(FC37/60/EZ$7,FA$6,0.8,FB$6/60) -> 31 | FH37: =SUM(FD37:FG37) -> 34.826274 | FI37: =[1]!ErlangC_ServiceLevel(EZ37/60,FA$3,FD37*(1-EZ$16),FB$3/60) -> 1 | FJ37: =[1]!ErlangC_ServiceLevel(FC37/60/EZ$7,FA$6,FG37*(1-EZ$16),FB$6/60) -> 0.65593545 | FK37: =[1]!ErlangC_ASA(EZ37/60,FA$3,FD37*(1-EZ$16))*60 -> 0 | FL37: =[2]!Abandon(FD37,FC$3,EZ37,FA$3*60) -> 0 | FM37: =(EZ37*FA$3+FA37*FA$4+FB37*FA$5+FC37/EZ$7*FA$6)/(FH37*60) -> 0.77976877 | FO37: 0.45833333 | FP37: 0.094080093 | FQ37: =FQ$25*FP37 -> 0 | FR37: =FR$25/15 -> 8.8888889 | FS37: =FS$25*FP37 -> 0 | FT37: =FT$25*FP37 -> 178.75218 | FU37: =[1]!ErlangC_Agents(FQ37/60,FR$3,0.9,FS$3/60) -> 1 | FV37: =(FR37*FR$4)/(60*(1-FQ$16)*0.6) -> 2.6549847 | FW37: =(FS37*FR$5)/(60*(1-FQ$16)*0.75) -> 0 | FX37: =[1]!ErlangC_Agents(FT37/60/FQ$7,FR$6,0.8,FS$6/60) -> 31 | FY37: =SUM(FU37:FX37) -> 34.654985 | FZ37: =[1]!ErlangC_ServiceLevel(FQ37/60,FR$3,FU37*(1-FQ$16),FS$3/60) -> 1 | GA37: =[1]!ErlangC_ServiceLevel(FT37/60/FQ$7,FR$6,FX37*(1-FQ$16),FS$6/60) -> 0.70999962 | GB37: =[1]!ErlangC_ASA(FQ37/60,FR$3,FU37*(1-FQ$16))*60 -> 0 | GC37: =[2]!Abandon(FU37,FT$3,FQ37,FR$3*60) -> 0 | GD37: =(FQ37*FR$3+FR37*FR$4+FS37*FR$5+FT37/FQ$7*FR$6)/(FY37*60) -> 0.76733279 | GF37: 0.45833333 | GG37: 0.094080093 | GH37: =GH$25*GG37 -> 0 | GI37: =GI$25/15 -> 8.6021505 | GJ37: =GJ$25*GG37 -> 0 | GK37: =GK$25*GG37 -> 179.05566 | GL37: =[1]!ErlangC_Agents(GH37/60,GI$3,0.9,GJ$3/60) -> 1 | GM37: =(GI37*GI$4)/(60*(1-GH$16)*0.6) -> 2.5693401 | GN37: =(GJ37*GI$5)/(60*(1-GH$16)*0.75) -> 0 | GO37: =[1]!ErlangC_Agents(GK37/60/GH$7,GI$6,0.8,GJ$6/60) -> 31 | GP37: =SUM(GL37:GO37) -> 34.56934 | GQ37: =[1]!ErlangC_ServiceLevel(GH37/60,GI$3,GL37*(1-GH$16),GJ$3/60) -> 1 | GR37: =[1]!ErlangC_ServiceLevel(GK37/60/GH$7,GI$6,GO37*(1-GH$16),GJ$6/60) -> 0.70537269 | GS37: =[1]!ErlangC_ASA(GH37/60,GI$3,GL37*(1-GH$16))*60 -> 0 | GT37: =[2]!Abandon(GL37,GK$3,GH37,GI$3*60) -> 0 | GU37: =(GH37*GI$3+GI37*GI$4+GJ37*GI$5+GK37/GH$7*GI$6)/(GP37*60) -> 0.76908465
A38: 0.5 | B38: 0.094391935 | C38: =C$25*B38 -> 0 | D38: =D$25/15 -> 10.322581 | E38: =E$25*B38 -> 0 | F38: =F$25*B38 -> 195.48265 | G38: =[1]!ErlangC_Agents(C38/60,D$3,0.9,E$3/60) -> 1 | H38: =(D38*D$4)/(60*(1-C$16)*0.6) -> 2.7748873 | I38: =(E38*D$5)/(60*(1-C$16)*0.75) -> 0 | J38: =[1]!ErlangC_Agents(F38/60/C$7,D$6,0.8,E$6/60) -> 30 | K38: =SUM(G38:J38) -> 33.774887 | L38: =[1]!ErlangC_ServiceLevel(C38/60,D$3,G38*(1-C$16),E$3/60) -> 1 | M38: =[1]!ErlangC_ServiceLevel(F38/60/C$7,D$6,J38*(1-C$16),E$6/60) -> 0.65788202 | N38: =[1]!ErlangC_ASA(C38/60,D$3,G38*(1-C$16))*60 -> 0 | O38: =[2]!Abandon(G38,F$3,C38,D$3*60) -> 0 | P38: =(C38*D$3+D38*D$4+E38*D$5+F38/C$7*D$6)/(K38*60) -> 0.77621091 | R38: 0.5 | S38: 0.094391935 | T38: =T$25*S38 -> 0 | U38: =U$25/15 -> 9.5238095 | V38: =V$25*S38 -> 0 | W38: =W$25*S38 -> 198.56018 | X38: =[1]!ErlangC_Agents(T38/60,U$3,0.9,V$3/60) -> 1 | Y38: =(U38*U$4)/(60*(1-T$16)*0.6) -> 2.8446265 | Z38: =(V38*U$5)/(60*(1-T$16)*0.75) -> 0 | AA38: =[1]!ErlangC_Agents(W38/60/T$7,U$6,0.8,V$6/60) -> 34 | AB38: =SUM(X38:AA38) -> 37.844627 | AC38: =[1]!ErlangC_ServiceLevel(T38/60,U$3,X38*(1-T$16),V$3/60) -> 1 | AD38: =[1]!ErlangC_ServiceLevel(W38/60/T$7,U$6,AA38*(1-T$16),V$6/60) -> 0.71482648 | AE38: =[1]!ErlangC_ASA(T38/60,U$3,X38*(1-T$16))*60 -> 0 | AF38: =[2]!Abandon(X38,W$3,T38,U$3*60) -> 0 | AG38: =(T38*U$3+U38*U$4+V38*U$5+W38/T$7*U$6)/(AB38*60) -> 0.7789819 | AI38: 0.5 | AJ38: 0.094391935 | AK38: =AK$25*AJ38 -> 0 | AL38: =AL$25/15 -> 10.666667 | AM38: =AM$25*AJ38 -> 0 | AN38: =AN$25*AJ38 -> 185.73897 | AO38: =[1]!ErlangC_Agents(AK38/60,AL$3,0.9,AM$3/60) -> 1 | AP38: =(AL38*AL$4)/(60*(1-AK$16)*0.6) -> 3.1859817 | AQ38: =(AM38*AL$5)/(60*(1-AK$16)*0.75) -> 0 | AR38: =[1]!ErlangC_Agents(AN38/60/AK$7,AL$6,0.8,AM$6/60) -> 32 | AS38: =SUM(AO38:AR38) -> 36.185982 | AT38: =[1]!ErlangC_ServiceLevel(AK38/60,AL$3,AO38*(1-AK$16),AM$3/60) -> 1 | AU38: =[1]!ErlangC_ServiceLevel(AN38/60/AK$7,AL$6,AR38*(1-AK$16),AM$6/60) -> 0.65431252 | AV38: =[1]!ErlangC_ASA(AK38/60,AL$3,AO38*(1-AK$16))*60 -> 0 | AW38: =[2]!Abandon(AO38,AN$3,AK38,AL$3*60) -> 0 | AX38: =(AK38*AL$3+AL38*AL$4+AM38*AL$5+AN38/AK$7*AL$6)/(AS38*60) -> 0.78240012 | AZ38: 0.5 | BA38: 0.094391935 | BB38: =BB$25*BA38 -> 0 | BC38: =BC$25/15 -> 10.133333 | BD38: =BD$25*BA38 -> 0 | BE38: =BE$25*BA38 -> 176.19828 | BF38: =[1]!ErlangC_Agents(BB38/60,BC$3,0.9,BD$3/60) -> 1 | BG38: =(BC38*BC$4)/(60*(1-BB$16)*0.6) -> 3.0266826 | BH38: =(BD38*BC$5)/(60*(1-BB$16)*0.75) -> 0 | BI38: =[1]!ErlangC_Agents(BE38/60/BB$7,BC$6,0.8,BD$6/60) -> 30 | BJ38: =SUM(BF38:BI38) -> 34.026683 | BK38: =[1]!ErlangC_ServiceLevel(BB38/60,BC$3,BF38*(1-BB$16),BD$3/60) -> 1 | BL38: =[1]!ErlangC_ServiceLevel(BE38/60/BB$7,BC$6,BI38*(1-BB$16),BD$6/60) -> 0.64057785 | BM38: =[1]!ErlangC_ASA(BB38/60,BC$3,BF38*(1-BB$16))*60 -> 0 | BN38: =[2]!Abandon(BF38,BE$3,BB38,BC$3*60) -> 0 | BO38: =(BB38*BC$3+BC38*BC$4+BD38*BC$5+BE38/BB$7*BC$6)/(BJ38*60) -> 0.77705347 | BQ38: 0.5 | BR38: 0.094391935 | BS38: =BS$25*BR38 -> 0 | BT38: =BT$25/15 -> 9.4623656 | BU38: =BU$25*BR38 -> 0 | BV38: =BV$25*BR38 -> 162.90221 | BW38: =[1]!ErlangC_Agents(BS38/60,BT$3,0.9,BU$3/60) -> 1 | BX38: =(BT38*BT$4)/(60*(1-BS$16)*0.6) -> 2.8262741 | BY38: =(BU38*BT$5)/(60*(1-BS$16)*0.75) -> 0 | BZ38: =[1]!ErlangC_Agents(BV38/60/BS$7,BT$6,0.8,BU$6/60) -> 28 | CA38: =SUM(BW38:BZ38) -> 31.826274 | CB38: =[1]!ErlangC_ServiceLevel(BS38/60,BT$3,BW38*(1-BS$16),BU$3/60) -> 1 | CC38: =[1]!ErlangC_ServiceLevel(BV38/60/BS$7,BT$6,BZ38*(1-BS$16),BU$6/60) -> 0.6365675 | CD38: =[1]!ErlangC_ASA(BS38/60,BT$3,BW38*(1-BS$16))*60 -> 0 | CE38: =[2]!Abandon(BW38,BV$3,BS38,BT$3*60) -> 0 | CF38: =(BS38*BT$3+BT38*BT$4+BU38*BT$5+BV38/BS$7*BT$6)/(CA38*60) -> 0.76857702 | CH38: 0.5 | CI38: 0.094391935 | CJ38: =CJ$25*CI38 -> 0 | CK38: =CK$25/15 -> 10.133333 | CL38: =CL$25*CI38 -> 0 | CM38: =CM$25*CI38 -> 199.79626 | CN38: =[1]!ErlangC_Agents(CJ38/60,CK$3,0.9,CL$3/60) -> 1 | CO38: =(CK38*CK$4)/(60*(1-CJ$16)*0.6) -> 3.0266826 | CP38: =(CL38*CK$5)/(60*(1-CJ$16)*0.75) -> 0 | CQ38: =[1]!ErlangC_Agents(CM38/60/CJ$7,CK$6,0.8,CL$6/60) -> 34 | CR38: =SUM(CN38:CQ38) -> 38.026683 | CS38: =[1]!ErlangC_ServiceLevel(CJ38/60,CK$3,CN38*(1-CJ$16),CL$3/60) -> 1 | CT38: =[1]!ErlangC_ServiceLevel(CM38/60/CJ$7,CK$6,CQ38*(1-CJ$16),CL$6/60) -> 0.64172907 | CU38: =[1]!ErlangC_ASA(CJ38/60,CK$3,CN38*(1-CJ$16))*60 -> 0 | CV38: =[2]!Abandon(CN38,CM$3,CJ38,CK$3*60) -> 0 | CW38: =(CJ38*CK$3+CK38*CK$4+CL38*CK$5+CM38/CJ$7*CK$6)/(CR38*60) -> 0.79499999 | CY38: 0.5 | CZ38: 0.094391935 | DA38: =DA$25*CZ38 -> 0 | DB38: =DB$25/15 -> 9.4623656 | DC38: =DC$25*CZ38 -> 0 | DD38: =DD$25*CZ38 -> 185.73897 | DE38: =[1]!ErlangC_Agents(DA38/60,DB$3,0.9,DC$3/60) -> 1 | DF38: =(DB38*DB$4)/(60*(1-DA$16)*0.6) -> 2.8262741 | DG38: =(DC38*DB$5)/(60*(1-DA$16)*0.75) -> 0 | DH38: =[1]!ErlangC_Agents(DD38/60/DA$7,DB$6,0.8,DC$6/60) -> 32 | DI38: =SUM(DE38:DH38) -> 35.826274 | DJ38: =[1]!ErlangC_ServiceLevel(DA38/60,DB$3,DE38*(1-DA$16),DC$3/60) -> 1 | DK38: =[1]!ErlangC_ServiceLevel(DD38/60/DA$7,DB$6,DH38*(1-DA$16),DC$6/60) -> 0.70579053 | DL38: =[1]!ErlangC_ASA(DA38/60,DB$3,DE38*(1-DA$16))*60 -> 0 | DM38: =[2]!Abandon(DE38,DD$3,DA38,DB$3*60) -> 0 | DN38: =(DA38*DB$3+DB38*DB$4+DC38*DB$5+DD38/DA$7*DB$6)/(DI38*60) -> 0.77230927 | DP38: 0.5 | DQ38: 0.094391935 | DR38: =DR$25*DQ38 -> 0 | DS38: =DS$25/15 -> 8.6021505 | DT38: =DT$25*DQ38 -> 0 | DU38: =DU$25*DQ38 -> 182.69407 | DV38: =[1]!ErlangC_Agents(DR38/60,DS$3,0.9,DT$3/60) -> 1 | DW38: =(DS38*DS$4)/(60*(1-DR$16)*0.6) -> 2.5693401 | DX38: =(DT38*DS$5)/(60*(1-DR$16)*0.75) -> 0 | DY38: =[1]!ErlangC_Agents(DU38/60/DR$7,DS$6,0.8,DT$6/60) -> 31 | DZ38: =SUM(DV38:DY38) -> 34.56934 | EA38: =[1]!ErlangC_ServiceLevel(DR38/60,DS$3,DV38*(1-DR$16),DT$3/60) -> 1 | EB38: =[1]!ErlangC_ServiceLevel(DU38/60/DR$7,DS$6,DY38*(1-DR$16),DT$6/60) -> 0.64539382 | EC38: =[1]!ErlangC_ASA(DR38/60,DS$3,DV38*(1-DR$16))*60 -> 0 | ED38: =[2]!Abandon(DV38,DU$3,DR38,DS$3*60) -> 0 | EE38: =(DR38*DS$3+DS38*DS$4+DT38*DS$5+DU38/DR$7*DS$6)/(DZ38*60) -> 0.78386971 | EG38: 0.5 | EH38: 0.094391935 | EI38: =EI$25*EH38 -> 0 | EJ38: =EJ$25/15 -> 8.8888889 | EK38: =EK$25*EH38 -> 0 | EL38: =EL$25*EH38 -> 185.63747 | EM38: =[1]!ErlangC_Agents(EI38/60,EJ$3,0.9,EK$3/60) -> 1 | EN38: =(EJ38*EJ$4)/(60*(1-EI$16)*0.6) -> 2.6549847 | EO38: =(EK38*EJ$5)/(60*(1-EI$16)*0.75) -> 0 | EP38: =[1]!ErlangC_Agents(EL38/60/EI$7,EJ$6,0.8,EK$6/60) -> 32 | EQ38: =SUM(EM38:EP38) -> 35.654985 | ER38: =[1]!ErlangC_ServiceLevel(EI38/60,EJ$3,EM38*(1-EI$16),EK$3/60) -> 1 | ES38: =[1]!ErlangC_ServiceLevel(EL38/60/EI$7,EJ$6,EP38*(1-EI$16),EK$6/60) -> 0.70731723 | ET38: =[1]!ErlangC_ASA(EI38/60,EJ$3,EM38*(1-EI$16))*60 -> 0 | EU38: =[2]!Abandon(EM38,EL$3,EI38,EJ$3*60) -> 0 | EV38: =(EI38*EJ$3+EJ38*EJ$4+EK38*EJ$5+EL38/EI$7*EJ$6)/(EQ38*60) -> 0.77293895 | EX38: 0.5 | EY38: 0.094391935 | EZ38: =EZ$25*EY38 -> 0 | FA38: =FA$25/15 -> 9.4623656 | FB38: =FB$25*EY38 -> 0 | FC38: =FC$25*EY38 -> 182.69407 | FD38: =[1]!ErlangC_Agents(EZ38/60,FA$3,0.9,FB$3/60) -> 1 | FE38: =(FA38*FA$4)/(60*(1-EZ$16)*0.6) -> 2.8262741 | FF38: =(FB38*FA$5)/(60*(1-EZ$16)*0.75) -> 0 | FG38: =[1]!ErlangC_Agents(FC38/60/EZ$7,FA$6,0.8,FB$6/60) -> 31 | FH38: =SUM(FD38:FG38) -> 34.826274 | FI38: =[1]!ErlangC_ServiceLevel(EZ38/60,FA$3,FD38*(1-EZ$16),FB$3/60) -> 1 | FJ38: =[1]!ErlangC_ServiceLevel(FC38/60/EZ$7,FA$6,FG38*(1-EZ$16),FB$6/60) -> 0.64539382 | FK38: =[1]!ErlangC_ASA(EZ38/60,FA$3,FD38*(1-EZ$16))*60 -> 0 | FL38: =[2]!Abandon(FD38,FC$3,EZ38,FA$3*60) -> 0 | FM38: =(EZ38*FA$3+FA38*FA$4+FB38*FA$5+FC38/EZ$7*FA$6)/(FH38*60) -> 0.78220333 | FO38: 0.5 | FP38: 0.094391935 | FQ38: =FQ$25*FP38 -> 0 | FR38: =FR$25/15 -> 8.8888889 | FS38: =FS$25*FP38 -> 0 | FT38: =FT$25*FP38 -> 179.34468 | FU38: =[1]!ErlangC_Agents(FQ38/60,FR$3,0.9,FS$3/60) -> 1 | FV38: =(FR38*FR$4)/(60*(1-FQ$16)*0.6) -> 2.6549847 | FW38: =(FS38*FR$5)/(60*(1-FQ$16)*0.75) -> 0 | FX38: =[1]!ErlangC_Agents(FT38/60/FQ$7,FR$6,0.8,FS$6/60) -> 31 | FY38: =SUM(FU38:FX38) -> 34.654985 | FZ38: =[1]!ErlangC_ServiceLevel(FQ38/60,FR$3,FU38*(1-FQ$16),FS$3/60) -> 1 | GA38: =[1]!ErlangC_ServiceLevel(FT38/60/FQ$7,FR$6,FX38*(1-FQ$16),FS$6/60) -> 0.70091402 | GB38: =[1]!ErlangC_ASA(FQ38/60,FR$3,FU38*(1-FQ$16))*60 -> 0 | GC38: =[2]!Abandon(FU38,FT$3,FQ38,FR$3*60) -> 0 | GD38: =(FQ38*FR$3+FR38*FR$4+FS38*FR$5+FT38/FQ$7*FR$6)/(FY38*60) -> 0.76973453 | GF38: 0.5 | GG38: 0.094391935 | GH38: =GH$25*GG38 -> 0 | GI38: =GI$25/15 -> 8.6021505 | GJ38: =GJ$25*GG38 -> 0 | GK38: =GK$25*GG38 -> 179.64917 | GL38: =[1]!ErlangC_Agents(GH38/60,GI$3,0.9,GJ$3/60) -> 1 | GM38: =(GI38*GI$4)/(60*(1-GH$16)*0.6) -> 2.5693401 | GN38: =(GJ38*GI$5)/(60*(1-GH$16)*0.75) -> 0 | GO38: =[1]!ErlangC_Agents(GK38/60/GH$7,GI$6,0.8,GJ$6/60) -> 31 | GP38: =SUM(GL38:GO38) -> 34.56934 | GQ38: =[1]!ErlangC_ServiceLevel(GH38/60,GI$3,GL38*(1-GH$16),GJ$3/60) -> 1 | GR38: =[1]!ErlangC_ServiceLevel(GK38/60/GH$7,GI$6,GO38*(1-GH$16),GJ$6/60) -> 0.69616102 | GS38: =[1]!ErlangC_ASA(GH38/60,GI$3,GL38*(1-GH$16))*60 -> 0 | GT38: =[2]!Abandon(GL38,GK$3,GH38,GI$3*60) -> 0 | GU38: =(GH38*GI$3+GI38*GI$4+GJ38*GI$5+GK38/GH$7*GI$6)/(GP38*60) -> 0.77149643
A39: 0.54166667 | B39: 0.083619189 | C39: =C$25*B39 -> 0 | D39: =D$25/15 -> 10.322581 | E39: =E$25*B39 -> 0 | F39: =F$25*B39 -> 173.17264 | G39: =[1]!ErlangC_Agents(C39/60,D$3,0.9,E$3/60) -> 1 | H39: =(D39*D$4)/(60*(1-C$16)*0.6) -> 2.7748873 | I39: =(E39*D$5)/(60*(1-C$16)*0.75) -> 0 | J39: =[1]!ErlangC_Agents(F39/60/C$7,D$6,0.8,E$6/60) -> 27 | K39: =SUM(G39:J39) -> 30.774887 | L39: =[1]!ErlangC_ServiceLevel(C39/60,D$3,G39*(1-C$16),E$3/60) -> 1 | M39: =[1]!ErlangC_ServiceLevel(F39/60/C$7,D$6,J39*(1-C$16),E$6/60) -> 0.65426121 | N39: =[1]!ErlangC_ASA(C39/60,D$3,G39*(1-C$16))*60 -> 0 | O39: =[2]!Abandon(G39,F$3,C39,D$3*60) -> 0 | P39: =(C39*D$3+D39*D$4+E39*D$5+F39/C$7*D$6)/(K39*60) -> 0.76039679 | R39: 0.54166667 | S39: 0.083619189 | T39: =T$25*S39 -> 0 | U39: =U$25/15 -> 9.5238095 | V39: =V$25*S39 -> 0 | W39: =W$25*S39 -> 175.89894 | X39: =[1]!ErlangC_Agents(T39/60,U$3,0.9,V$3/60) -> 1 | Y39: =(U39*U$4)/(60*(1-T$16)*0.6) -> 2.8446265 | Z39: =(V39*U$5)/(60*(1-T$16)*0.75) -> 0 | AA39: =[1]!ErlangC_Agents(W39/60/T$7,U$6,0.8,V$6/60) -> 30 | AB39: =SUM(X39:AA39) -> 33.844627 | AC39: =[1]!ErlangC_ServiceLevel(T39/60,U$3,X39*(1-T$16),V$3/60) -> 1 | AD39: =[1]!ErlangC_ServiceLevel(W39/60/T$7,U$6,AA39*(1-T$16),V$6/60) -> 0.64597899 | AE39: =[1]!ErlangC_ASA(T39/60,U$3,X39*(1-T$16))*60 -> 0 | AF39: =[2]!Abandon(X39,W$3,T39,U$3*60) -> 0 | AG39: =(T39*U$3+U39*U$4+V39*U$5+W39/T$7*U$6)/(AB39*60) -> 0.77698934 | AI39: 0.54166667 | AJ39: 0.083619189 | AK39: =AK$25*AJ39 -> 0 | AL39: =AL$25/15 -> 10.666667 | AM39: =AM$25*AJ39 -> 0 | AN39: =AN$25*AJ39 -> 164.54098 | AO39: =[1]!ErlangC_Agents(AK39/60,AL$3,0.9,AM$3/60) -> 1 | AP39: =(AL39*AL$4)/(60*(1-AK$16)*0.6) -> 3.1859817 | AQ39: =(AM39*AL$5)/(60*(1-AK$16)*0.75) -> 0 | AR39: =[1]!ErlangC_Agents(AN39/60/AK$7,AL$6,0.8,AM$6/60) -> 29 | AS39: =SUM(AO39:AR39) -> 33.185982 | AT39: =[1]!ErlangC_ServiceLevel(AK39/60,AL$3,AO39*(1-AK$16),AM$3/60) -> 1 | AU39: =[1]!ErlangC_ServiceLevel(AN39/60/AK$7,AL$6,AR39*(1-AK$16),AM$6/60) -> 0.6770103 | AV39: =[1]!ErlangC_ASA(AK39/60,AL$3,AO39*(1-AK$16))*60 -> 0 | AW39: =[2]!Abandon(AO39,AN$3,AK39,AL$3*60) -> 0 | AX39: =(AK39*AL$3+AL39*AL$4+AM39*AL$5+AN39/AK$7*AL$6)/(AS39*60) -> 0.7618769 | AZ39: 0.54166667 | BA39: 0.083619189 | BB39: =BB$25*BA39 -> 0 | BC39: =BC$25/15 -> 10.133333 | BD39: =BD$25*BA39 -> 0 | BE39: =BE$25*BA39 -> 156.08915 | BF39: =[1]!ErlangC_Agents(BB39/60,BC$3,0.9,BD$3/60) -> 1 | BG39: =(BC39*BC$4)/(60*(1-BB$16)*0.6) -> 3.0266826 | BH39: =(BD39*BC$5)/(60*(1-BB$16)*0.75) -> 0 | BI39: =[1]!ErlangC_Agents(BE39/60/BB$7,BC$6,0.8,BD$6/60) -> 27 | BJ39: =SUM(BF39:BI39) -> 31.026683 | BK39: =[1]!ErlangC_ServiceLevel(BB39/60,BC$3,BF39*(1-BB$16),BD$3/60) -> 1 | BL39: =[1]!ErlangC_ServiceLevel(BE39/60/BB$7,BC$6,BI39*(1-BB$16),BD$6/60) -> 0.63789073 | BM39: =[1]!ErlangC_ASA(BB39/60,BC$3,BF39*(1-BB$16))*60 -> 0 | BN39: =[2]!Abandon(BF39,BE$3,BB39,BC$3*60) -> 0 | BO39: =(BB39*BC$3+BC39*BC$4+BD39*BC$5+BE39/BB$7*BC$6)/(BJ39*60) -> 0.76114159 | BQ39: 0.54166667 | BR39: 0.083619189 | BS39: =BS$25*BR39 -> 0 | BT39: =BT$25/15 -> 9.4623656 | BU39: =BU$25*BR39 -> 0 | BV39: =BV$25*BR39 -> 144.31054 | BW39: =[1]!ErlangC_Agents(BS39/60,BT$3,0.9,BU$3/60) -> 1 | BX39: =(BT39*BT$4)/(60*(1-BS$16)*0.6) -> 2.8262741 | BY39: =(BU39*BT$5)/(60*(1-BS$16)*0.75) -> 0 | BZ39: =[1]!ErlangC_Agents(BV39/60/BS$7,BT$6,0.8,BU$6/60) -> 25 | CA39: =SUM(BW39:BZ39) -> 28.826274 | CB39: =[1]!ErlangC_ServiceLevel(BS39/60,BT$3,BW39*(1-BS$16),BU$3/60) -> 1 | CC39: =[1]!ErlangC_ServiceLevel(BV39/60/BS$7,BT$6,BZ39*(1-BS$16),BU$6/60) -> 0.60308654 | CD39: =[1]!ErlangC_ASA(BS39/60,BT$3,BW39*(1-BS$16))*60 -> 0 | CE39: =[2]!Abandon(BW39,BV$3,BS39,BT$3*60) -> 0 | CF39: =(BS39*BT$3+BT39*BT$4+BU39*BT$5+BV39/BS$7*BT$6)/(CA39*60) -> 0.75796321 | CH39: 0.54166667 | CI39: 0.083619189 | CJ39: =CJ$25*CI39 -> 0 | CK39: =CK$25/15 -> 10.133333 | CL39: =CL$25*CI39 -> 0 | CM39: =CM$25*CI39 -> 176.99395 | CN39: =[1]!ErlangC_Agents(CJ39/60,CK$3,0.9,CL$3/60) -> 1 | CO39: =(CK39*CK$4)/(60*(1-CJ$16)*0.6) -> 3.0266826 | CP39: =(CL39*CK$5)/(60*(1-CJ$16)*0.75) -> 0 | CQ39: =[1]!ErlangC_Agents(CM39/60/CJ$7,CK$6,0.8,CL$6/60) -> 31 | CR39: =SUM(CN39:CQ39) -> 35.026683 | CS39: =[1]!ErlangC_ServiceLevel(CJ39/60,CK$3,CN39*(1-CJ$16),CL$3/60) -> 1 | CT39: =[1]!ErlangC_ServiceLevel(CM39/60/CJ$7,CK$6,CQ39*(1-CJ$16),CL$6/60) -> 0.68973592 | CU39: =[1]!ErlangC_ASA(CJ39/60,CK$3,CN39*(1-CJ$16))*60 -> 0 | CV39: =[2]!Abandon(CN39,CM$3,CJ39,CK$3*60) -> 0 | CW39: =(CJ39*CK$3+CK39*CK$4+CL39*CK$5+CM39/CJ$7*CK$6)/(CR39*60) -> 0.77009117 | CY39: 0.54166667 | CZ39: 0.083619189 | DA39: =DA$25*CZ39 -> 0 | DB39: =DB$25/15 -> 9.4623656 | DC39: =DC$25*CZ39 -> 0 | DD39: =DD$25*CZ39 -> 164.54098 | DE39: =[1]!ErlangC_Agents(DA39/60,DB$3,0.9,DC$3/60) -> 1 | DF39: =(DB39*DB$4)/(60*(1-DA$16)*0.6) -> 2.8262741 | DG39: =(DC39*DB$5)/(60*(1-DA$16)*0.75) -> 0 | DH39: =[1]!ErlangC_Agents(DD39/60/DA$7,DB$6,0.8,DC$6/60) -> 28 | DI39: =SUM(DE39:DH39) -> 31.826274 | DJ39: =[1]!ErlangC_ServiceLevel(DA39/60,DB$3,DE39*(1-DA$16),DC$3/60) -> 1 | DK39: =[1]!ErlangC_ServiceLevel(DD39/60/DA$7,DB$6,DH39*(1-DA$16),DC$6/60) -> 0.60449422 | DL39: =[1]!ErlangC_ASA(DA39/60,DB$3,DE39*(1-DA$16))*60 -> 0 | DM39: =[2]!Abandon(DE39,DD$3,DA39,DB$3*60) -> 0 | DN39: =(DA39*DB$3+DB39*DB$4+DC39*DB$5+DD39/DA$7*DB$6)/(DI39*60) -> 0.77581031 | DP39: 0.54166667 | DQ39: 0.083619189 | DR39: =DR$25*DQ39 -> 0 | DS39: =DS$25/15 -> 8.6021505 | DT39: =DT$25*DQ39 -> 0 | DU39: =DU$25*DQ39 -> 161.84359 | DV39: =[1]!ErlangC_Agents(DR39/60,DS$3,0.9,DT$3/60) -> 1 | DW39: =(DS39*DS$4)/(60*(1-DR$16)*0.6) -> 2.5693401 | DX39: =(DT39*DS$5)/(60*(1-DR$16)*0.75) -> 0 | DY39: =[1]!ErlangC_Agents(DU39/60/DR$7,DS$6,0.8,DT$6/60) -> 28 | DZ39: =SUM(DV39:DY39) -> 31.56934 | EA39: =[1]!ErlangC_ServiceLevel(DR39/60,DS$3,DV39*(1-DR$16),DT$3/60) -> 1 | EB39: =[1]!ErlangC_ServiceLevel(DU39/60/DR$7,DS$6,DY39*(1-DR$16),DT$6/60) -> 0.65622108 | EC39: =[1]!ErlangC_ASA(DR39/60,DS$3,DV39*(1-DR$16))*60 -> 0 | ED39: =[2]!Abandon(DV39,DU$3,DR39,DS$3*60) -> 0 | EE39: =(DR39*DS$3+DS39*DS$4+DT39*DS$5+DU39/DR$7*DS$6)/(DZ39*60) -> 0.76558024 | EG39: 0.54166667 | EH39: 0.083619189 | EI39: =EI$25*EH39 -> 0 | EJ39: =EJ$25/15 -> 8.8888889 | EK39: =EK$25*EH39 -> 0 | EL39: =EL$25*EH39 -> 164.45107 | EM39: =[1]!ErlangC_Agents(EI39/60,EJ$3,0.9,EK$3/60) -> 1 | EN39: =(EJ39*EJ$4)/(60*(1-EI$16)*0.6) -> 2.6549847 | EO39: =(EK39*EJ$5)/(60*(1-EI$16)*0.75) -> 0 | EP39: =[1]!ErlangC_Agents(EL39/60/EI$7,EJ$6,0.8,EK$6/60) -> 28 | EQ39: =SUM(EM39:EP39) -> 31.654985 | ER39: =[1]!ErlangC_ServiceLevel(EI39/60,EJ$3,EM39*(1-EI$16),EK$3/60) -> 1 | ES39: =[1]!ErlangC_ServiceLevel(EL39/60/EI$7,EJ$6,EP39*(1-EI$16),EK$6/60) -> 0.606307 | ET39: =[1]!ErlangC_ASA(EI39/60,EJ$3,EM39*(1-EI$16))*60 -> 0 | EU39: =[2]!Abandon(EM39,EL$3,EI39,EJ$3*60) -> 0 | EV39: =(EI39*EJ$3+EJ39*EJ$4+EK39*EJ$5+EL39/EI$7*EJ$6)/(EQ39*60) -> 0.7765899 | EX39: 0.54166667 | EY39: 0.083619189 | EZ39: =EZ$25*EY39 -> 0 | FA39: =FA$25/15 -> 9.4623656 | FB39: =FB$25*EY39 -> 0 | FC39: =FC$25*EY39 -> 161.84359 | FD39: =[1]!ErlangC_Agents(EZ39/60,FA$3,0.9,FB$3/60) -> 1 | FE39: =(FA39*FA$4)/(60*(1-EZ$16)*0.6) -> 2.8262741 | FF39: =(FB39*FA$5)/(60*(1-EZ$16)*0.75) -> 0 | FG39: =[1]!ErlangC_Agents(FC39/60/EZ$7,FA$6,0.8,FB$6/60) -> 28 | FH39: =SUM(FD39:FG39) -> 31.826274 | FI39: =[1]!ErlangC_ServiceLevel(EZ39/60,FA$3,FD39*(1-EZ$16),FB$3/60) -> 1 | FJ39: =[1]!ErlangC_ServiceLevel(FC39/60/EZ$7,FA$6,FG39*(1-EZ$16),FB$6/60) -> 0.65622108 | FK39: =[1]!ErlangC_ASA(EZ39/60,FA$3,FD39*(1-EZ$16))*60 -> 0 | FL39: =[2]!Abandon(FD39,FC$3,EZ39,FA$3*60) -> 0 | FM39: =(EZ39*FA$3+FA39*FA$4+FB39*FA$5+FC39/EZ$7*FA$6)/(FH39*60) -> 0.76390444 | FO39: 0.54166667 | FP39: 0.083619189 | FQ39: =FQ$25*FP39 -> 0 | FR39: =FR$25/15 -> 8.8888889 | FS39: =FS$25*FP39 -> 0 | FT39: =FT$25*FP39 -> 158.87646 | FU39: =[1]!ErlangC_Agents(FQ39/60,FR$3,0.9,FS$3/60) -> 1 | FV39: =(FR39*FR$4)/(60*(1-FQ$16)*0.6) -> 2.6549847 | FW39: =(FS39*FR$5)/(60*(1-FQ$16)*0.75) -> 0 | FX39: =[1]!ErlangC_Agents(FT39/60/FQ$7,FR$6,0.8,FS$6/60) -> 28 | FY39: =SUM(FU39:FX39) -> 31.654985 | FZ39: =[1]!ErlangC_ServiceLevel(FQ39/60,FR$3,FU39*(1-FQ$16),FS$3/60) -> 1 | GA39: =[1]!ErlangC_ServiceLevel(FT39/60/FQ$7,FR$6,FX39*(1-FQ$16),FS$6/60) -> 0.70705249 | GB39: =[1]!ErlangC_ASA(FQ39/60,FR$3,FU39*(1-FQ$16))*60 -> 0 | GC39: =[2]!Abandon(FU39,FT$3,FQ39,FR$3*60) -> 0 | GD39: =(FQ39*FR$3+FR39*FR$4+FS39*FR$5+FT39/FQ$7*FR$6)/(FY39*60) -> 0.75185129 | GF39: 0.54166667 | GG39: 0.083619189 | GH39: =GH$25*GG39 -> 0 | GI39: =GI$25/15 -> 8.6021505 | GJ39: =GJ$25*GG39 -> 0 | GK39: =GK$25*GG39 -> 159.1462 | GL39: =[1]!ErlangC_Agents(GH39/60,GI$3,0.9,GJ$3/60) -> 1 | GM39: =(GI39*GI$4)/(60*(1-GH$16)*0.6) -> 2.5693401 | GN39: =(GJ39*GI$5)/(60*(1-GH$16)*0.75) -> 0 | GO39: =[1]!ErlangC_Agents(GK39/60/GH$7,GI$6,0.8,GJ$6/60) -> 28 | GP39: =SUM(GL39:GO39) -> 31.56934 | GQ39: =[1]!ErlangC_ServiceLevel(GH39/60,GI$3,GL39*(1-GH$16),GJ$3/60) -> 1 | GR39: =[1]!ErlangC_ServiceLevel(GK39/60/GH$7,GI$6,GO39*(1-GH$16),GJ$6/60) -> 0.70268251 | GS39: =[1]!ErlangC_ASA(GH39/60,GI$3,GL39*(1-GH$16))*60 -> 0 | GT39: =[2]!Abandon(GL39,GK$3,GH39,GI$3*60) -> 0 | GU39: =(GH39*GI$3+GI39*GI$4+GJ39*GI$5+GK39/GH$7*GI$6)/(GP39*60) -> 0.75357747
A40: 0.58333333 | B40: 0.088931854 | C40: =C$25*B40 -> 0 | D40: =D$25/15 -> 10.322581 | E40: =E$25*B40 -> 0 | F40: =F$25*B40 -> 184.175 | G40: =[1]!ErlangC_Agents(C40/60,D$3,0.9,E$3/60) -> 1 | H40: =(D40*D$4)/(60*(1-C$16)*0.6) -> 2.7748873 | I40: =(E40*D$5)/(60*(1-C$16)*0.75) -> 0 | J40: =[1]!ErlangC_Agents(F40/60/C$7,D$6,0.8,E$6/60) -> 28 | K40: =SUM(G40:J40) -> 31.774887 | L40: =[1]!ErlangC_ServiceLevel(C40/60,D$3,G40*(1-C$16),E$3/60) -> 1 | M40: =[1]!ErlangC_ServiceLevel(F40/60/C$7,D$6,J40*(1-C$16),E$6/60) -> 0.59243603 | N40: =[1]!ErlangC_ASA(C40/60,D$3,G40*(1-C$16))*60 -> 0 | O40: =[2]!Abandon(G40,F$3,C40,D$3*60) -> 0 | P40: =(C40*D$3+D40*D$4+E40*D$5+F40/C$7*D$6)/(K40*60) -> 0.78016069 | R40: 0.58333333 | S40: 0.088931854 | T40: =T$25*S40 -> 0 | U40: =U$25/15 -> 9.5238095 | V40: =V$25*S40 -> 0 | W40: =W$25*S40 -> 187.07451 | X40: =[1]!ErlangC_Agents(T40/60,U$3,0.9,V$3/60) -> 1 | Y40: =(U40*U$4)/(60*(1-T$16)*0.6) -> 2.8446265 | Z40: =(V40*U$5)/(60*(1-T$16)*0.75) -> 0 | AA40: =[1]!ErlangC_Agents(W40/60/T$7,U$6,0.8,V$6/60) -> 32 | AB40: =SUM(X40:AA40) -> 35.844627 | AC40: =[1]!ErlangC_ServiceLevel(T40/60,U$3,X40*(1-T$16),V$3/60) -> 1 | AD40: =[1]!ErlangC_ServiceLevel(W40/60/T$7,U$6,AA40*(1-T$16),V$6/60) -> 0.68512689 | AE40: =[1]!ErlangC_ASA(T40/60,U$3,X40*(1-T$16))*60 -> 0 | AF40: =[2]!Abandon(X40,W$3,T40,U$3*60) -> 0 | AG40: =(T40*U$3+U40*U$4+V40*U$5+W40/T$7*U$6)/(AB40*60) -> 0.77743356 | AI40: 0.58333333 | AJ40: 0.088931854 | AK40: =AK$25*AJ40 -> 0 | AL40: =AL$25/15 -> 10.666667 | AM40: =AM$25*AJ40 -> 0 | AN40: =AN$25*AJ40 -> 174.99494 | AO40: =[1]!ErlangC_Agents(AK40/60,AL$3,0.9,AM$3/60) -> 1 | AP40: =(AL40*AL$4)/(60*(1-AK$16)*0.6) -> 3.1859817 | AQ40: =(AM40*AL$5)/(60*(1-AK$16)*0.75) -> 0 | AR40: =[1]!ErlangC_Agents(AN40/60/AK$7,AL$6,0.8,AM$6/60) -> 30 | AS40: =SUM(AO40:AR40) -> 34.185982 | AT40: =[1]!ErlangC_ServiceLevel(AK40/60,AL$3,AO40*(1-AK$16),AM$3/60) -> 1 | AU40: =[1]!ErlangC_ServiceLevel(AN40/60/AK$7,AL$6,AR40*(1-AK$16),AM$6/60) -> 0.60649847 | AV40: =[1]!ErlangC_ASA(AK40/60,AL$3,AO40*(1-AK$16))*60 -> 0 | AW40: =[2]!Abandon(AO40,AN$3,AK40,AL$3*60) -> 0 | AX40: =(AK40*AL$3+AL40*AL$4+AM40*AL$5+AN40/AK$7*AL$6)/(AS40*60) -> 0.78327587 | AZ40: 0.58333333 | BA40: 0.088931854 | BB40: =BB$25*BA40 -> 0 | BC40: =BC$25/15 -> 10.133333 | BD40: =BD$25*BA40 -> 0 | BE40: =BE$25*BA40 -> 166.00613 | BF40: =[1]!ErlangC_Agents(BB40/60,BC$3,0.9,BD$3/60) -> 1 | BG40: =(BC40*BC$4)/(60*(1-BB$16)*0.6) -> 3.0266826 | BH40: =(BD40*BC$5)/(60*(1-BB$16)*0.75) -> 0 | BI40: =[1]!ErlangC_Agents(BE40/60/BB$7,BC$6,0.8,BD$6/60) -> 29 | BJ40: =SUM(BF40:BI40) -> 33.026683 | BK40: =[1]!ErlangC_ServiceLevel(BB40/60,BC$3,BF40*(1-BB$16),BD$3/60) -> 1 | BL40: =[1]!ErlangC_ServiceLevel(BE40/60/BB$7,BC$6,BI40*(1-BB$16),BD$6/60) -> 0.69986876 | BM40: =[1]!ErlangC_ASA(BB40/60,BC$3,BF40*(1-BB$16))*60 -> 0 | BN40: =[2]!Abandon(BF40,BE$3,BB40,BC$3*60) -> 0 | BO40: =(BB40*BC$3+BC40*BC$4+BD40*BC$5+BE40/BB$7*BC$6)/(BJ40*60) -> 0.75723007 | BQ40: 0.58333333 | BR40: 0.088931854 | BS40: =BS$25*BR40 -> 0 | BT40: =BT$25/15 -> 9.4623656 | BU40: =BU$25*BR40 -> 0 | BV40: =BV$25*BR40 -> 153.47917 | BW40: =[1]!ErlangC_Agents(BS40/60,BT$3,0.9,BU$3/60) -> 1 | BX40: =(BT40*BT$4)/(60*(1-BS$16)*0.6) -> 2.8262741 | BY40: =(BU40*BT$5)/(60*(1-BS$16)*0.75) -> 0 | BZ40: =[1]!ErlangC_Agents(BV40/60/BS$7,BT$6,0.8,BU$6/60) -> 27 | CA40: =SUM(BW40:BZ40) -> 30.826274 | CB40: =[1]!ErlangC_ServiceLevel(BS40/60,BT$3,BW40*(1-BS$16),BU$3/60) -> 1 | CC40: =[1]!ErlangC_ServiceLevel(BV40/60/BS$7,BT$6,BZ40*(1-BS$16),BU$6/60) -> 0.68560491 | CD40: =[1]!ErlangC_ASA(BS40/60,BT$3,BW40*(1-BS$16))*60 -> 0 | CE40: =[2]!Abandon(BW40,BV$3,BS40,BT$3*60) -> 0 | CF40: =(BS40*BT$3+BT40*BT$4+BU40*BT$5+BV40/BS$7*BT$6)/(CA40*60) -> 0.75056848 | CH40: 0.58333333 | CI40: 0.088931854 | CJ40: =CJ$25*CI40 -> 0 | CK40: =CK$25/15 -> 10.133333 | CL40: =CL$25*CI40 -> 0 | CM40: =CM$25*CI40 -> 188.23909 | CN40: =[1]!ErlangC_Agents(CJ40/60,CK$3,0.9,CL$3/60) -> 1 | CO40: =(CK40*CK$4)/(60*(1-CJ$16)*0.6) -> 3.0266826 | CP40: =(CL40*CK$5)/(60*(1-CJ$16)*0.75) -> 0 | CQ40: =[1]!ErlangC_Agents(CM40/60/CJ$7,CK$6,0.8,CL$6/60) -> 32 | CR40: =SUM(CN40:CQ40) -> 36.026683 | CS40: =[1]!ErlangC_ServiceLevel(CJ40/60,CK$3,CN40*(1-CJ$16),CL$3/60) -> 1 | CT40: =[1]!ErlangC_ServiceLevel(CM40/60/CJ$7,CK$6,CQ40*(1-CJ$16),CL$6/60) -> 0.6089266 | CU40: =[1]!ErlangC_ASA(CJ40/60,CK$3,CN40*(1-CJ$16))*60 -> 0 | CV40: =[2]!Abandon(CN40,CM$3,CJ40,CK$3*60) -> 0 | CW40: =(CJ40*CK$3+CK40*CK$4+CL40*CK$5+CM40/CJ$7*CK$6)/(CR40*60) -> 0.79330611 | CY40: 0.58333333 | CZ40: 0.088931854 | DA40: =DA$25*CZ40 -> 0 | DB40: =DB$25/15 -> 9.4623656 | DC40: =DC$25*CZ40 -> 0 | DD40: =DD$25*CZ40 -> 174.99494 | DE40: =[1]!ErlangC_Agents(DA40/60,DB$3,0.9,DC$3/60) -> 1 | DF40: =(DB40*DB$4)/(60*(1-DA$16)*0.6) -> 2.8262741 | DG40: =(DC40*DB$5)/(60*(1-DA$16)*0.75) -> 0 | DH40: =[1]!ErlangC_Agents(DD40/60/DA$7,DB$6,0.8,DC$6/60) -> 30 | DI40: =SUM(DE40:DH40) -> 33.826274 | DJ40: =[1]!ErlangC_ServiceLevel(DA40/60,DB$3,DE40*(1-DA$16),DC$3/60) -> 1 | DK40: =[1]!ErlangC_ServiceLevel(DD40/60/DA$7,DB$6,DH40*(1-DA$16),DC$6/60) -> 0.66191746 | DL40: =[1]!ErlangC_ASA(DA40/60,DB$3,DE40*(1-DA$16))*60 -> 0 | DM40: =[2]!Abandon(DE40,DD$3,DA40,DB$3*60) -> 0 | DN40: =(DA40*DB$3+DB40*DB$4+DC40*DB$5+DD40/DA$7*DB$6)/(DI40*60) -> 0.77335397 | DP40: 0.58333333 | DQ40: 0.088931854 | DR40: =DR$25*DQ40 -> 0 | DS40: =DS$25/15 -> 8.6021505 | DT40: =DT$25*DQ40 -> 0 | DU40: =DU$25*DQ40 -> 172.12617 | DV40: =[1]!ErlangC_Agents(DR40/60,DS$3,0.9,DT$3/60) -> 1 | DW40: =(DS40*DS$4)/(60*(1-DR$16)*0.6) -> 2.5693401 | DX40: =(DT40*DS$5)/(60*(1-DR$16)*0.75) -> 0 | DY40: =[1]!ErlangC_Agents(DU40/60/DR$7,DS$6,0.8,DT$6/60) -> 30 | DZ40: =SUM(DV40:DY40) -> 33.56934 | EA40: =[1]!ErlangC_ServiceLevel(DR40/60,DS$3,DV40*(1-DR$16),DT$3/60) -> 1 | EB40: =[1]!ErlangC_ServiceLevel(DU40/60/DR$7,DS$6,DY40*(1-DR$16),DT$6/60) -> 0.7089102 | EC40: =[1]!ErlangC_ASA(DR40/60,DS$3,DV40*(1-DR$16))*60 -> 0 | ED40: =[2]!Abandon(DV40,DU$3,DR40,DS$3*60) -> 0 | EE40: =(DR40*DS$3+DS40*DS$4+DT40*DS$5+DU40/DR$7*DS$6)/(DZ40*60) -> 0.76299743 | EG40: 0.58333333 | EH40: 0.088931854 | EI40: =EI$25*EH40 -> 0 | EJ40: =EJ$25/15 -> 8.8888889 | EK40: =EK$25*EH40 -> 0 | EL40: =EL$25*EH40 -> 174.89931 | EM40: =[1]!ErlangC_Agents(EI40/60,EJ$3,0.9,EK$3/60) -> 1 | EN40: =(EJ40*EJ$4)/(60*(1-EI$16)*0.6) -> 2.6549847 | EO40: =(EK40*EJ$5)/(60*(1-EI$16)*0.75) -> 0 | EP40: =[1]!ErlangC_Agents(EL40/60/EI$7,EJ$6,0.8,EK$6/60) -> 30 | EQ40: =SUM(EM40:EP40) -> 33.654985 | ER40: =[1]!ErlangC_ServiceLevel(EI40/60,EJ$3,EM40*(1-EI$16),EK$3/60) -> 1 | ES40: =[1]!ErlangC_ServiceLevel(EL40/60/EI$7,EJ$6,EP40*(1-EI$16),EK$6/60) -> 0.66357103 | ET40: =[1]!ErlangC_ASA(EI40/60,EJ$3,EM40*(1-EI$16))*60 -> 0 | EU40: =[2]!Abandon(EM40,EL$3,EI40,EJ$3*60) -> 0 | EV40: =(EI40*EJ$3+EJ40*EJ$4+EK40*EJ$5+EL40/EI$7*EJ$6)/(EQ40*60) -> 0.77405088 | EX40: 0.58333333 | EY40: 0.088931854 | EZ40: =EZ$25*EY40 -> 0 | FA40: =FA$25/15 -> 9.4623656 | FB40: =FB$25*EY40 -> 0 | FC40: =FC$25*EY40 -> 172.12617 | FD40: =[1]!ErlangC_Agents(EZ40/60,FA$3,0.9,FB$3/60) -> 1 | FE40: =(FA40*FA$4)/(60*(1-EZ$16)*0.6) -> 2.8262741 | FF40: =(FB40*FA$5)/(60*(1-EZ$16)*0.75) -> 0 | FG40: =[1]!ErlangC_Agents(FC40/60/EZ$7,FA$6,0.8,FB$6/60) -> 30 | FH40: =SUM(FD40:FG40) -> 33.826274 | FI40: =[1]!ErlangC_ServiceLevel(EZ40/60,FA$3,FD40*(1-EZ$16),FB$3/60) -> 1 | FJ40: =[1]!ErlangC_ServiceLevel(FC40/60/EZ$7,FA$6,FG40*(1-EZ$16),FB$6/60) -> 0.7089102 | FK40: =[1]!ErlangC_ASA(EZ40/60,FA$3,FD40*(1-EZ$16))*60 -> 0 | FL40: =[2]!Abandon(FD40,FC$3,EZ40,FA$3*60) -> 0 | FM40: =(EZ40*FA$3+FA40*FA$4+FB40*FA$5+FC40/EZ$7*FA$6)/(FH40*60) -> 0.76144033 | FO40: 0.58333333 | FP40: 0.088931854 | FQ40: =FQ$25*FP40 -> 0 | FR40: =FR$25/15 -> 8.8888889 | FS40: =FS$25*FP40 -> 0 | FT40: =FT$25*FP40 -> 168.97052 | FU40: =[1]!ErlangC_Agents(FQ40/60,FR$3,0.9,FS$3/60) -> 1 | FV40: =(FR40*FR$4)/(60*(1-FQ$16)*0.6) -> 2.6549847 | FW40: =(FS40*FR$5)/(60*(1-FQ$16)*0.75) -> 0 | FX40: =[1]!ErlangC_Agents(FT40/60/FQ$7,FR$6,0.8,FS$6/60) -> 29 | FY40: =SUM(FU40:FX40) -> 32.654985 | FZ40: =[1]!ErlangC_ServiceLevel(FQ40/60,FR$3,FU40*(1-FQ$16),FS$3/60) -> 1 | GA40: =[1]!ErlangC_ServiceLevel(FT40/60/FQ$7,FR$6,FX40*(1-FQ$16),FS$6/60) -> 0.64916009 | GB40: =[1]!ErlangC_ASA(FQ40/60,FR$3,FU40*(1-FQ$16))*60 -> 0 | GC40: =[2]!Abandon(FU40,FT$3,FQ40,FR$3*60) -> 0 | GD40: =(FQ40*FR$3+FR40*FR$4+FS40*FR$5+FT40/FQ$7*FR$6)/(FY40*60) -> 0.77225015 | GF40: 0.58333333 | GG40: 0.088931854 | GH40: =GH$25*GG40 -> 0 | GI40: =GI$25/15 -> 8.6021505 | GJ40: =GJ$25*GG40 -> 0 | GK40: =GK$25*GG40 -> 169.2574 | GL40: =[1]!ErlangC_Agents(GH40/60,GI$3,0.9,GJ$3/60) -> 1 | GM40: =(GI40*GI$4)/(60*(1-GH$16)*0.6) -> 2.5693401 | GN40: =(GJ40*GI$5)/(60*(1-GH$16)*0.75) -> 0 | GO40: =[1]!ErlangC_Agents(GK40/60/GH$7,GI$6,0.8,GJ$6/60) -> 29 | GP40: =SUM(GL40:GO40) -> 32.56934 | GQ40: =[1]!ErlangC_ServiceLevel(GH40/60,GI$3,GL40*(1-GH$16),GJ$3/60) -> 1 | GR40: =[1]!ErlangC_ServiceLevel(GK40/60/GH$7,GI$6,GO40*(1-GH$16),GJ$6/60) -> 0.6439301 | GS40: =[1]!ErlangC_ASA(GH40/60,GI$3,GL40*(1-GH$16))*60 -> 0 | GT40: =[2]!Abandon(GL40,GK$3,GH40,GI$3*60) -> 0 | GU40: =(GH40*GI$3+GI40*GI$4+GJ40*GI$5+GK40/GH$7*GI$6)/(GP40*60) -> 0.77405088
A41: 0.625 | B41: 0.091908534 | C41: =C$25*B41 -> 0 | D41: =D$25/15 -> 10.322581 | E41: =E$25*B41 -> 0 | F41: =F$25*B41 -> 190.33961 | G41: =[1]!ErlangC_Agents(C41/60,D$3,0.9,E$3/60) -> 1 | H41: =(D41*D$4)/(60*(1-C$16)*0.6) -> 2.7748873 | I41: =(E41*D$5)/(60*(1-C$16)*0.75) -> 0 | J41: =[1]!ErlangC_Agents(F41/60/C$7,D$6,0.8,E$6/60) -> 29 | K41: =SUM(G41:J41) -> 32.774887 | L41: =[1]!ErlangC_ServiceLevel(C41/60,D$3,G41*(1-C$16),E$3/60) -> 1 | M41: =[1]!ErlangC_ServiceLevel(F41/60/C$7,D$6,J41*(1-C$16),E$6/60) -> 0.61783351 | N41: =[1]!ErlangC_ASA(C41/60,D$3,G41*(1-C$16))*60 -> 0 | O41: =[2]!Abandon(G41,F$3,C41,D$3*60) -> 0 | P41: =(C41*D$3+D41*D$4+E41*D$5+F41/C$7*D$6)/(K41*60) -> 0.78009217 | R41: 0.625 | S41: 0.091908534 | T41: =T$25*S41 -> 0 | U41: =U$25/15 -> 9.5238095 | V41: =V$25*S41 -> 0 | W41: =W$25*S41 -> 193.33617 | X41: =[1]!ErlangC_Agents(T41/60,U$3,0.9,V$3/60) -> 1 | Y41: =(U41*U$4)/(60*(1-T$16)*0.6) -> 2.8446265 | Z41: =(V41*U$5)/(60*(1-T$16)*0.75) -> 0 | AA41: =[1]!ErlangC_Agents(W41/60/T$7,U$6,0.8,V$6/60) -> 33 | AB41: =SUM(X41:AA41) -> 36.844627 | AC41: =[1]!ErlangC_ServiceLevel(T41/60,U$3,X41*(1-T$16),V$3/60) -> 1 | AD41: =[1]!ErlangC_ServiceLevel(W41/60/T$7,U$6,AA41*(1-T$16),V$6/60) -> 0.69254487 | AE41: =[1]!ErlangC_ASA(T41/60,U$3,X41*(1-T$16))*60 -> 0 | AF41: =[2]!Abandon(X41,W$3,T41,U$3*60) -> 0 | AG41: =(T41*U$3+U41*U$4+V41*U$5+W41/T$7*U$6)/(AB41*60) -> 0.78020684 | AI41: 0.625 | AJ41: 0.091908534 | AK41: =AK$25*AJ41 -> 0 | AL41: =AL$25/15 -> 10.666667 | AM41: =AM$25*AJ41 -> 0 | AN41: =AN$25*AJ41 -> 180.85228 | AO41: =[1]!ErlangC_Agents(AK41/60,AL$3,0.9,AM$3/60) -> 1 | AP41: =(AL41*AL$4)/(60*(1-AK$16)*0.6) -> 3.1859817 | AQ41: =(AM41*AL$5)/(60*(1-AK$16)*0.75) -> 0 | AR41: =[1]!ErlangC_Agents(AN41/60/AK$7,AL$6,0.8,AM$6/60) -> 31 | AS41: =SUM(AO41:AR41) -> 35.185982 | AT41: =[1]!ErlangC_ServiceLevel(AK41/60,AL$3,AO41*(1-AK$16),AM$3/60) -> 1 | AU41: =[1]!ErlangC_ServiceLevel(AN41/60/AK$7,AL$6,AR41*(1-AK$16),AM$6/60) -> 0.62226182 | AV41: =[1]!ErlangC_ASA(AK41/60,AL$3,AO41*(1-AK$16))*60 -> 0 | AW41: =[2]!Abandon(AO41,AN$3,AK41,AL$3*60) -> 0 | AX41: =(AK41*AL$3+AL41*AL$4+AM41*AL$5+AN41/AK$7*AL$6)/(AS41*60) -> 0.78479599 | AZ41: 0.625 | BA41: 0.091908534 | BB41: =BB$25*BA41 -> 0 | BC41: =BC$25/15 -> 10.133333 | BD41: =BD$25*BA41 -> 0 | BE41: =BE$25*BA41 -> 171.5626 | BF41: =[1]!ErlangC_Agents(BB41/60,BC$3,0.9,BD$3/60) -> 1 | BG41: =(BC41*BC$4)/(60*(1-BB$16)*0.6) -> 3.0266826 | BH41: =(BD41*BC$5)/(60*(1-BB$16)*0.75) -> 0 | BI41: =[1]!ErlangC_Agents(BE41/60/BB$7,BC$6,0.8,BD$6/60) -> 29 | BJ41: =SUM(BF41:BI41) -> 33.026683 | BK41: =[1]!ErlangC_ServiceLevel(BB41/60,BC$3,BF41*(1-BB$16),BD$3/60) -> 1 | BL41: =[1]!ErlangC_ServiceLevel(BE41/60/BB$7,BC$6,BI41*(1-BB$16),BD$6/60) -> 0.59974187 | BM41: =[1]!ErlangC_ASA(BB41/60,BC$3,BF41*(1-BB$16))*60 -> 0 | BN41: =[2]!Abandon(BF41,BE$3,BB41,BC$3*60) -> 0 | BO41: =(BB41*BC$3+BC41*BC$4+BD41*BC$5+BE41/BB$7*BC$6)/(BJ41*60) -> 0.78086404 | BQ41: 0.625 | BR41: 0.091908534 | BS41: =BS$25*BR41 -> 0 | BT41: =BT$25/15 -> 9.4623656 | BU41: =BU$25*BR41 -> 0 | BV41: =BV$25*BR41 -> 158.61634 | BW41: =[1]!ErlangC_Agents(BS41/60,BT$3,0.9,BU$3/60) -> 1 | BX41: =(BT41*BT$4)/(60*(1-BS$16)*0.6) -> 2.8262741 | BY41: =(BU41*BT$5)/(60*(1-BS$16)*0.75) -> 0 | BZ41: =[1]!ErlangC_Agents(BV41/60/BS$7,BT$6,0.8,BU$6/60) -> 27 | CA41: =SUM(BW41:BZ41) -> 30.826274 | CB41: =[1]!ErlangC_ServiceLevel(BS41/60,BT$3,BW41*(1-BS$16),BU$3/60) -> 1 | CC41: =[1]!ErlangC_ServiceLevel(BV41/60/BS$7,BT$6,BZ41*(1-BS$16),BU$6/60) -> 0.58671749 | CD41: =[1]!ErlangC_ASA(BS41/60,BT$3,BW41*(1-BS$16))*60 -> 0 | CE41: =[2]!Abandon(BW41,BV$3,BS41,BT$3*60) -> 0 | CF41: =(BS41*BT$3+BT41*BT$4+BU41*BT$5+BV41/BS$7*BT$6)/(CA41*60) -> 0.77397872 | CH41: 0.625 | CI41: 0.091908534 | CJ41: =CJ$25*CI41 -> 0 | CK41: =CK$25/15 -> 10.133333 | CL41: =CL$25*CI41 -> 0 | CM41: =CM$25*CI41 -> 194.53973 | CN41: =[1]!ErlangC_Agents(CJ41/60,CK$3,0.9,CL$3/60) -> 1 | CO41: =(CK41*CK$4)/(60*(1-CJ$16)*0.6) -> 3.0266826 | CP41: =(CL41*CK$5)/(60*(1-CJ$16)*0.75) -> 0 | CQ41: =[1]!ErlangC_Agents(CM41/60/CJ$7,CK$6,0.8,CL$6/60) -> 33 | CR41: =SUM(CN41:CQ41) -> 37.026683 | CS41: =[1]!ErlangC_ServiceLevel(CJ41/60,CK$3,CN41*(1-CJ$16),CL$3/60) -> 1 | CT41: =[1]!ErlangC_ServiceLevel(CM41/60/CJ$7,CK$6,CQ41*(1-CJ$16),CL$6/60) -> 0.6162427 | CU41: =[1]!ErlangC_ASA(CJ41/60,CK$3,CN41*(1-CJ$16))*60 -> 0 | CV41: =[2]!Abandon(CN41,CM$3,CJ41,CK$3*60) -> 0 | CW41: =(CJ41*CK$3+CK41*CK$4+CL41*CK$5+CM41/CJ$7*CK$6)/(CR41*60) -> 0.79619012 | CY41: 0.625 | CZ41: 0.091908534 | DA41: =DA$25*CZ41 -> 0 | DB41: =DB$25/15 -> 9.4623656 | DC41: =DC$25*CZ41 -> 0 | DD41: =DD$25*CZ41 -> 180.85228 | DE41: =[1]!ErlangC_Agents(DA41/60,DB$3,0.9,DC$3/60) -> 1 | DF41: =(DB41*DB$4)/(60*(1-DA$16)*0.6) -> 2.8262741 | DG41: =(DC41*DB$5)/(60*(1-DA$16)*0.75) -> 0 | DH41: =[1]!ErlangC_Agents(DD41/60/DA$7,DB$6,0.8,DC$6/60) -> 31 | DI41: =SUM(DE41:DH41) -> 34.826274 | DJ41: =[1]!ErlangC_ServiceLevel(DA41/60,DB$3,DE41*(1-DA$16),DC$3/60) -> 1 | DK41: =[1]!ErlangC_ServiceLevel(DD41/60/DA$7,DB$6,DH41*(1-DA$16),DC$6/60) -> 0.67681396 | DL41: =[1]!ErlangC_ASA(DA41/60,DB$3,DE41*(1-DA$16))*60 -> 0 | DM41: =[2]!Abandon(DE41,DD$3,DA41,DB$3*60) -> 0 | DN41: =(DA41*DB$3+DB41*DB$4+DC41*DB$5+DD41/DA$7*DB$6)/(DI41*60) -> 0.77477423 | DP41: 0.625 | DQ41: 0.091908534 | DR41: =DR$25*DQ41 -> 0 | DS41: =DS$25/15 -> 8.6021505 | DT41: =DT$25*DQ41 -> 0 | DU41: =DU$25*DQ41 -> 177.88748 | DV41: =[1]!ErlangC_Agents(DR41/60,DS$3,0.9,DT$3/60) -> 1 | DW41: =(DS41*DS$4)/(60*(1-DR$16)*0.6) -> 2.5693401 | DX41: =(DT41*DS$5)/(60*(1-DR$16)*0.75) -> 0 | DY41: =[1]!ErlangC_Agents(DU41/60/DR$7,DS$6,0.8,DT$6/60) -> 30 | DZ41: =SUM(DV41:DY41) -> 33.56934 | EA41: =[1]!ErlangC_ServiceLevel(DR41/60,DS$3,DV41*(1-DR$16),DT$3/60) -> 1 | EB41: =[1]!ErlangC_ServiceLevel(DU41/60/DR$7,DS$6,DY41*(1-DR$16),DT$6/60) -> 0.6089209 | EC41: =[1]!ErlangC_ASA(DR41/60,DS$3,DV41*(1-DR$16))*60 -> 0 | ED41: =[2]!Abandon(DV41,DU$3,DR41,DS$3*60) -> 0 | EE41: =(DR41*DS$3+DS41*DS$4+DT41*DS$5+DU41/DR$7*DS$6)/(DZ41*60) -> 0.78710656 | EG41: 0.625 | EH41: 0.091908534 | EI41: =EI$25*EH41 -> 0 | EJ41: =EJ$25/15 -> 8.8888889 | EK41: =EK$25*EH41 -> 0 | EL41: =EL$25*EH41 -> 180.75345 | EM41: =[1]!ErlangC_Agents(EI41/60,EJ$3,0.9,EK$3/60) -> 1 | EN41: =(EJ41*EJ$4)/(60*(1-EI$16)*0.6) -> 2.6549847 | EO41: =(EK41*EJ$5)/(60*(1-EI$16)*0.75) -> 0 | EP41: =[1]!ErlangC_Agents(EL41/60/EI$7,EJ$6,0.8,EK$6/60) -> 31 | EQ41: =SUM(EM41:EP41) -> 34.654985 | ER41: =[1]!ErlangC_ServiceLevel(EI41/60,EJ$3,EM41*(1-EI$16),EK$3/60) -> 1 | ES41: =[1]!ErlangC_ServiceLevel(EL41/60/EI$7,EJ$6,EP41*(1-EI$16),EK$6/60) -> 0.67843769 | ET41: =[1]!ErlangC_ASA(EI41/60,EJ$3,EM41*(1-EI$16))*60 -> 0 | EU41: =[2]!Abandon(EM41,EL$3,EI41,EJ$3*60) -> 0 | EV41: =(EI41*EJ$3+EJ41*EJ$4+EK41*EJ$5+EL41/EI$7*EJ$6)/(EQ41*60) -> 0.77544508 | EX41: 0.625 | EY41: 0.091908534 | EZ41: =EZ$25*EY41 -> 0 | FA41: =FA$25/15 -> 9.4623656 | FB41: =FB$25*EY41 -> 0 | FC41: =FC$25*EY41 -> 177.88748 | FD41: =[1]!ErlangC_Agents(EZ41/60,FA$3,0.9,FB$3/60) -> 1 | FE41: =(FA41*FA$4)/(60*(1-EZ$16)*0.6) -> 2.8262741 | FF41: =(FB41*FA$5)/(60*(1-EZ$16)*0.75) -> 0 | FG41: =[1]!ErlangC_Agents(FC41/60/EZ$7,FA$6,0.8,FB$6/60) -> 30 | FH41: =SUM(FD41:FG41) -> 33.826274 | FI41: =[1]!ErlangC_ServiceLevel(EZ41/60,FA$3,FD41*(1-EZ$16),FB$3/60) -> 1 | FJ41: =[1]!ErlangC_ServiceLevel(FC41/60/EZ$7,FA$6,FG41*(1-EZ$16),FB$6/60) -> 0.6089209 | FK41: =[1]!ErlangC_ASA(EZ41/60,FA$3,FD41*(1-EZ$16))*60 -> 0 | FL41: =[2]!Abandon(FD41,FC$3,EZ41,FA$3*60) -> 0 | FM41: =(EZ41*FA$3+FA41*FA$4+FB41*FA$5+FC41/EZ$7*FA$6)/(FH41*60) -> 0.78536634 | FO41: 0.625 | FP41: 0.091908534 | FQ41: =FQ$25*FP41 -> 0 | FR41: =FR$25/15 -> 8.8888889 | FS41: =FS$25*FP41 -> 0 | FT41: =FT$25*FP41 -> 174.62621 | FU41: =[1]!ErlangC_Agents(FQ41/60,FR$3,0.9,FS$3/60) -> 1 | FV41: =(FR41*FR$4)/(60*(1-FQ$16)*0.6) -> 2.6549847 | FW41: =(FS41*FR$5)/(60*(1-FQ$16)*0.75) -> 0 | FX41: =[1]!ErlangC_Agents(FT41/60/FQ$7,FR$6,0.8,FS$6/60) -> 30 | FY41: =SUM(FU41:FX41) -> 33.654985 | FZ41: =[1]!ErlangC_ServiceLevel(FQ41/60,FR$3,FU41*(1-FQ$16),FS$3/60) -> 1 | GA41: =[1]!ErlangC_ServiceLevel(FT41/60/FQ$7,FR$6,FX41*(1-FQ$16),FS$6/60) -> 0.66825972 | GB41: =[1]!ErlangC_ASA(FQ41/60,FR$3,FU41*(1-FQ$16))*60 -> 0 | GC41: =[2]!Abandon(FU41,FT$3,FQ41,FR$3*60) -> 0 | GD41: =(FQ41*FR$3+FR41*FR$4+FS41*FR$5+FT41/FQ$7*FR$6)/(FY41*60) -> 0.77291097 | GF41: 0.625 | GG41: 0.091908534 | GH41: =GH$25*GG41 -> 0 | GI41: =GI$25/15 -> 8.6021505 | GJ41: =GJ$25*GG41 -> 0 | GK41: =GK$25*GG41 -> 174.92269 | GL41: =[1]!ErlangC_Agents(GH41/60,GI$3,0.9,GJ$3/60) -> 1 | GM41: =(GI41*GI$4)/(60*(1-GH$16)*0.6) -> 2.5693401 | GN41: =(GJ41*GI$5)/(60*(1-GH$16)*0.75) -> 0 | GO41: =[1]!ErlangC_Agents(GK41/60/GH$7,GI$6,0.8,GJ$6/60) -> 30 | GP41: =SUM(GL41:GO41) -> 33.56934 | GQ41: =[1]!ErlangC_ServiceLevel(GH41/60,GI$3,GL41*(1-GH$16),GJ$3/60) -> 1 | GR41: =[1]!ErlangC_ServiceLevel(GK41/60/GH$7,GI$6,GO41*(1-GH$16),GJ$6/60) -> 0.6631673 | GS41: =[1]!ErlangC_ASA(GH41/60,GI$3,GL41*(1-GH$16))*60 -> 0 | GT41: =[2]!Abandon(GL41,GK$3,GH41,GI$3*60) -> 0 | GU41: =(GH41*GI$3+GI41*GI$4+GJ41*GI$5+GK41/GH$7*GI$6)/(GP41*60) -> 0.77469993
A42: 0.66666667 | B42: 0.085756729 | C42: =C$25*B42 -> 0 | D42: =D$25/15 -> 10.322581 | E42: =E$25*B42 -> 0 | F42: =F$25*B42 -> 177.59942 | G42: =[1]!ErlangC_Agents(C42/60,D$3,0.9,E$3/60) -> 1 | H42: =(D42*D$4)/(60*(1-C$16)*0.6) -> 2.7748873 | I42: =(E42*D$5)/(60*(1-C$16)*0.75) -> 0 | J42: =[1]!ErlangC_Agents(F42/60/C$7,D$6,0.8,E$6/60) -> 28 | K42: =SUM(G42:J42) -> 31.774887 | L42: =[1]!ErlangC_ServiceLevel(C42/60,D$3,G42*(1-C$16),E$3/60) -> 1 | M42: =[1]!ErlangC_ServiceLevel(F42/60/C$7,D$6,J42*(1-C$16),E$6/60) -> 0.70245025 | N42: =[1]!ErlangC_ASA(C42/60,D$3,G42*(1-C$16))*60 -> 0 | O42: =[2]!Abandon(G42,F$3,C42,D$3*60) -> 0 | P42: =(C42*D$3+D42*D$4+E42*D$5+F42/C$7*D$6)/(K42*60) -> 0.75404649 | R42: 0.66666667 | S42: 0.085756729 | T42: =T$25*S42 -> 0 | U42: =U$25/15 -> 9.5238095 | V42: =V$25*S42 -> 0 | W42: =W$25*S42 -> 180.3954 | X42: =[1]!ErlangC_Agents(T42/60,U$3,0.9,V$3/60) -> 1 | Y42: =(U42*U$4)/(60*(1-T$16)*0.6) -> 2.8446265 | Z42: =(V42*U$5)/(60*(1-T$16)*0.75) -> 0 | AA42: =[1]!ErlangC_Agents(W42/60/T$7,U$6,0.8,V$6/60) -> 31 | AB42: =SUM(X42:AA42) -> 34.844627 | AC42: =[1]!ErlangC_ServiceLevel(T42/60,U$3,X42*(1-T$16),V$3/60) -> 1 | AD42: =[1]!ErlangC_ServiceLevel(W42/60/T$7,U$6,AA42*(1-T$16),V$6/60) -> 0.68426836 | AE42: =[1]!ErlangC_ASA(T42/60,U$3,X42*(1-T$16))*60 -> 0 | AF42: =[2]!Abandon(X42,W$3,T42,U$3*60) -> 0 | AG42: =(T42*U$3+U42*U$4+V42*U$5+W42/T$7*U$6)/(AB42*60) -> 0.77281818 | AI42: 0.66666667 | AJ42: 0.085756729 | AK42: =AK$25*AJ42 -> 0 | AL42: =AL$25/15 -> 10.666667 | AM42: =AM$25*AJ42 -> 0 | AN42: =AN$25*AJ42 -> 168.74711 | AO42: =[1]!ErlangC_Agents(AK42/60,AL$3,0.9,AM$3/60) -> 1 | AP42: =(AL42*AL$4)/(60*(1-AK$16)*0.6) -> 3.1859817 | AQ42: =(AM42*AL$5)/(60*(1-AK$16)*0.75) -> 0 | AR42: =[1]!ErlangC_Agents(AN42/60/AK$7,AL$6,0.8,AM$6/60) -> 29 | AS42: =SUM(AO42:AR42) -> 33.185982 | AT42: =[1]!ErlangC_ServiceLevel(AK42/60,AL$3,AO42*(1-AK$16),AM$3/60) -> 1 | AU42: =[1]!ErlangC_ServiceLevel(AN42/60/AK$7,AL$6,AR42*(1-AK$16),AM$6/60) -> 0.59786269 | AV42: =[1]!ErlangC_ASA(AK42/60,AL$3,AO42*(1-AK$16))*60 -> 0 | AW42: =[2]!Abandon(AO42,AN$3,AK42,AL$3*60) -> 0 | AX42: =(AK42*AL$3+AL42*AL$4+AM42*AL$5+AN42/AK$7*AL$6)/(AS42*60) -> 0.77998319 | AZ42: 0.66666667 | BA42: 0.085756729 | BB42: =BB$25*BA42 -> 0 | BC42: =BC$25/15 -> 10.133333 | BD42: =BD$25*BA42 -> 0 | BE42: =BE$25*BA42 -> 160.07923 | BF42: =[1]!ErlangC_Agents(BB42/60,BC$3,0.9,BD$3/60) -> 1 | BG42: =(BC42*BC$4)/(60*(1-BB$16)*0.6) -> 3.0266826 | BH42: =(BD42*BC$5)/(60*(1-BB$16)*0.75) -> 0 | BI42: =[1]!ErlangC_Agents(BE42/60/BB$7,BC$6,0.8,BD$6/60) -> 28 | BJ42: =SUM(BF42:BI42) -> 32.026683 | BK42: =[1]!ErlangC_ServiceLevel(BB42/60,BC$3,BF42*(1-BB$16),BD$3/60) -> 1 | BL42: =[1]!ErlangC_ServiceLevel(BE42/60/BB$7,BC$6,BI42*(1-BB$16),BD$6/60) -> 0.68718536 | BM42: =[1]!ErlangC_ASA(BB42/60,BC$3,BF42*(1-BB$16))*60 -> 0 | BN42: =[2]!Abandon(BF42,BE$3,BB42,BC$3*60) -> 0 | BO42: =(BB42*BC$3+BC42*BC$4+BD42*BC$5+BE42/BB$7*BC$6)/(BJ42*60) -> 0.75487709 | BQ42: 0.66666667 | BR42: 0.085756729 | BS42: =BS$25*BR42 -> 0 | BT42: =BT$25/15 -> 9.4623656 | BU42: =BU$25*BR42 -> 0 | BV42: =BV$25*BR42 -> 147.99952 | BW42: =[1]!ErlangC_Agents(BS42/60,BT$3,0.9,BU$3/60) -> 1 | BX42: =(BT42*BT$4)/(60*(1-BS$16)*0.6) -> 2.8262741 | BY42: =(BU42*BT$5)/(60*(1-BS$16)*0.75) -> 0 | BZ42: =[1]!ErlangC_Agents(BV42/60/BS$7,BT$6,0.8,BU$6/60) -> 26 | CA42: =SUM(BW42:BZ42) -> 29.826274 | CB42: =[1]!ErlangC_ServiceLevel(BS42/60,BT$3,BW42*(1-BS$16),BU$3/60) -> 1 | CC42: =[1]!ErlangC_ServiceLevel(BV42/60/BS$7,BT$6,BZ42*(1-BS$16),BU$6/60) -> 0.66380951 | CD42: =[1]!ErlangC_ASA(BS42/60,BT$3,BW42*(1-BS$16))*60 -> 0 | CE42: =[2]!Abandon(BW42,BV$3,BS42,BT$3*60) -> 0 | CF42: =(BS42*BT$3+BT42*BT$4+BU42*BT$5+BV42/BS$7*BT$6)/(CA42*60) -> 0.74992502 | CH42: 0.66666667 | CI42: 0.085756729 | CJ42: =CJ$25*CI42 -> 0 | CK42: =CK$25/15 -> 10.133333 | CL42: =CL$25*CI42 -> 0 | CM42: =CM$25*CI42 -> 181.51841 | CN42: =[1]!ErlangC_Agents(CJ42/60,CK$3,0.9,CL$3/60) -> 1 | CO42: =(CK42*CK$4)/(60*(1-CJ$16)*0.6) -> 3.0266826 | CP42: =(CL42*CK$5)/(60*(1-CJ$16)*0.75) -> 0 | CQ42: =[1]!ErlangC_Agents(CM42/60/CJ$7,CK$6,0.8,CL$6/60) -> 31 | CR42: =SUM(CN42:CQ42) -> 35.026683 | CS42: =[1]!ErlangC_ServiceLevel(CJ42/60,CK$3,CN42*(1-CJ$16),CL$3/60) -> 1 | CT42: =[1]!ErlangC_ServiceLevel(CM42/60/CJ$7,CK$6,CQ42*(1-CJ$16),CL$6/60) -> 0.60957009 | CU42: =[1]!ErlangC_ASA(CJ42/60,CK$3,CN42*(1-CJ$16))*60 -> 0 | CV42: =[2]!Abandon(CN42,CM$3,CJ42,CK$3*60) -> 0 | CW42: =(CJ42*CK$3+CK42*CK$4+CL42*CK$5+CM42/CJ$7*CK$6)/(CR42*60) -> 0.78854428 | CY42: 0.66666667 | CZ42: 0.085756729 | DA42: =DA$25*CZ42 -> 0 | DB42: =DB$25/15 -> 9.4623656 | DC42: =DC$25*CZ42 -> 0 | DD42: =DD$25*CZ42 -> 168.74711 | DE42: =[1]!ErlangC_Agents(DA42/60,DB$3,0.9,DC$3/60) -> 1 | DF42: =(DB42*DB$4)/(60*(1-DA$16)*0.6) -> 2.8262741 | DG42: =(DC42*DB$5)/(60*(1-DA$16)*0.75) -> 0 | DH42: =[1]!ErlangC_Agents(DD42/60/DA$7,DB$6,0.8,DC$6/60) -> 29 | DI42: =SUM(DE42:DH42) -> 32.826274 | DJ42: =[1]!ErlangC_ServiceLevel(DA42/60,DB$3,DE42*(1-DA$16),DC$3/60) -> 1 | DK42: =[1]!ErlangC_ServiceLevel(DD42/60/DA$7,DB$6,DH42*(1-DA$16),DC$6/60) -> 0.6531927 | DL42: =[1]!ErlangC_ASA(DA42/60,DB$3,DE42*(1-DA$16))*60 -> 0 | DM42: =[2]!Abandon(DE42,DD$3,DA42,DB$3*60) -> 0 | DN42: =(DA42*DB$3+DB42*DB$4+DC42*DB$5+DD42/DA$7*DB$6)/(DI42*60) -> 0.77017612 | DP42: 0.66666667 | DQ42: 0.085756729 | DR42: =DR$25*DQ42 -> 0 | DS42: =DS$25/15 -> 8.6021505 | DT42: =DT$25*DQ42 -> 0 | DU42: =DU$25*DQ42 -> 165.98077 | DV42: =[1]!ErlangC_Agents(DR42/60,DS$3,0.9,DT$3/60) -> 1 | DW42: =(DS42*DS$4)/(60*(1-DR$16)*0.6) -> 2.5693401 | DX42: =(DT42*DS$5)/(60*(1-DR$16)*0.75) -> 0 | DY42: =[1]!ErlangC_Agents(DU42/60/DR$7,DS$6,0.8,DT$6/60) -> 29 | DZ42: =SUM(DV42:DY42) -> 32.56934 | EA42: =[1]!ErlangC_ServiceLevel(DR42/60,DS$3,DV42*(1-DR$16),DT$3/60) -> 1 | EB42: =[1]!ErlangC_ServiceLevel(DU42/60/DR$7,DS$6,DY42*(1-DR$16),DT$6/60) -> 0.70027707 | EC42: =[1]!ErlangC_ASA(DR42/60,DS$3,DV42*(1-DR$16))*60 -> 0 | ED42: =[2]!Abandon(DV42,DU$3,DR42,DS$3*60) -> 0 | EE42: =(DR42*DS$3+DS42*DS$4+DT42*DS$5+DU42/DR$7*DS$6)/(DZ42*60) -> 0.75991829 | EG42: 0.66666667 | EH42: 0.085756729 | EI42: =EI$25*EH42 -> 0 | EJ42: =EJ$25/15 -> 8.8888889 | EK42: =EK$25*EH42 -> 0 | EL42: =EL$25*EH42 -> 168.6549 | EM42: =[1]!ErlangC_Agents(EI42/60,EJ$3,0.9,EK$3/60) -> 1 | EN42: =(EJ42*EJ$4)/(60*(1-EI$16)*0.6) -> 2.6549847 | EO42: =(EK42*EJ$5)/(60*(1-EI$16)*0.75) -> 0 | EP42: =[1]!ErlangC_Agents(EL42/60/EI$7,EJ$6,0.8,EK$6/60) -> 29 | EQ42: =SUM(EM42:EP42) -> 32.654985 | ER42: =[1]!ErlangC_ServiceLevel(EI42/60,EJ$3,EM42*(1-EI$16),EK$3/60) -> 1 | ES42: =[1]!ErlangC_ServiceLevel(EL42/60/EI$7,EJ$6,EP42*(1-EI$16),EK$6/60) -> 0.6548469 | ET42: =[1]!ErlangC_ASA(EI42/60,EJ$3,EM42*(1-EI$16))*60 -> 0 | EU42: =[2]!Abandon(EM42,EL$3,EI42,EJ$3*60) -> 0 | EV42: =(EI42*EJ$3+EJ42*EJ$4+EK42*EJ$5+EL42/EI$7*EJ$6)/(EQ42*60) -> 0.77089239 | EX42: 0.66666667 | EY42: 0.085756729 | EZ42: =EZ$25*EY42 -> 0 | FA42: =FA$25/15 -> 9.4623656 | FB42: =FB$25*EY42 -> 0 | FC42: =FC$25*EY42 -> 165.98077 | FD42: =[1]!ErlangC_Agents(EZ42/60,FA$3,0.9,FB$3/60) -> 1 | FE42: =(FA42*FA$4)/(60*(1-EZ$16)*0.6) -> 2.8262741 | FF42: =(FB42*FA$5)/(60*(1-EZ$16)*0.75) -> 0 | FG42: =[1]!ErlangC_Agents(FC42/60/EZ$7,FA$6,0.8,FB$6/60) -> 29 | FH42: =SUM(FD42:FG42) -> 32.826274 | FI42: =[1]!ErlangC_ServiceLevel(EZ42/60,FA$3,FD42*(1-EZ$16),FB$3/60) -> 1 | FJ42: =[1]!ErlangC_ServiceLevel(FC42/60/EZ$7,FA$6,FG42*(1-EZ$16),FB$6/60) -> 0.70027707 | FK42: =[1]!ErlangC_ASA(EZ42/60,FA$3,FD42*(1-EZ$16))*60 -> 0 | FL42: =[2]!Abandon(FD42,FC$3,EZ42,FA$3*60) -> 0 | FM42: =(EZ42*FA$3+FA42*FA$4+FB42*FA$5+FC42/EZ$7*FA$6)/(FH42*60) -> 0.75833786 | FO42: 0.66666667 | FP42: 0.085756729 | FQ42: =FQ$25*FP42 -> 0 | FR42: =FR$25/15 -> 8.8888889 | FS42: =FS$25*FP42 -> 0 | FT42: =FT$25*FP42 -> 162.93778 | FU42: =[1]!ErlangC_Agents(FQ42/60,FR$3,0.9,FS$3/60) -> 1 | FV42: =(FR42*FR$4)/(60*(1-FQ$16)*0.6) -> 2.6549847 | FW42: =(FS42*FR$5)/(60*(1-FQ$16)*0.75) -> 0 | FX42: =[1]!ErlangC_Agents(FT42/60/FQ$7,FR$6,0.8,FS$6/60) -> 28 | FY42: =SUM(FU42:FX42) -> 31.654985 | FZ42: =[1]!ErlangC_ServiceLevel(FQ42/60,FR$3,FU42*(1-FQ$16),FS$3/60) -> 1 | GA42: =[1]!ErlangC_ServiceLevel(FT42/60/FQ$7,FR$6,FX42*(1-FQ$16),FS$6/60) -> 0.63589272 | GB42: =[1]!ErlangC_ASA(FQ42/60,FR$3,FU42*(1-FQ$16))*60 -> 0 | GC42: =[2]!Abandon(FU42,FT$3,FQ42,FR$3*60) -> 0 | GD42: =(FQ42*FR$3+FR42*FR$4+FS42*FR$5+FT42/FQ$7*FR$6)/(FY42*60) -> 0.76987435 | GF42: 0.66666667 | GG42: 0.085756729 | GH42: =GH$25*GG42 -> 0 | GI42: =GI$25/15 -> 8.6021505 | GJ42: =GJ$25*GG42 -> 0 | GK42: =GK$25*GG42 -> 163.21442 | GL42: =[1]!ErlangC_Agents(GH42/60,GI$3,0.9,GJ$3/60) -> 1 | GM42: =(GI42*GI$4)/(60*(1-GH$16)*0.6) -> 2.5693401 | GN42: =(GJ42*GI$5)/(60*(1-GH$16)*0.75) -> 0 | GO42: =[1]!ErlangC_Agents(GK42/60/GH$7,GI$6,0.8,GJ$6/60) -> 28 | GP42: =SUM(GL42:GO42) -> 31.56934 | GQ42: =[1]!ErlangC_ServiceLevel(GH42/60,GI$3,GL42*(1-GH$16),GJ$3/60) -> 1 | GR42: =[1]!ErlangC_ServiceLevel(GK42/60/GH$7,GI$6,GO42*(1-GH$16),GJ$6/60) -> 0.6306133 | GS42: =[1]!ErlangC_ASA(GH42/60,GI$3,GL42*(1-GH$16))*60 -> 0 | GT42: =[2]!Abandon(GL42,GK$3,GH42,GI$3*60) -> 0 | GU42: =(GH42*GI$3+GI42*GI$4+GJ42*GI$5+GK42/GH$7*GI$6)/(GP42*60) -> 0.7716801
A43: 0.70833333 | B43: 0.076191664 | C43: =C$25*B43 -> 0 | D43: =D$25/15 -> 10.322581 | E43: =E$25*B43 -> 0 | F43: =F$25*B43 -> 157.79048 | G43: =[1]!ErlangC_Agents(C43/60,D$3,0.9,E$3/60) -> 1 | H43: =(D43*D$4)/(60*(1-C$16)*0.6) -> 2.7748873 | I43: =(E43*D$5)/(60*(1-C$16)*0.75) -> 0 | J43: =[1]!ErlangC_Agents(F43/60/C$7,D$6,0.8,E$6/60) -> 25 | K43: =SUM(G43:J43) -> 28.774887 | L43: =[1]!ErlangC_ServiceLevel(C43/60,D$3,G43*(1-C$16),E$3/60) -> 1 | M43: =[1]!ErlangC_ServiceLevel(F43/60/C$7,D$6,J43*(1-C$16),E$6/60) -> 0.66146517 | N43: =[1]!ErlangC_ASA(C43/60,D$3,G43*(1-C$16))*60 -> 0 | O43: =[2]!Abandon(G43,F$3,C43,D$3*60) -> 0 | P43: =(C43*D$3+D43*D$4+E43*D$5+F43/C$7*D$6)/(K43*60) -> 0.74579068 | R43: 0.70833333 | S43: 0.076191664 | T43: =T$25*S43 -> 0 | U43: =U$25/15 -> 9.5238095 | V43: =V$25*S43 -> 0 | W43: =W$25*S43 -> 160.27461 | X43: =[1]!ErlangC_Agents(T43/60,U$3,0.9,V$3/60) -> 1 | Y43: =(U43*U$4)/(60*(1-T$16)*0.6) -> 2.8446265 | Z43: =(V43*U$5)/(60*(1-T$16)*0.75) -> 0 | AA43: =[1]!ErlangC_Agents(W43/60/T$7,U$6,0.8,V$6/60) -> 28 | AB43: =SUM(X43:AA43) -> 31.844627 | AC43: =[1]!ErlangC_ServiceLevel(T43/60,U$3,X43*(1-T$16),V$3/60) -> 1 | AD43: =[1]!ErlangC_ServiceLevel(W43/60/T$7,U$6,AA43*(1-T$16),V$6/60) -> 0.68386434 | AE43: =[1]!ErlangC_ASA(T43/60,U$3,X43*(1-T$16))*60 -> 0 | AF43: =[2]!Abandon(X43,W$3,T43,U$3*60) -> 0 | AG43: =(T43*U$3+U43*U$4+V43*U$5+W43/T$7*U$6)/(AB43*60) -> 0.75686452 | AI43: 0.70833333 | AJ43: 0.076191664 | AK43: =AK$25*AJ43 -> 0 | AL43: =AL$25/15 -> 10.666667 | AM43: =AM$25*AJ43 -> 0 | AN43: =AN$25*AJ43 -> 149.92553 | AO43: =[1]!ErlangC_Agents(AK43/60,AL$3,0.9,AM$3/60) -> 1 | AP43: =(AL43*AL$4)/(60*(1-AK$16)*0.6) -> 3.1859817 | AQ43: =(AM43*AL$5)/(60*(1-AK$16)*0.75) -> 0 | AR43: =[1]!ErlangC_Agents(AN43/60/AK$7,AL$6,0.8,AM$6/60) -> 27 | AS43: =SUM(AO43:AR43) -> 31.185982 | AT43: =[1]!ErlangC_ServiceLevel(AK43/60,AL$3,AO43*(1-AK$16),AM$3/60) -> 1 | AU43: =[1]!ErlangC_ServiceLevel(AN43/60/AK$7,AL$6,AR43*(1-AK$16),AM$6/60) -> 0.70187642 | AV43: =[1]!ErlangC_ASA(AK43/60,AL$3,AO43*(1-AK$16))*60 -> 0 | AW43: =[2]!Abandon(AO43,AN$3,AK43,AL$3*60) -> 0 | AX43: =(AK43*AL$3+AL43*AL$4+AM43*AL$5+AN43/AK$7*AL$6)/(AS43*60) -> 0.74378646 | AZ43: 0.70833333 | BA43: 0.076191664 | BB43: =BB$25*BA43 -> 0 | BC43: =BC$25/15 -> 10.133333 | BD43: =BD$25*BA43 -> 0 | BE43: =BE$25*BA43 -> 142.22444 | BF43: =[1]!ErlangC_Agents(BB43/60,BC$3,0.9,BD$3/60) -> 1 | BG43: =(BC43*BC$4)/(60*(1-BB$16)*0.6) -> 3.0266826 | BH43: =(BD43*BC$5)/(60*(1-BB$16)*0.75) -> 0 | BI43: =[1]!ErlangC_Agents(BE43/60/BB$7,BC$6,0.8,BD$6/60) -> 25 | BJ43: =SUM(BF43:BI43) -> 29.026683 | BK43: =[1]!ErlangC_ServiceLevel(BB43/60,BC$3,BF43*(1-BB$16),BD$3/60) -> 1 | BL43: =[1]!ErlangC_ServiceLevel(BE43/60/BB$7,BC$6,BI43*(1-BB$16),BD$6/60) -> 0.64601527 | BM43: =[1]!ErlangC_ASA(BB43/60,BC$3,BF43*(1-BB$16))*60 -> 0 | BN43: =[2]!Abandon(BF43,BE$3,BB43,BC$3*60) -> 0 | BO43: =(BB43*BC$3+BC43*BC$4+BD43*BC$5+BE43/BB$7*BC$6)/(BJ43*60) -> 0.74648683 | BQ43: 0.70833333 | BR43: 0.076191664 | BS43: =BS$25*BR43 -> 0 | BT43: =BT$25/15 -> 9.4623656 | BU43: =BU$25*BR43 -> 0 | BV43: =BV$25*BR43 -> 131.49207 | BW43: =[1]!ErlangC_Agents(BS43/60,BT$3,0.9,BU$3/60) -> 1 | BX43: =(BT43*BT$4)/(60*(1-BS$16)*0.6) -> 2.8262741 | BY43: =(BU43*BT$5)/(60*(1-BS$16)*0.75) -> 0 | BZ43: =[1]!ErlangC_Agents(BV43/60/BS$7,BT$6,0.8,BU$6/60) -> 23 | CA43: =SUM(BW43:BZ43) -> 26.826274 | CB43: =[1]!ErlangC_ServiceLevel(BS43/60,BT$3,BW43*(1-BS$16),BU$3/60) -> 1 | CC43: =[1]!ErlangC_ServiceLevel(BV43/60/BS$7,BT$6,BZ43*(1-BS$16),BU$6/60) -> 0.58798996 | CD43: =[1]!ErlangC_ASA(BS43/60,BT$3,BW43*(1-BS$16))*60 -> 0 | CE43: =[2]!Abandon(BW43,BV$3,BS43,BT$3*60) -> 0 | CF43: =(BS43*BT$3+BT43*BT$4+BU43*BT$5+BV43/BS$7*BT$6)/(CA43*60) -> 0.74734812 | CH43: 0.70833333 | CI43: 0.076191664 | CJ43: =CJ$25*CI43 -> 0 | CK43: =CK$25/15 -> 10.133333 | CL43: =CL$25*CI43 -> 0 | CM43: =CM$25*CI43 -> 161.27236 | CN43: =[1]!ErlangC_Agents(CJ43/60,CK$3,0.9,CL$3/60) -> 1 | CO43: =(CK43*CK$4)/(60*(1-CJ$16)*0.6) -> 3.0266826 | CP43: =(CL43*CK$5)/(60*(1-CJ$16)*0.75) -> 0 | CQ43: =[1]!ErlangC_Agents(CM43/60/CJ$7,CK$6,0.8,CL$6/60) -> 28 | CR43: =SUM(CN43:CQ43) -> 32.026683 | CS43: =[1]!ErlangC_ServiceLevel(CJ43/60,CK$3,CN43*(1-CJ$16),CL$3/60) -> 1 | CT43: =[1]!ErlangC_ServiceLevel(CM43/60/CJ$7,CK$6,CQ43*(1-CJ$16),CL$6/60) -> 0.61422618 | CU43: =[1]!ErlangC_ASA(CJ43/60,CK$3,CN43*(1-CJ$16))*60 -> 0 | CV43: =[2]!Abandon(CN43,CM$3,CJ43,CK$3*60) -> 0 | CW43: =(CJ43*CK$3+CK43*CK$4+CL43*CK$5+CM43/CJ$7*CK$6)/(CR43*60) -> 0.77209985 | CY43: 0.70833333 | CZ43: 0.076191664 | DA43: =DA$25*CZ43 -> 0 | DB43: =DB$25/15 -> 9.4623656 | DC43: =DC$25*CZ43 -> 0 | DD43: =DD$25*CZ43 -> 149.92553 | DE43: =[1]!ErlangC_Agents(DA43/60,DB$3,0.9,DC$3/60) -> 1 | DF43: =(DB43*DB$4)/(60*(1-DA$16)*0.6) -> 2.8262741 | DG43: =(DC43*DB$5)/(60*(1-DA$16)*0.75) -> 0 | DH43: =[1]!ErlangC_Agents(DD43/60/DA$7,DB$6,0.8,DC$6/60) -> 26 | DI43: =SUM(DE43:DH43) -> 29.826274 | DJ43: =[1]!ErlangC_ServiceLevel(DA43/60,DB$3,DE43*(1-DA$16),DC$3/60) -> 1 | DK43: =[1]!ErlangC_ServiceLevel(DD43/60/DA$7,DB$6,DH43*(1-DA$16),DC$6/60) -> 0.62657226 | DL43: =[1]!ErlangC_ASA(DA43/60,DB$3,DE43*(1-DA$16))*60 -> 0 | DM43: =[2]!Abandon(DE43,DD$3,DA43,DB$3*60) -> 0 | DN43: =(DA43*DB$3+DB43*DB$4+DC43*DB$5+DD43/DA$7*DB$6)/(DI43*60) -> 0.7589962 | DP43: 0.70833333 | DQ43: 0.076191664 | DR43: =DR$25*DQ43 -> 0 | DS43: =DS$25/15 -> 8.6021505 | DT43: =DT$25*DQ43 -> 0 | DU43: =DU$25*DQ43 -> 147.46774 | DV43: =[1]!ErlangC_Agents(DR43/60,DS$3,0.9,DT$3/60) -> 1 | DW43: =(DS43*DS$4)/(60*(1-DR$16)*0.6) -> 2.5693401 | DX43: =(DT43*DS$5)/(60*(1-DR$16)*0.75) -> 0 | DY43: =[1]!ErlangC_Agents(DU43/60/DR$7,DS$6,0.8,DT$6/60) -> 26 | DZ43: =SUM(DV43:DY43) -> 29.56934 | EA43: =[1]!ErlangC_ServiceLevel(DR43/60,DS$3,DV43*(1-DR$16),DT$3/60) -> 1 | EB43: =[1]!ErlangC_ServiceLevel(DU43/60/DR$7,DS$6,DY43*(1-DR$16),DT$6/60) -> 0.67358334 | EC43: =[1]!ErlangC_ASA(DR43/60,DS$3,DV43*(1-DR$16))*60 -> 0 | ED43: =[2]!Abandon(DV43,DU$3,DR43,DS$3*60) -> 0 | EE43: =(DR43*DS$3+DS43*DS$4+DT43*DS$5+DU43/DR$7*DS$6)/(DZ43*60) -> 0.74906635 | EG43: 0.70833333 | EH43: 0.076191664 | EI43: =EI$25*EH43 -> 0 | EJ43: =EJ$25/15 -> 8.8888889 | EK43: =EK$25*EH43 -> 0 | EL43: =EL$25*EH43 -> 149.84361 | EM43: =[1]!ErlangC_Agents(EI43/60,EJ$3,0.9,EK$3/60) -> 1 | EN43: =(EJ43*EJ$4)/(60*(1-EI$16)*0.6) -> 2.6549847 | EO43: =(EK43*EJ$5)/(60*(1-EI$16)*0.75) -> 0 | EP43: =[1]!ErlangC_Agents(EL43/60/EI$7,EJ$6,0.8,EK$6/60) -> 26 | EQ43: =SUM(EM43:EP43) -> 29.654985 | ER43: =[1]!ErlangC_ServiceLevel(EI43/60,EJ$3,EM43*(1-EI$16),EK$3/60) -> 1 | ES43: =[1]!ErlangC_ServiceLevel(EL43/60/EI$7,EJ$6,EP43*(1-EI$16),EK$6/60) -> 0.62821602 | ET43: =[1]!ErlangC_ASA(EI43/60,EJ$3,EM43*(1-EI$16))*60 -> 0 | EU43: =[2]!Abandon(EM43,EL$3,EI43,EJ$3*60) -> 0 | EV43: =(EI43*EJ$3+EJ43*EJ$4+EK43*EJ$5+EL43/EI$7*EJ$6)/(EQ43*60) -> 0.75976908 | EX43: 0.70833333 | EY43: 0.076191664 | EZ43: =EZ$25*EY43 -> 0 | FA43: =FA$25/15 -> 9.4623656 | FB43: =FB$25*EY43 -> 0 | FC43: =FC$25*EY43 -> 147.46774 | FD43: =[1]!ErlangC_Agents(EZ43/60,FA$3,0.9,FB$3/60) -> 1 | FE43: =(FA43*FA$4)/(60*(1-EZ$16)*0.6) -> 2.8262741 | FF43: =(FB43*FA$5)/(60*(1-EZ$16)*0.75) -> 0 | FG43: =[1]!ErlangC_Agents(FC43/60/EZ$7,FA$6,0.8,FB$6/60) -> 26 | FH43: =SUM(FD43:FG43) -> 29.826274 | FI43: =[1]!ErlangC_ServiceLevel(EZ43/60,FA$3,FD43*(1-EZ$16),FB$3/60) -> 1 | FJ43: =[1]!ErlangC_ServiceLevel(FC43/60/EZ$7,FA$6,FG43*(1-EZ$16),FB$6/60) -> 0.67358334 | FK43: =[1]!ErlangC_ASA(EZ43/60,FA$3,FD43*(1-EZ$16))*60 -> 0 | FL43: =[2]!Abandon(FD43,FC$3,EZ43,FA$3*60) -> 0 | FM43: =(EZ43*FA$3+FA43*FA$4+FB43*FA$5+FC43/EZ$7*FA$6)/(FH43*60) -> 0.74742044 | FO43: 0.70833333 | FP43: 0.076191664 | FQ43: =FQ$25*FP43 -> 0 | FR43: =FR$25/15 -> 8.8888889 | FS43: =FS$25*FP43 -> 0 | FT43: =FT$25*FP43 -> 144.76416 | FU43: =[1]!ErlangC_Agents(FQ43/60,FR$3,0.9,FS$3/60) -> 1 | FV43: =(FR43*FR$4)/(60*(1-FQ$16)*0.6) -> 2.6549847 | FW43: =(FS43*FR$5)/(60*(1-FQ$16)*0.75) -> 0 | FX43: =[1]!ErlangC_Agents(FT43/60/FQ$7,FR$6,0.8,FS$6/60) -> 25 | FY43: =SUM(FU43:FX43) -> 28.654985 | FZ43: =[1]!ErlangC_ServiceLevel(FQ43/60,FR$3,FU43*(1-FQ$16),FS$3/60) -> 1 | GA43: =[1]!ErlangC_ServiceLevel(FT43/60/FQ$7,FR$6,FX43*(1-FQ$16),FS$6/60) -> 0.59326422 | GB43: =[1]!ErlangC_ASA(FQ43/60,FR$3,FU43*(1-FQ$16))*60 -> 0 | GC43: =[2]!Abandon(FU43,FT$3,FQ43,FR$3*60) -> 0 | GD43: =(FQ43*FR$3+FR43*FR$4+FS43*FR$5+FT43/FQ$7*FR$6)/(FY43*60) -> 0.76138234 | GF43: 0.70833333 | GG43: 0.076191664 | GH43: =GH$25*GG43 -> 0 | GI43: =GI$25/15 -> 8.6021505 | GJ43: =GJ$25*GG43 -> 0 | GK43: =GK$25*GG43 -> 145.00994 | GL43: =[1]!ErlangC_Agents(GH43/60,GI$3,0.9,GJ$3/60) -> 1 | GM43: =(GI43*GI$4)/(60*(1-GH$16)*0.6) -> 2.5693401 | GN43: =(GJ43*GI$5)/(60*(1-GH$16)*0.75) -> 0 | GO43: =[1]!ErlangC_Agents(GK43/60/GH$7,GI$6,0.8,GJ$6/60) -> 25 | GP43: =SUM(GL43:GO43) -> 28.56934 | GQ43: =[1]!ErlangC_ServiceLevel(GH43/60,GI$3,GL43*(1-GH$16),GJ$3/60) -> 1 | GR43: =[1]!ErlangC_ServiceLevel(GK43/60/GH$7,GI$6,GO43*(1-GH$16),GJ$6/60) -> 0.58786804 | GS43: =[1]!ErlangC_ASA(GH43/60,GI$3,GL43*(1-GH$16))*60 -> 0 | GT43: =[2]!Abandon(GL43,GK$3,GH43,GI$3*60) -> 0 | GU43: =(GH43*GI$3+GI43*GI$4+GJ43*GI$5+GK43/GH$7*GI$6)/(GP43*60) -> 0.76320055
A44: 0.75 | B44: 0.056216725 | C44: =C$25*B44 -> 0 | D44: =D$25/15 -> 10.322581 | E44: =E$25*B44 -> 0 | F44: =F$25*B44 -> 116.42302 | G44: =[1]!ErlangC_Agents(C44/60,D$3,0.9,E$3/60) -> 1 | H44: =(D44*D$4)/(60*(1-C$16)*0.6) -> 2.7748873 | I44: =(E44*D$5)/(60*(1-C$16)*0.75) -> 0 | J44: =[1]!ErlangC_Agents(F44/60/C$7,D$6,0.8,E$6/60) -> 19 | K44: =SUM(G44:J44) -> 22.774887 | L44: =[1]!ErlangC_ServiceLevel(C44/60,D$3,G44*(1-C$16),E$3/60) -> 1 | M44: =[1]!ErlangC_ServiceLevel(F44/60/C$7,D$6,J44*(1-C$16),E$6/60) -> 0.73696432 | N44: =[1]!ErlangC_ASA(C44/60,D$3,G44*(1-C$16))*60 -> 0 | O44: =[2]!Abandon(G44,F$3,C44,D$3*60) -> 0 | P44: =(C44*D$3+D44*D$4+E44*D$5+F44/C$7*D$6)/(K44*60) -> 0.71306012 | R44: 0.75 | S44: 0.056216725 | T44: =T$25*S44 -> 0 | U44: =U$25/15 -> 9.5238095 | V44: =V$25*S44 -> 0 | W44: =W$25*S44 -> 118.2559 | X44: =[1]!ErlangC_Agents(T44/60,U$3,0.9,V$3/60) -> 1 | Y44: =(U44*U$4)/(60*(1-T$16)*0.6) -> 2.8446265 | Z44: =(V44*U$5)/(60*(1-T$16)*0.75) -> 0 | AA44: =[1]!ErlangC_Agents(W44/60/T$7,U$6,0.8,V$6/60) -> 21 | AB44: =SUM(X44:AA44) -> 24.844627 | AC44: =[1]!ErlangC_ServiceLevel(T44/60,U$3,X44*(1-T$16),V$3/60) -> 1 | AD44: =[1]!ErlangC_ServiceLevel(W44/60/T$7,U$6,AA44*(1-T$16),V$6/60) -> 0.72152207 | AE44: =[1]!ErlangC_ASA(T44/60,U$3,X44*(1-T$16))*60 -> 0 | AF44: =[2]!Abandon(X44,W$3,T44,U$3*60) -> 0 | AG44: =(T44*U$3+U44*U$4+V44*U$5+W44/T$7*U$6)/(AB44*60) -> 0.73253021 | AI44: 0.75 | AJ44: 0.056216725 | AK44: =AK$25*AJ44 -> 0 | AL44: =AL$25/15 -> 10.666667 | AM44: =AM$25*AJ44 -> 0 | AN44: =AN$25*AJ44 -> 110.62001 | AO44: =[1]!ErlangC_Agents(AK44/60,AL$3,0.9,AM$3/60) -> 1 | AP44: =(AL44*AL$4)/(60*(1-AK$16)*0.6) -> 3.1859817 | AQ44: =(AM44*AL$5)/(60*(1-AK$16)*0.75) -> 0 | AR44: =[1]!ErlangC_Agents(AN44/60/AK$7,AL$6,0.8,AM$6/60) -> 20 | AS44: =SUM(AO44:AR44) -> 24.185982 | AT44: =[1]!ErlangC_ServiceLevel(AK44/60,AL$3,AO44*(1-AK$16),AM$3/60) -> 1 | AU44: =[1]!ErlangC_ServiceLevel(AN44/60/AK$7,AL$6,AR44*(1-AK$16),AM$6/60) -> 0.70586036 | AV44: =[1]!ErlangC_ASA(AK44/60,AL$3,AO44*(1-AK$16))*60 -> 0 | AW44: =[2]!Abandon(AO44,AN$3,AK44,AL$3*60) -> 0 | AX44: =(AK44*AL$3+AL44*AL$4+AM44*AL$5+AN44/AK$7*AL$6)/(AS44*60) -> 0.72689363 | AZ44: 0.75 | BA44: 0.056216725 | BB44: =BB$25*BA44 -> 0 | BC44: =BC$25/15 -> 10.133333 | BD44: =BD$25*BA44 -> 0 | BE44: =BE$25*BA44 -> 104.93789 | BF44: =[1]!ErlangC_Agents(BB44/60,BC$3,0.9,BD$3/60) -> 1 | BG44: =(BC44*BC$4)/(60*(1-BB$16)*0.6) -> 3.0266826 | BH44: =(BD44*BC$5)/(60*(1-BB$16)*0.75) -> 0 | BI44: =[1]!ErlangC_Agents(BE44/60/BB$7,BC$6,0.8,BD$6/60) -> 19 | BJ44: =SUM(BF44:BI44) -> 23.026683 | BK44: =[1]!ErlangC_ServiceLevel(BB44/60,BC$3,BF44*(1-BB$16),BD$3/60) -> 1 | BL44: =[1]!ErlangC_ServiceLevel(BE44/60/BB$7,BC$6,BI44*(1-BB$16),BD$6/60) -> 0.72540949 | BM44: =[1]!ErlangC_ASA(BB44/60,BC$3,BF44*(1-BB$16))*60 -> 0 | BN44: =[2]!Abandon(BF44,BE$3,BB44,BC$3*60) -> 0 | BO44: =(BB44*BC$3+BC44*BC$4+BD44*BC$5+BE44/BB$7*BC$6)/(BJ44*60) -> 0.71352716 | BQ44: 0.75 | BR44: 0.056216725 | BS44: =BS$25*BR44 -> 0 | BT44: =BT$25/15 -> 9.4623656 | BU44: =BU$25*BR44 -> 0 | BV44: =BV$25*BR44 -> 97.019187 | BW44: =[1]!ErlangC_Agents(BS44/60,BT$3,0.9,BU$3/60) -> 1 | BX44: =(BT44*BT$4)/(60*(1-BS$16)*0.6) -> 2.8262741 | BY44: =(BU44*BT$5)/(60*(1-BS$16)*0.75) -> 0 | BZ44: =[1]!ErlangC_Agents(BV44/60/BS$7,BT$6,0.8,BU$6/60) -> 18 | CA44: =SUM(BW44:BZ44) -> 21.826274 | CB44: =[1]!ErlangC_ServiceLevel(BS44/60,BT$3,BW44*(1-BS$16),BU$3/60) -> 1 | CC44: =[1]!ErlangC_ServiceLevel(BV44/60/BS$7,BT$6,BZ44*(1-BS$16),BU$6/60) -> 0.75114927 | CD44: =[1]!ErlangC_ASA(BS44/60,BT$3,BW44*(1-BS$16))*60 -> 0 | CE44: =[2]!Abandon(BW44,BV$3,BS44,BT$3*60) -> 0 | CF44: =(BS44*BT$3+BT44*BT$4+BU44*BT$5+BV44/BS$7*BT$6)/(CA44*60) -> 0.69668083 | CH44: 0.75 | CI44: 0.056216725 | CJ44: =CJ$25*CI44 -> 0 | CK44: =CK$25/15 -> 10.133333 | CL44: =CL$25*CI44 -> 0 | CM44: =CM$25*CI44 -> 118.99207 | CN44: =[1]!ErlangC_Agents(CJ44/60,CK$3,0.9,CL$3/60) -> 1 | CO44: =(CK44*CK$4)/(60*(1-CJ$16)*0.6) -> 3.0266826 | CP44: =(CL44*CK$5)/(60*(1-CJ$16)*0.75) -> 0 | CQ44: =[1]!ErlangC_Agents(CM44/60/CJ$7,CK$6,0.8,CL$6/60) -> 22 | CR44: =SUM(CN44:CQ44) -> 26.026683 | CS44: =[1]!ErlangC_ServiceLevel(CJ44/60,CK$3,CN44*(1-CJ$16),CL$3/60) -> 1 | CT44: =[1]!ErlangC_ServiceLevel(CM44/60/CJ$7,CK$6,CQ44*(1-CJ$16),CL$6/60) -> 0.66874104 | CU44: =[1]!ErlangC_ASA(CJ44/60,CK$3,CN44*(1-CJ$16))*60 -> 0 | CV44: =[2]!Abandon(CN44,CM$3,CJ44,CK$3*60) -> 0 | CW44: =(CJ44*CK$3+CK44*CK$4+CL44*CK$5+CM44/CJ$7*CK$6)/(CR44*60) -> 0.71802296 | CY44: 0.75 | CZ44: 0.056216725 | DA44: =DA$25*CZ44 -> 0 | DB44: =DB$25/15 -> 9.4623656 | DC44: =DC$25*CZ44 -> 0 | DD44: =DD$25*CZ44 -> 110.62001 | DE44: =[1]!ErlangC_Agents(DA44/60,DB$3,0.9,DC$3/60) -> 1 | DF44: =(DB44*DB$4)/(60*(1-DA$16)*0.6) -> 2.8262741 | DG44: =(DC44*DB$5)/(60*(1-DA$16)*0.75) -> 0 | DH44: =[1]!ErlangC_Agents(DD44/60/DA$7,DB$6,0.8,DC$6/60) -> 20 | DI44: =SUM(DE44:DH44) -> 23.826274 | DJ44: =[1]!ErlangC_ServiceLevel(DA44/60,DB$3,DE44*(1-DA$16),DC$3/60) -> 1 | DK44: =[1]!ErlangC_ServiceLevel(DD44/60/DA$7,DB$6,DH44*(1-DA$16),DC$6/60) -> 0.7405029 | DL44: =[1]!ErlangC_ASA(DA44/60,DB$3,DE44*(1-DA$16))*60 -> 0 | DM44: =[2]!Abandon(DE44,DD$3,DA44,DB$3*60) -> 0 | DN44: =(DA44*DB$3+DB44*DB$4+DC44*DB$5+DD44/DA$7*DB$6)/(DI44*60) -> 0.71838921 | DP44: 0.75 | DQ44: 0.056216725 | DR44: =DR$25*DQ44 -> 0 | DS44: =DS$25/15 -> 8.6021505 | DT44: =DT$25*DQ44 -> 0 | DU44: =DU$25*DQ44 -> 108.80656 | DV44: =[1]!ErlangC_Agents(DR44/60,DS$3,0.9,DT$3/60) -> 1 | DW44: =(DS44*DS$4)/(60*(1-DR$16)*0.6) -> 2.5693401 | DX44: =(DT44*DS$5)/(60*(1-DR$16)*0.75) -> 0 | DY44: =[1]!ErlangC_Agents(DU44/60/DR$7,DS$6,0.8,DT$6/60) -> 20 | DZ44: =SUM(DV44:DY44) -> 23.56934 | EA44: =[1]!ErlangC_ServiceLevel(DR44/60,DS$3,DV44*(1-DR$16),DT$3/60) -> 1 | EB44: =[1]!ErlangC_ServiceLevel(DU44/60/DR$7,DS$6,DY44*(1-DR$16),DT$6/60) -> 0.7704116 | EC44: =[1]!ErlangC_ASA(DR44/60,DS$3,DV44*(1-DR$16))*60 -> 0 | ED44: =[2]!Abandon(DV44,DU$3,DR44,DS$3*60) -> 0 | EE44: =(DR44*DS$3+DS44*DS$4+DT44*DS$5+DU44/DR$7*DS$6)/(DZ44*60) -> 0.7093293 | EG44: 0.75 | EH44: 0.056216725 | EI44: =EI$25*EH44 -> 0 | EJ44: =EJ$25/15 -> 8.8888889 | EK44: =EK$25*EH44 -> 0 | EL44: =EL$25*EH44 -> 110.55956 | EM44: =[1]!ErlangC_Agents(EI44/60,EJ$3,0.9,EK$3/60) -> 1 | EN44: =(EJ44*EJ$4)/(60*(1-EI$16)*0.6) -> 2.6549847 | EO44: =(EK44*EJ$5)/(60*(1-EI$16)*0.75) -> 0 | EP44: =[1]!ErlangC_Agents(EL44/60/EI$7,EJ$6,0.8,EK$6/60) -> 20 | EQ44: =SUM(EM44:EP44) -> 23.654985 | ER44: =[1]!ErlangC_ServiceLevel(EI44/60,EJ$3,EM44*(1-EI$16),EK$3/60) -> 1 | ES44: =[1]!ErlangC_ServiceLevel(EL44/60/EI$7,EJ$6,EP44*(1-EI$16),EK$6/60) -> 0.74154384 | ET44: =[1]!ErlangC_ASA(EI44/60,EJ$3,EM44*(1-EI$16))*60 -> 0 | EU44: =[2]!Abandon(EM44,EL$3,EI44,EJ$3*60) -> 0 | EV44: =(EI44*EJ$3+EJ44*EJ$4+EK44*EJ$5+EL44/EI$7*EJ$6)/(EQ44*60) -> 0.71919164 | EX44: 0.75 | EY44: 0.056216725 | EZ44: =EZ$25*EY44 -> 0 | FA44: =FA$25/15 -> 9.4623656 | FB44: =FB$25*EY44 -> 0 | FC44: =FC$25*EY44 -> 108.80656 | FD44: =[1]!ErlangC_Agents(EZ44/60,FA$3,0.9,FB$3/60) -> 1 | FE44: =(FA44*FA$4)/(60*(1-EZ$16)*0.6) -> 2.8262741 | FF44: =(FB44*FA$5)/(60*(1-EZ$16)*0.75) -> 0 | FG44: =[1]!ErlangC_Agents(FC44/60/EZ$7,FA$6,0.8,FB$6/60) -> 20 | FH44: =SUM(FD44:FG44) -> 23.826274 | FI44: =[1]!ErlangC_ServiceLevel(EZ44/60,FA$3,FD44*(1-EZ$16),FB$3/60) -> 1 | FJ44: =[1]!ErlangC_ServiceLevel(FC44/60/EZ$7,FA$6,FG44*(1-EZ$16),FB$6/60) -> 0.7704116 | FK44: =[1]!ErlangC_ASA(EZ44/60,FA$3,FD44*(1-EZ$16))*60 -> 0 | FL44: =[2]!Abandon(FD44,FC$3,EZ44,FA$3*60) -> 0 | FM44: =(EZ44*FA$3+FA44*FA$4+FB44*FA$5+FC44/EZ$7*FA$6)/(FH44*60) -> 0.70769742 | FO44: 0.75 | FP44: 0.056216725 | FQ44: =FQ$25*FP44 -> 0 | FR44: =FR$25/15 -> 8.8888889 | FS44: =FS$25*FP44 -> 0 | FT44: =FT$25*FP44 -> 106.81178 | FU44: =[1]!ErlangC_Agents(FQ44/60,FR$3,0.9,FS$3/60) -> 1 | FV44: =(FR44*FR$4)/(60*(1-FQ$16)*0.6) -> 2.6549847 | FW44: =(FS44*FR$5)/(60*(1-FQ$16)*0.75) -> 0 | FX44: =[1]!ErlangC_Agents(FT44/60/FQ$7,FR$6,0.8,FS$6/60) -> 19 | FY44: =SUM(FU44:FX44) -> 22.654985 | FZ44: =[1]!ErlangC_ServiceLevel(FQ44/60,FR$3,FU44*(1-FQ$16),FS$3/60) -> 1 | GA44: =[1]!ErlangC_ServiceLevel(FT44/60/FQ$7,FR$6,FX44*(1-FQ$16),FS$6/60) -> 0.68913678 | GB44: =[1]!ErlangC_ASA(FQ44/60,FR$3,FU44*(1-FQ$16))*60 -> 0 | GC44: =[2]!Abandon(FU44,FT$3,FQ44,FR$3*60) -> 0 | GD44: =(FQ44*FR$3+FR44*FR$4+FS44*FR$5+FT44/FQ$7*FR$6)/(FY44*60) -> 0.72769826 | GF44: 0.75 | GG44: 0.056216725 | GH44: =GH$25*GG44 -> 0 | GI44: =GI$25/15 -> 8.6021505 | GJ44: =GJ$25*GG44 -> 0 | GK44: =GK$25*GG44 -> 106.99312 | GL44: =[1]!ErlangC_Agents(GH44/60,GI$3,0.9,GJ$3/60) -> 1 | GM44: =(GI44*GI$4)/(60*(1-GH$16)*0.6) -> 2.5693401 | GN44: =(GJ44*GI$5)/(60*(1-GH$16)*0.75) -> 0 | GO44: =[1]!ErlangC_Agents(GK44/60/GH$7,GI$6,0.8,GJ$6/60) -> 20 | GP44: =SUM(GL44:GO44) -> 23.56934 | GQ44: =[1]!ErlangC_ServiceLevel(GH44/60,GI$3,GL44*(1-GH$16),GJ$3/60) -> 1 | GR44: =[1]!ErlangC_ServiceLevel(GK44/60/GH$7,GI$6,GO44*(1-GH$16),GJ$6/60) -> 0.79768416 | GS44: =[1]!ErlangC_ASA(GH44/60,GI$3,GL44*(1-GH$16))*60 -> 0 | GT44: =[2]!Abandon(GL44,GK$3,GH44,GI$3*60) -> 0 | GU44: =(GH44*GI$3+GI44*GI$4+GJ44*GI$5+GK44/GH$7*GI$6)/(GP44*60) -> 0.69852095
A45: 0.79166667 | B45: 0.050586548 | C45: =C$25*B45 -> 0 | D45: =D$25/15 -> 10.322581 | E45: =E$25*B45 -> 0 | F45: =F$25*B45 -> 104.76311 | G45: =[1]!ErlangC_Agents(C45/60,D$3,0.9,E$3/60) -> 1 | H45: =(D45*D$4)/(60*(1-C$16)*0.6) -> 2.7748873 | I45: =(E45*D$5)/(60*(1-C$16)*0.75) -> 0 | J45: =[1]!ErlangC_Agents(F45/60/C$7,D$6,0.8,E$6/60) -> 17 | K45: =SUM(G45:J45) -> 20.774887 | L45: =[1]!ErlangC_ServiceLevel(C45/60,D$3,G45*(1-C$16),E$3/60) -> 1 | M45: =[1]!ErlangC_ServiceLevel(F45/60/C$7,D$6,J45*(1-C$16),E$6/60) -> 0.68502254 | N45: =[1]!ErlangC_ASA(C45/60,D$3,G45*(1-C$16))*60 -> 0 | O45: =[2]!Abandon(G45,F$3,C45,D$3*60) -> 0 | P45: =(C45*D$3+D45*D$4+E45*D$5+F45/C$7*D$6)/(K45*60) -> 0.71088201 | R45: 0.79166667 | S45: 0.050586548 | T45: =T$25*S45 -> 0 | U45: =U$25/15 -> 9.5238095 | V45: =V$25*S45 -> 0 | W45: =W$25*S45 -> 106.41242 | X45: =[1]!ErlangC_Agents(T45/60,U$3,0.9,V$3/60) -> 1 | Y45: =(U45*U$4)/(60*(1-T$16)*0.6) -> 2.8446265 | Z45: =(V45*U$5)/(60*(1-T$16)*0.75) -> 0 | AA45: =[1]!ErlangC_Agents(W45/60/T$7,U$6,0.8,V$6/60) -> 19 | AB45: =SUM(X45:AA45) -> 22.844627 | AC45: =[1]!ErlangC_ServiceLevel(T45/60,U$3,X45*(1-T$16),V$3/60) -> 1 | AD45: =[1]!ErlangC_ServiceLevel(W45/60/T$7,U$6,AA45*(1-T$16),V$6/60) -> 0.69714346 | AE45: =[1]!ErlangC_ASA(T45/60,U$3,X45*(1-T$16))*60 -> 0 | AF45: =[2]!Abandon(X45,W$3,T45,U$3*60) -> 0 | AG45: =(T45*U$3+U45*U$4+V45*U$5+W45/T$7*U$6)/(AB45*60) -> 0.72383378 | AI45: 0.79166667 | AJ45: 0.050586548 | AK45: =AK$25*AJ45 -> 0 | AL45: =AL$25/15 -> 10.666667 | AM45: =AM$25*AJ45 -> 0 | AN45: =AN$25*AJ45 -> 99.541271 | AO45: =[1]!ErlangC_Agents(AK45/60,AL$3,0.9,AM$3/60) -> 1 | AP45: =(AL45*AL$4)/(60*(1-AK$16)*0.6) -> 3.1859817 | AQ45: =(AM45*AL$5)/(60*(1-AK$16)*0.75) -> 0 | AR45: =[1]!ErlangC_Agents(AN45/60/AK$7,AL$6,0.8,AM$6/60) -> 19 | AS45: =SUM(AO45:AR45) -> 23.185982 | AT45: =[1]!ErlangC_ServiceLevel(AK45/60,AL$3,AO45*(1-AK$16),AM$3/60) -> 1 | AU45: =[1]!ErlangC_ServiceLevel(AN45/60/AK$7,AL$6,AR45*(1-AK$16),AM$6/60) -> 0.78726921 | AV45: =[1]!ErlangC_ASA(AK45/60,AL$3,AO45*(1-AK$16))*60 -> 0 | AW45: =[2]!Abandon(AO45,AN$3,AK45,AL$3*60) -> 0 | AX45: =(AK45*AL$3+AL45*AL$4+AM45*AL$5+AN45/AK$7*AL$6)/(AS45*60) -> 0.68998413 | AZ45: 0.79166667 | BA45: 0.050586548 | BB45: =BB$25*BA45 -> 0 | BC45: =BC$25/15 -> 10.133333 | BD45: =BD$25*BA45 -> 0 | BE45: =BE$25*BA45 -> 94.428222 | BF45: =[1]!ErlangC_Agents(BB45/60,BC$3,0.9,BD$3/60) -> 1 | BG45: =(BC45*BC$4)/(60*(1-BB$16)*0.6) -> 3.0266826 | BH45: =(BD45*BC$5)/(60*(1-BB$16)*0.75) -> 0 | BI45: =[1]!ErlangC_Agents(BE45/60/BB$7,BC$6,0.8,BD$6/60) -> 18 | BJ45: =SUM(BF45:BI45) -> 22.026683 | BK45: =[1]!ErlangC_ServiceLevel(BB45/60,BC$3,BF45*(1-BB$16),BD$3/60) -> 1 | BL45: =[1]!ErlangC_ServiceLevel(BE45/60/BB$7,BC$6,BI45*(1-BB$16),BD$6/60) -> 0.79407311 | BM45: =[1]!ErlangC_ASA(BB45/60,BC$3,BF45*(1-BB$16))*60 -> 0 | BN45: =[2]!Abandon(BF45,BE$3,BB45,BC$3*60) -> 0 | BO45: =(BB45*BC$3+BC45*BC$4+BD45*BC$5+BE45/BB$7*BC$6)/(BJ45*60) -> 0.67889505 | BQ45: 0.79166667 | BR45: 0.050586548 | BS45: =BS$25*BR45 -> 0 | BT45: =BT$25/15 -> 9.4623656 | BU45: =BU$25*BR45 -> 0 | BV45: =BV$25*BR45 -> 87.30259 | BW45: =[1]!ErlangC_Agents(BS45/60,BT$3,0.9,BU$3/60) -> 1 | BX45: =(BT45*BT$4)/(60*(1-BS$16)*0.6) -> 2.8262741 | BY45: =(BU45*BT$5)/(60*(1-BS$16)*0.75) -> 0 | BZ45: =[1]!ErlangC_Agents(BV45/60/BS$7,BT$6,0.8,BU$6/60) -> 16 | CA45: =SUM(BW45:BZ45) -> 19.826274 | CB45: =[1]!ErlangC_ServiceLevel(BS45/60,BT$3,BW45*(1-BS$16),BU$3/60) -> 1 | CC45: =[1]!ErlangC_ServiceLevel(BV45/60/BS$7,BT$6,BZ45*(1-BS$16),BU$6/60) -> 0.68585954 | CD45: =[1]!ErlangC_ASA(BS45/60,BT$3,BW45*(1-BS$16))*60 -> 0 | CE45: =[2]!Abandon(BW45,BV$3,BS45,BT$3*60) -> 0 | CF45: =(BS45*BT$3+BT45*BT$4+BU45*BT$5+BV45/BS$7*BT$6)/(CA45*60) -> 0.69811384 | CH45: 0.79166667 | CI45: 0.050586548 | CJ45: =CJ$25*CI45 -> 0 | CK45: =CK$25/15 -> 10.133333 | CL45: =CL$25*CI45 -> 0 | CM45: =CM$25*CI45 -> 107.07486 | CN45: =[1]!ErlangC_Agents(CJ45/60,CK$3,0.9,CL$3/60) -> 1 | CO45: =(CK45*CK$4)/(60*(1-CJ$16)*0.6) -> 3.0266826 | CP45: =(CL45*CK$5)/(60*(1-CJ$16)*0.75) -> 0 | CQ45: =[1]!ErlangC_Agents(CM45/60/CJ$7,CK$6,0.8,CL$6/60) -> 20 | CR45: =SUM(CN45:CQ45) -> 24.026683 | CS45: =[1]!ErlangC_ServiceLevel(CJ45/60,CK$3,CN45*(1-CJ$16),CL$3/60) -> 1 | CT45: =[1]!ErlangC_ServiceLevel(CM45/60/CJ$7,CK$6,CQ45*(1-CJ$16),CL$6/60) -> 0.76837356 | CU45: =[1]!ErlangC_ASA(CJ45/60,CK$3,CN45*(1-CJ$16))*60 -> 0 | CV45: =[2]!Abandon(CN45,CM$3,CJ45,CK$3*60) -> 0 | CW45: =(CJ45*CK$3+CK45*CK$4+CL45*CK$5+CM45/CJ$7*CK$6)/(CR45*60) -> 0.70693477 | CY45: 0.79166667 | CZ45: 0.050586548 | DA45: =DA$25*CZ45 -> 0 | DB45: =DB$25/15 -> 9.4623656 | DC45: =DC$25*CZ45 -> 0 | DD45: =DD$25*CZ45 -> 99.541271 | DE45: =[1]!ErlangC_Agents(DA45/60,DB$3,0.9,DC$3/60) -> 1 | DF45: =(DB45*DB$4)/(60*(1-DA$16)*0.6) -> 2.8262741 | DG45: =(DC45*DB$5)/(60*(1-DA$16)*0.75) -> 0 | DH45: =[1]!ErlangC_Agents(DD45/60/DA$7,DB$6,0.8,DC$6/60) -> 18 | DI45: =SUM(DE45:DH45) -> 21.826274 | DJ45: =[1]!ErlangC_ServiceLevel(DA45/60,DB$3,DE45*(1-DA$16),DC$3/60) -> 1 | DK45: =[1]!ErlangC_ServiceLevel(DD45/60/DA$7,DB$6,DH45*(1-DA$16),DC$6/60) -> 0.7034258 | DL45: =[1]!ErlangC_ASA(DA45/60,DB$3,DE45*(1-DA$16))*60 -> 0 | DM45: =[2]!Abandon(DE45,DD$3,DA45,DB$3*60) -> 0 | DN45: =(DA45*DB$3+DB45*DB$4+DC45*DB$5+DD45/DA$7*DB$6)/(DI45*60) -> 0.71291323 | DP45: 0.79166667 | DQ45: 0.050586548 | DR45: =DR$25*DQ45 -> 0 | DS45: =DS$25/15 -> 8.6021505 | DT45: =DT$25*DQ45 -> 0 | DU45: =DU$25*DQ45 -> 97.909447 | DV45: =[1]!ErlangC_Agents(DR45/60,DS$3,0.9,DT$3/60) -> 1 | DW45: =(DS45*DS$4)/(60*(1-DR$16)*0.6) -> 2.5693401 | DX45: =(DT45*DS$5)/(60*(1-DR$16)*0.75) -> 0 | DY45: =[1]!ErlangC_Agents(DU45/60/DR$7,DS$6,0.8,DT$6/60) -> 18 | DZ45: =SUM(DV45:DY45) -> 21.56934 | EA45: =[1]!ErlangC_ServiceLevel(DR45/60,DS$3,DV45*(1-DR$16),DT$3/60) -> 1 | EB45: =[1]!ErlangC_ServiceLevel(DU45/60/DR$7,DS$6,DY45*(1-DR$16),DT$6/60) -> 0.7349955 | EC45: =[1]!ErlangC_ASA(DR45/60,DS$3,DV45*(1-DR$16))*60 -> 0 | ED45: =[2]!Abandon(DV45,DU$3,DR45,DS$3*60) -> 0 | EE45: =(DR45*DS$3+DS45*DS$4+DT45*DS$5+DU45/DR$7*DS$6)/(DZ45*60) -> 0.70413086 | EG45: 0.79166667 | EH45: 0.050586548 | EI45: =EI$25*EH45 -> 0 | EJ45: =EJ$25/15 -> 8.8888889 | EK45: =EK$25*EH45 -> 0 | EL45: =EL$25*EH45 -> 99.486877 | EM45: =[1]!ErlangC_Agents(EI45/60,EJ$3,0.9,EK$3/60) -> 1 | EN45: =(EJ45*EJ$4)/(60*(1-EI$16)*0.6) -> 2.6549847 | EO45: =(EK45*EJ$5)/(60*(1-EI$16)*0.75) -> 0 | EP45: =[1]!ErlangC_Agents(EL45/60/EI$7,EJ$6,0.8,EK$6/60) -> 18 | EQ45: =SUM(EM45:EP45) -> 21.654985 | ER45: =[1]!ErlangC_ServiceLevel(EI45/60,EJ$3,EM45*(1-EI$16),EK$3/60) -> 1 | ES45: =[1]!ErlangC_ServiceLevel(EL45/60/EI$7,EJ$6,EP45*(1-EI$16),EK$6/60) -> 0.70451993 | ET45: =[1]!ErlangC_ASA(EI45/60,EJ$3,EM45*(1-EI$16))*60 -> 0 | EU45: =[2]!Abandon(EM45,EL$3,EI45,EJ$3*60) -> 0 | EV45: =(EI45*EJ$3+EJ45*EJ$4+EK45*EJ$5+EL45/EI$7*EJ$6)/(EQ45*60) -> 0.71378572 | EX45: 0.79166667 | EY45: 0.050586548 | EZ45: =EZ$25*EY45 -> 0 | FA45: =FA$25/15 -> 9.4623656 | FB45: =FB$25*EY45 -> 0 | FC45: =FC$25*EY45 -> 97.909447 | FD45: =[1]!ErlangC_Agents(EZ45/60,FA$3,0.9,FB$3/60) -> 1 | FE45: =(FA45*FA$4)/(60*(1-EZ$16)*0.6) -> 2.8262741 | FF45: =(FB45*FA$5)/(60*(1-EZ$16)*0.75) -> 0 | FG45: =[1]!ErlangC_Agents(FC45/60/EZ$7,FA$6,0.8,FB$6/60) -> 18 | FH45: =SUM(FD45:FG45) -> 21.826274 | FI45: =[1]!ErlangC_ServiceLevel(EZ45/60,FA$3,FD45*(1-EZ$16),FB$3/60) -> 1 | FJ45: =[1]!ErlangC_ServiceLevel(FC45/60/EZ$7,FA$6,FG45*(1-EZ$16),FB$6/60) -> 0.7349955 | FK45: =[1]!ErlangC_ASA(EZ45/60,FA$3,FD45*(1-EZ$16))*60 -> 0 | FL45: =[2]!Abandon(FD45,FC$3,EZ45,FA$3*60) -> 0 | FM45: =(EZ45*FA$3+FA45*FA$4+FB45*FA$5+FC45/EZ$7*FA$6)/(FH45*60) -> 0.70241064 | FO45: 0.79166667 | FP45: 0.050586548 | FQ45: =FQ$25*FP45 -> 0 | FR45: =FR$25/15 -> 8.8888889 | FS45: =FS$25*FP45 -> 0 | FT45: =FT$25*FP45 -> 96.114441 | FU45: =[1]!ErlangC_Agents(FQ45/60,FR$3,0.9,FS$3/60) -> 1 | FV45: =(FR45*FR$4)/(60*(1-FQ$16)*0.6) -> 2.6549847 | FW45: =(FS45*FR$5)/(60*(1-FQ$16)*0.75) -> 0 | FX45: =[1]!ErlangC_Agents(FT45/60/FQ$7,FR$6,0.8,FS$6/60) -> 18 | FY45: =SUM(FU45:FX45) -> 21.654985 | FZ45: =[1]!ErlangC_ServiceLevel(FQ45/60,FR$3,FU45*(1-FQ$16),FS$3/60) -> 1 | GA45: =[1]!ErlangC_ServiceLevel(FT45/60/FQ$7,FR$6,FX45*(1-FQ$16),FS$6/60) -> 0.76681729 | GB45: =[1]!ErlangC_ASA(FQ45/60,FR$3,FU45*(1-FQ$16))*60 -> 0 | GC45: =[2]!Abandon(FU45,FT$3,FQ45,FR$3*60) -> 0 | GD45: =(FQ45*FR$3+FR45*FR$4+FS45*FR$5+FT45/FQ$7*FR$6)/(FY45*60) -> 0.69190868 | GF45: 0.79166667 | GG45: 0.050586548 | GH45: =GH$25*GG45 -> 0 | GI45: =GI$25/15 -> 8.6021505 | GJ45: =GJ$25*GG45 -> 0 | GK45: =GK$25*GG45 -> 96.277623 | GL45: =[1]!ErlangC_Agents(GH45/60,GI$3,0.9,GJ$3/60) -> 1 | GM45: =(GI45*GI$4)/(60*(1-GH$16)*0.6) -> 2.5693401 | GN45: =(GJ45*GI$5)/(60*(1-GH$16)*0.75) -> 0 | GO45: =[1]!ErlangC_Agents(GK45/60/GH$7,GI$6,0.8,GJ$6/60) -> 18 | GP45: =SUM(GL45:GO45) -> 21.56934 | GQ45: =[1]!ErlangC_ServiceLevel(GH45/60,GI$3,GL45*(1-GH$16),GJ$3/60) -> 1 | GR45: =[1]!ErlangC_ServiceLevel(GK45/60/GH$7,GI$6,GO45*(1-GH$16),GJ$6/60) -> 0.76404625 | GS45: =[1]!ErlangC_ASA(GH45/60,GI$3,GL45*(1-GH$16))*60 -> 0 | GT45: =[2]!Abandon(GL45,GK$3,GH45,GI$3*60) -> 0 | GU45: =(GH45*GI$3+GI45*GI$4+GJ45*GI$5+GK45/GH$7*GI$6)/(GP45*60) -> 0.69350316
... A48: 0.91666667 | B48: 0.023915496 | C48: =C$25*B48 -> 0 | D48: =D$25/15 -> 10.322581 | E48: =E$25*B48 -> 0 | F48: =F$25*B48 -> 49.528221 | G48: =[1]!ErlangC_Agents(C48/60,D$3,0.9,E$3/60) -> 1 | H48: =(D48*D$4)/(60*(1-C$16)*0.6) -> 2.7748873 | I48: =(E48*D$5)/(60*(1-C$16)*0.75) -> 0 | J48: =[1]!ErlangC_Agents(F48/60/C$7,D$6,0.8,E$6/60) -> 10 | K48: =SUM(G48:J48) -> 13.774887 | L48: =[1]!ErlangC_ServiceLevel(C48/60,D$3,G48*(1-C$16),E$3/60) -> 1 | M48: =[1]!ErlangC_ServiceLevel(F48/60/C$7,D$6,J48*(1-C$16),E$6/60) -> 0.79805899 | N48: =[1]!ErlangC_ASA(C48/60,D$3,G48*(1-C$16))*60 -> 0 | O48: =[2]!Abandon(G48,F$3,C48,D$3*60) -> 0 | P48: =(C48*D$3+D48*D$4+E48*D$5+F48/C$7*D$6)/(K48*60) -> 0.56613 | R48: 0.91666667 | S48: 0.023915496 | T48: =T$25*S48 -> 0 | U48: =U$25/15 -> 9.5238095 | V48: =V$25*S48 -> 0 | W48: =W$25*S48 -> 50.307955 | X48: =[1]!ErlangC_Agents(T48/60,U$3,0.9,V$3/60) -> 1 | Y48: =(U48*U$4)/(60*(1-T$16)*0.6) -> 2.8446265 | Z48: =(V48*U$5)/(60*(1-T$16)*0.75) -> 0 | AA48: =[1]!ErlangC_Agents(W48/60/T$7,U$6,0.8,V$6/60) -> 10 | AB48: =SUM(X48:AA48) -> 13.844627 | AC48: =[1]!ErlangC_ServiceLevel(T48/60,U$3,X48*(1-T$16),V$3/60) -> 1 | AD48: =[1]!ErlangC_ServiceLevel(W48/60/T$7,U$6,AA48*(1-T$16),V$6/60) -> 0.63704154 | AE48: =[1]!ErlangC_ASA(T48/60,U$3,X48*(1-T$16))*60 -> 0 | AF48: =[2]!Abandon(X48,W$3,T48,U$3*60) -> 0 | AG48: =(T48*U$3+U48*U$4+V48*U$5+W48/T$7*U$6)/(AB48*60) -> 0.62510689 | AI48: 0.91666667 | AJ48: 0.023915496 | AK48: =AK$25*AJ48 -> 0 | AL48: =AL$25/15 -> 10.666667 | AM48: =AM$25*AJ48 -> 0 | AN48: =AN$25*AJ48 -> 47.059525 | AO48: =[1]!ErlangC_Agents(AK48/60,AL$3,0.9,AM$3/60) -> 1 | AP48: =(AL48*AL$4)/(60*(1-AK$16)*0.6) -> 3.1859817 | AQ48: =(AM48*AL$5)/(60*(1-AK$16)*0.75) -> 0 | AR48: =[1]!ErlangC_Agents(AN48/60/AK$7,AL$6,0.8,AM$6/60) -> 10 | AS48: =SUM(AO48:AR48) -> 14.185982 | AT48: =[1]!ErlangC_ServiceLevel(AK48/60,AL$3,AO48*(1-AK$16),AM$3/60) -> 1 | AU48: =[1]!ErlangC_ServiceLevel(AN48/60/AK$7,AL$6,AR48*(1-AK$16),AM$6/60) -> 0.71023644 | AV48: =[1]!ErlangC_ASA(AK48/60,AL$3,AO48*(1-AK$16))*60 -> 0 | AW48: =[2]!Abandon(AO48,AN$3,AK48,AL$3*60) -> 0 | AX48: =(AK48*AL$3+AL48*AL$4+AM48*AL$5+AN48/AK$7*AL$6)/(AS48*60) -> 0.59922304 | AZ48: 0.91666667 | BA48: 0.023915496 | BB48: =BB$25*BA48 -> 0 | BC48: =BC$25/15 -> 10.133333 | BD48: =BD$25*BA48 -> 0 | BE48: =BE$25*BA48 -> 44.64226 | BF48: =[1]!ErlangC_Agents(BB48/60,BC$3,0.9,BD$3/60) -> 1 | BG48: =(BC48*BC$4)/(60*(1-BB$16)*0.6) -> 3.0266826 | BH48: =(BD48*BC$5)/(60*(1-BB$16)*0.75) -> 0 | BI48: =[1]!ErlangC_Agents(BE48/60/BB$7,BC$6,0.8,BD$6/60) -> 10 | BJ48: =SUM(BF48:BI48) -> 14.026683 | BK48: =[1]!ErlangC_ServiceLevel(BB48/60,BC$3,BF48*(1-BB$16),BD$3/60) -> 1 | BL48: =[1]!ErlangC_ServiceLevel(BE48/60/BB$7,BC$6,BI48*(1-BB$16),BD$6/60) -> 0.79147745 | BM48: =[1]!ErlangC_ASA(BB48/60,BC$3,BF48*(1-BB$16))*60 -> 0 | BN48: =[2]!Abandon(BF48,BE$3,BB48,BC$3*60) -> 0 | BO48: =(BB48*BC$3+BC48*BC$4+BD48*BC$5+BE48/BB$7*BC$6)/(BJ48*60) -> 0.56749438 | BQ48: 0.91666667 | BR48: 0.023915496 | BS48: =BS$25*BR48 -> 0 | BT48: =BT$25/15 -> 9.4623656 | BU48: =BU$25*BR48 -> 0 | BV48: =BV$25*BR48 -> 41.273518 | BW48: =[1]!ErlangC_Agents(BS48/60,BT$3,0.9,BU$3/60) -> 1 | BX48: =(BT48*BT$4)/(60*(1-BS$16)*0.6) -> 2.8262741 | BY48: =(BU48*BT$5)/(60*(1-BS$16)*0.75) -> 0 | BZ48: =[1]!ErlangC_Agents(BV48/60/BS$7,BT$6,0.8,BU$6/60) -> 9 | CA48: =SUM(BW48:BZ48) -> 12.826274 | CB48: =[1]!ErlangC_ServiceLevel(BS48/60,BT$3,BW48*(1-BS$16),BU$3/60) -> 1 | CC48: =[1]!ErlangC_ServiceLevel(BV48/60/BS$7,BT$6,BZ48*(1-BS$16),BU$6/60) -> 0.72143355 | CD48: =[1]!ErlangC_ASA(BS48/60,BT$3,BW48*(1-BS$16))*60 -> 0 | CE48: =[2]!Abandon(BW48,BV$3,BS48,BT$3*60) -> 0 | CF48: =(BS48*BT$3+BT48*BT$4+BU48*BT$5+BV48/BS$7*BT$6)/(CA48*60) -> 0.5749922 | CH48: 0.91666667 | CI48: 0.023915496 | CJ48: =CJ$25*CI48 -> 0 | CK48: =CK$25/15 -> 10.133333 | CL48: =CL$25*CI48 -> 0 | CM48: =CM$25*CI48 -> 50.621134 | CN48: =[1]!ErlangC_Agents(CJ48/60,CK$3,0.9,CL$3/60) -> 1 | CO48: =(CK48*CK$4)/(60*(1-CJ$16)*0.6) -> 3.0266826 | CP48: =(CL48*CK$5)/(60*(1-CJ$16)*0.75) -> 0 | CQ48: =[1]!ErlangC_Agents(CM48/60/CJ$7,CK$6,0.8,CL$6/60) -> 11 | CR48: =SUM(CN48:CQ48) -> 15.026683 | CS48: =[1]!ErlangC_ServiceLevel(CJ48/60,CK$3,CN48*(1-CJ$16),CL$3/60) -> 1 | CT48: =[1]!ErlangC_ServiceLevel(CM48/60/CJ$7,CK$6,CQ48*(1-CJ$16),CL$6/60) -> 0.77457646 | CU48: =[1]!ErlangC_ASA(CJ48/60,CK$3,CN48*(1-CJ$16))*60 -> 0 | CV48: =[2]!Abandon(CN48,CM$3,CJ48,CK$3*60) -> 0 | CW48: =(CJ48*CK$3+CK48*CK$4+CL48*CK$5+CM48/CJ$7*CK$6)/(CR48*60) -> 0.59364263 | CY48: 0.91666667 | CZ48: 0.023915496 | DA48: =DA$25*CZ48 -> 0 | DB48: =DB$25/15 -> 9.4623656 | DC48: =DC$25*CZ48 -> 0 | DD48: =DD$25*CZ48 -> 47.059525 | DE48: =[1]!ErlangC_Agents(DA48/60,DB$3,0.9,DC$3/60) -> 1 | DF48: =(DB48*DB$4)/(60*(1-DA$16)*0.6) -> 2.8262741 | DG48: =(DC48*DB$5)/(60*(1-DA$16)*0.75) -> 0 | DH48: =[1]!ErlangC_Agents(DD48/60/DA$7,DB$6,0.8,DC$6/60) -> 10 | DI48: =SUM(DE48:DH48) -> 13.826274 | DJ48: =[1]!ErlangC_ServiceLevel(DA48/60,DB$3,DE48*(1-DA$16),DC$3/60) -> 1 | DK48: =[1]!ErlangC_ServiceLevel(DD48/60/DA$7,DB$6,DH48*(1-DA$16),DC$6/60) -> 0.73246705 | DL48: =[1]!ErlangC_ASA(DA48/60,DB$3,DE48*(1-DA$16))*60 -> 0 | DM48: =[2]!Abandon(DE48,DD$3,DA48,DB$3*60) -> 0 | DN48: =(DA48*DB$3+DB48*DB$4+DC48*DB$5+DD48/DA$7*DB$6)/(DI48*60) -> 0.59219163 | DP48: 0.91666667 | DQ48: 0.023915496 | DR48: =DR$25*DQ48 -> 0 | DS48: =DS$25/15 -> 8.6021505 | DT48: =DT$25*DQ48 -> 0 | DU48: =DU$25*DQ48 -> 46.288057 | DV48: =[1]!ErlangC_Agents(DR48/60,DS$3,0.9,DT$3/60) -> 1 | DW48: =(DS48*DS$4)/(60*(1-DR$16)*0.6) -> 2.5693401 | DX48: =(DT48*DS$5)/(60*(1-DR$16)*0.75) -> 0 | DY48: =[1]!ErlangC_Agents(DU48/60/DR$7,DS$6,0.8,DT$6/60) -> 10 | DZ48: =SUM(DV48:DY48) -> 13.56934 | EA48: =[1]!ErlangC_ServiceLevel(DR48/60,DS$3,DV48*(1-DR$16),DT$3/60) -> 1 | EB48: =[1]!ErlangC_ServiceLevel(DU48/60/DR$7,DS$6,DY48*(1-DR$16),DT$6/60) -> 0.75237437 | EC48: =[1]!ErlangC_ASA(DR48/60,DS$3,DV48*(1-DR$16))*60 -> 0 | ED48: =[2]!Abandon(DV48,DU$3,DR48,DS$3*60) -> 0 | EE48: =(DR48*DS$3+DS48*DS$4+DT48*DS$5+DU48/DR$7*DS$6)/(DZ48*60) -> 0.58485245 | EG48: 0.91666667 | EH48: 0.023915496 | EI48: =EI$25*EH48 -> 0 | EJ48: =EJ$25/15 -> 8.8888889 | EK48: =EK$25*EH48 -> 0 | EL48: =EL$25*EH48 -> 47.033809 | EM48: =[1]!ErlangC_Agents(EI48/60,EJ$3,0.9,EK$3/60) -> 1 | EN48: =(EJ48*EJ$4)/(60*(1-EI$16)*0.6) -> 2.6549847 | EO48: =(EK48*EJ$5)/(60*(1-EI$16)*0.75) -> 0 | EP48: =[1]!ErlangC_Agents(EL48/60/EI$7,EJ$6,0.8,EK$6/60) -> 10 | EQ48: =SUM(EM48:EP48) -> 13.654985 | ER48: =[1]!ErlangC_ServiceLevel(EI48/60,EJ$3,EM48*(1-EI$16),EK$3/60) -> 1 | ES48: =[1]!ErlangC_ServiceLevel(EL48/60/EI$7,EJ$6,EP48*(1-EI$16),EK$6/60) -> 0.73314721 | ET48: =[1]!ErlangC_ASA(EI48/60,EJ$3,EM48*(1-EI$16))*60 -> 0 | EU48: =[2]!Abandon(EM48,EL$3,EI48,EJ$3*60) -> 0 | EV48: =(EI48*EJ$3+EJ48*EJ$4+EK48*EJ$5+EL48/EI$7*EJ$6)/(EQ48*60) -> 0.59235598 | EX48: 0.91666667 | EY48: 0.023915496 | EZ48: =EZ$25*EY48 -> 0 | FA48: =FA$25/15 -> 9.4623656 | FB48: =FB$25*EY48 -> 0 | FC48: =FC$25*EY48 -> 46.288057 | FD48: =[1]!ErlangC_Agents(EZ48/60,FA$3,0.9,FB$3/60) -> 1 | FE48: =(FA48*FA$4)/(60*(1-EZ$16)*0.6) -> 2.8262741 | FF48: =(FB48*FA$5)/(60*(1-EZ$16)*0.75) -> 0 | FG48: =[1]!ErlangC_Agents(FC48/60/EZ$7,FA$6,0.8,FB$6/60) -> 10 | FH48: =SUM(FD48:FG48) -> 13.826274 | FI48: =[1]!ErlangC_ServiceLevel(EZ48/60,FA$3,FD48*(1-EZ$16),FB$3/60) -> 1 | FJ48: =[1]!ErlangC_ServiceLevel(FC48/60/EZ$7,FA$6,FG48*(1-EZ$16),FB$6/60) -> 0.75237437 | FK48: =[1]!ErlangC_ASA(EZ48/60,FA$3,FD48*(1-EZ$16))*60 -> 0 | FL48: =[2]!Abandon(FD48,FC$3,EZ48,FA$3*60) -> 0 | FM48: =(EZ48*FA$3+FA48*FA$4+FB48*FA$5+FC48/EZ$7*FA$6)/(FH48*60) -> 0.58435345 | FO48: 0.91666667 | FP48: 0.023915496 | FQ48: =FQ$25*FP48 -> 0 | FR48: =FR$25/15 -> 8.8888889 | FS48: =FS$25*FP48 -> 0 | FT48: =FT$25*FP48 -> 45.439443 | FU48: =[1]!ErlangC_Agents(FQ48/60,FR$3,0.9,FS$3/60) -> 1 | FV48: =(FR48*FR$4)/(60*(1-FQ$16)*0.6) -> 2.6549847 | FW48: =(FS48*FR$5)/(60*(1-FQ$16)*0.75) -> 0 | FX48: =[1]!ErlangC_Agents(FT48/60/FQ$7,FR$6,0.8,FS$6/60) -> 10 | FY48: =SUM(FU48:FX48) -> 13.654985 | FZ48: =[1]!ErlangC_ServiceLevel(FQ48/60,FR$3,FU48*(1-FQ$16),FS$3/60) -> 1 | GA48: =[1]!ErlangC_ServiceLevel(FT48/60/FQ$7,FR$6,FX48*(1-FQ$16),FS$6/60) -> 0.7731006 | GB48: =[1]!ErlangC_ASA(FQ48/60,FR$3,FU48*(1-FQ$16))*60 -> 0 | GC48: =[2]!Abandon(FU48,FT$3,FQ48,FR$3*60) -> 0 | GD48: =(FQ48*FR$3+FR48*FR$4+FS48*FR$5+FT48/FQ$7*FR$6)/(FY48*60) -> 0.57595387 | GF48: 0.91666667 | GG48: 0.023915496 | GH48: =GH$25*GG48 -> 0 | GI48: =GI$25/15 -> 8.6021505 | GJ48: =GJ$25*GG48 -> 0 | GK48: =GK$25*GG48 -> 45.51659 | GL48: =[1]!ErlangC_Agents(GH48/60,GI$3,0.9,GJ$3/60) -> 1 | GM48: =(GI48*GI$4)/(60*(1-GH$16)*0.6) -> 2.5693401 | GN48: =(GJ48*GI$5)/(60*(1-GH$16)*0.75) -> 0 | GO48: =[1]!ErlangC_Agents(GK48/60/GH$7,GI$6,0.8,GJ$6/60) -> 10 | GP48: =SUM(GL48:GO48) -> 13.56934 | GQ48: =[1]!ErlangC_ServiceLevel(GH48/60,GI$3,GL48*(1-GH$16),GJ$3/60) -> 1 | GR48: =[1]!ErlangC_ServiceLevel(GK48/60/GH$7,GI$6,GO48*(1-GH$16),GJ$6/60) -> 0.7712664 | GS48: =[1]!ErlangC_ASA(GH48/60,GI$3,GL48*(1-GH$16))*60 -> 0 | GT48: =[2]!Abandon(GL48,GK$3,GH48,GI$3*60) -> 0 | GU48: =(GH48*GI$3+GI48*GI$4+GJ48*GI$5+GK48/GH$7*GI$6)/(GP48*60) -> 0.57686585
A49: 0.95833333 | R49: 0.95833333 | AI49: 0.95833333 | AZ49: 0.95833333 | BQ49: 0.95833333 | CH49: 0.95833333 | CY49: 0.95833333 | DP49: 0.95833333 | EG49: 0.95833333 | EX49: 0.95833333 | FO49: 0.95833333 | GF49: 0.95833333

Sheet СРОА v2
A1: 31 | B1: ЦОО январь | R1: 28 | S1: февраль | AI1: 31 | AJ1: март | AZ1: =SUM(BB20:BB21) -> 30 | BA1: апрель | BQ1: 31 | BR1: май | CH1: =SUM(CJ20:CJ21) -> 30 | CI1: июнь | CY1: 31 | CZ1: июль | DP1: 31 | DQ1: август | EG1: 30 | EH1: Сентябрь | EX1: 31 | EY1: Октябрь | FO1: 30 | FP1: Ноябрь | GF1: 31 | GG1: Декабрь
B2: Направление | C2: Количество | D2: AHT, min | E2: Service time, sec | F2: Patience, sec | S2: Направление | T2: Количество | U2: AHT, min | V2: Service time, sec | W2: Patience, sec | AJ2: Направление | AK2: Количество | AL2: AHT, min | AM2: Service time, sec | AN2: Patience, sec | BA2: Направление | BB2: Количество | BC2: AHT, min | BD2: Service time, sec | BE2: Patience, sec | BR2: Направление | BS2: Количество | BT2: AHT, min | BU2: Service time, sec | BV2: Patience, sec | CI2: Направление | CJ2: Количество | CK2: AHT, min | CL2: Service time, sec | CM2: Patience, sec | CZ2: Направление | DA2: Количество | DB2: AHT, min | DC2: Service time, sec | DD2: Patience, sec | DQ2: Направление | DR2: Количество | DS2: AHT, min | DT2: Service time, sec | DU2: Patience, sec | EH2: Направление | EI2: Количество | EJ2: AHT, min | EK2: Service time, sec | EL2: Patience, sec | EY2: Направление | EZ2: Количество | FA2: AHT, min | FB2: Service time, sec | FC2: Patience, sec | FP2: Направление | FQ2: Количество | FR2: AHT, min | FS2: Service time, sec | FT2: Patience, sec | GG2: Направление | GH2: Количество | GI2: AHT, min | GJ2: Service time, sec | GK2: Patience, sec
B3: Входящие звонки | C3: 0 | D3: 4.5 | E3: 40 | F3: 40 | S3: Входящие звонки | T3: 0 | U3: 4.5 | V3: 40 | W3: 40 | AJ3: Входящие звонки | AK3: 0 | AL3: 4.5 | AM3: 40 | AN3: 40 | BA3: Входящие звонки | BB3: 0 | BC3: 4.5 | BD3: 40 | BE3: 40 | BR3: Входящие звонки | BS3: 0 | BT3: 4.5 | BU3: 40 | BV3: 40 | CI3: Входящие звонки | CJ3: 0 | CK3: 4.5 | CL3: 40 | CM3: 40 | CZ3: Входящие звонки | DA3: 0 | DB3: 4.5 | DC3: 40 | DD3: 40 | DQ3: Входящие звонки | DR3: 0 | DS3: 4.5 | DT3: 40 | DU3: 40 | EH3: Входящие звонки | EI3: 0 | EJ3: 4.5 | EK3: 40 | EL3: 40 | EY3: Входящие звонки | EZ3: 0 | FA3: 4.5 | FB3: 40 | FC3: 40 | FP3: Входящие звонки | FQ3: 0 | FR3: 4.5 | FS3: 40 | FT3: 40 | GG3: Входящие звонки | GH3: 0 | GI3: 4.5 | GJ3: 40 | GK3: 40
A4: 0.8 | B4: Исходящие звонки | C4: 6000 | D4: 9 | R4: 0.8 | S4: Исходящие звонки | T4: 5000 | U4: 10 | AI4: 0.8 | AJ4: Исходящие звонки | AK4: 6200 | AL4: 10 | AZ4: 0.8 | BA4: Исходящие звонки | BB4: 5700 | BC4: 10 | BQ4: 0.8 | BR4: Исходящие звонки | BS4: 5500 | BT4: 10 | CH4: 0.8 | CI4: Исходящие звонки | CJ4: 5000 | CK4: 10 | CY4: 0.8 | CZ4: Исходящие звонки | DA4: 3500 | DB4: 12 | DP4: 0.8 | DQ4: Исходящие звонки | DR4: 3500 | DS4: 12 | EG4: 0.8 | EH4: Исходящие звонки | EI4: 3500 | EJ4: 12 | EX4: 0.8 | EY4: Исходящие звонки | EZ4: 3500 | FA4: 12 | FO4: 0.8 | FP4: Исходящие звонки | FQ4: 3500 | FR4: 12 | GF4: 0.8 | GG4: Исходящие звонки | GH4: 3500 | GI4: 12
B5: Неголосовые тикеты | S5: Неголосовые тикеты | AJ5: Неголосовые тикеты | BA5: Неголосовые тикеты | BR5: Неголосовые тикеты | CI5: Неголосовые тикеты | CZ5: Неголосовые тикеты | DQ5: Неголосовые тикеты | EH5: Неголосовые тикеты | EY5: Неголосовые тикеты | FP5: Неголосовые тикеты | GG5: Неголосовые тикеты
B6: Чат | C6: 64200 | D6: 53 | E6: 180 | S6: Чат | T6: 58900 | U6: 59 | V6: 180 | AJ6: Чат | AK6: 61000 | AL6: 60 | AM6: 180 | BA6: Чат | BB6: 56000 | BC6: 59 | BD6: 180 | BR6: Чат | BS6: 53500 | BT6: 59 | BU6: 180 | CI6: Чат | CJ6: 55000 | CK6: 60 | CL6: 180 | CZ6: Чат | DA6: 22000 | DB6: 40 | DC6: 180 | DQ6: Чат | DR6: 21000 | DS6: 40 | DT6: 180 | EH6: Чат | EI6: 21000 | EJ6: 40 | EK6: 180 | EY6: Чат | EZ6: 21000 | FA6: 40 | FB6: 180 | FP6: Чат | FQ6: 21500 | FR6: 40 | FS6: 180 | GG6: Чат | GH6: 22000 | GI6: 40 | GJ6: 180
B7: Concurrency | C7: 7 | S7: Concurrency | T7: 7 | AJ7: Concurrency | AK7: 7 | BA7: Concurrency | BB7: 7 | BR7: Concurrency | BS7: 7 | CI7: Concurrency | CJ7: 7 | CZ7: Concurrency | DA7: 3 | DQ7: Concurrency | DR7: 3 | EH7: Concurrency | EI7: 3 | EY7: Concurrency | EZ7: 3 | FP7: Concurrency | FQ7: 3 | GG7: Concurrency | GH7: 3
B8: FTE (Входящие звонки) | S8: FTE (Входящие звонки) | AJ8: FTE (Входящие звонки) | BA8: FTE (Входящие звонки) | BR8: FTE (Входящие звонки) | CI8: FTE (Входящие звонки) | CZ8: FTE (Входящие звонки) | DQ8: FTE (Входящие звонки) | EH8: FTE (Входящие звонки) | EY8: FTE (Входящие звонки) | FP8: FTE (Входящие звонки) | GG8: FTE (Входящие звонки)
B9: FTE (Исходящие звонки) | C9: =H25*A1/C18/C17 -> 9.3773443 | S9: FTE (Исходящие звонки) | T9: =Y25*R1/T18/T17 -> 8.6827262 | AJ9: FTE (Исходящие звонки) | AK9: =AP25*AI1/AK18/AK17 -> 11.639547 | BA9: FTE (Исходящие звонки) | BB9: =BG25*AZ1/BB18/BB17 -> 9.1018923 | BR9: FTE (Исходящие звонки) | BS9: =BX25*BQ1/BS18/BS17 -> 10.551161 | CI9: FTE (Исходящие звонки) | CJ9: =CO25*CH1/CJ18/CJ17 -> 8.0148242 | CZ9: FTE (Исходящие звонки) | DA9: =DF25*CY1/DA18/DA17 -> 6.7066575 | DQ9: FTE (Исходящие звонки) | DR9: =DW25*DP1/DR18/DR17 -> 6.9877749 | EH9: FTE (Исходящие звонки) | EI9: =EN25*EG1/EI18/EI17 -> 6.7066575 | EY9: FTE (Исходящие звонки) | EZ9: =FE25*EX1/EZ18/EZ17 -> 6.6304455 | FP9: FTE (Исходящие звонки) | FQ9: =FV25*FO1/FQ18/FQ17 -> 7.0724752 | GG9: FTE (Исходящие звонки) | GH9: =GM25*GF1/GH18/GH17 -> 6.7066575
B10: FTE (Неголосовые тикеты) | C10: =I25*A1/C18/C17 -> 0 | S10: FTE (Неголосовые тикеты) | T10: =Z25*R1/T18/T17 -> 0 | AJ10: FTE (Неголосовые тикеты) | AK10: =AQ25*AI1/AK18/AK17 -> 0 | BA10: FTE (Неголосовые тикеты) | BB10: =BH25*AZ1/BB18/BB17 -> 0 | BR10: FTE (Неголосовые тикеты) | BS10: =BY25*BQ1/BS18/BS17 -> 0 | CI10: FTE (Неголосовые тикеты) | CJ10: =CP25*CH1/CJ18/CJ17 -> 0 | CZ10: FTE (Неголосовые тикеты) | DA10: =DG25*CY1/DA18/DA17 -> 0 | DQ10: FTE (Неголосовые тикеты) | DR10: =DX25*DP1/DR18/DR17 -> 0 | EH10: FTE (Неголосовые тикеты) | EI10: =EO25*EG1/EI18/EI17 -> 0 | EY10: FTE (Неголосовые тикеты) | EZ10: =FF25*EX1/EZ18/EZ17 -> 0 | FP10: FTE (Неголосовые тикеты) | FQ10: =FW25*FO1/FQ18/FQ17 -> 0 | GG10: FTE (Неголосовые тикеты) | GH10: =GN25*GF1/GH18/GH17 -> 0
B11: FTE (Чат) | C11: =J25*A1/C17/C18 -> 74.796512 | S11: FTE (Чат) | T11: =AA25*R1/T17/T18 -> 75.494186 | AJ11: FTE (Чат) | AK11: =AR25*AI1/AK17/AK18 -> 85.975801 | BA11: FTE (Чат) | BB11: =BI25*AZ1/BB17/BB18 -> 66.760225 | BR11: FTE (Чат) | BS11: =BZ25*BQ1/BS17/BS18 -> 77.402521 | CI11: FTE (Чат) | CJ11: =CQ25*CH1/CJ17/CJ18 -> 67.016995 | CZ11: FTE (Чат) | DA11: =DH25*CY1/DA17/DA18 -> 43.918738 | DQ11: FTE (Чат) | DR11: =DY25*DP1/DR17/DR18 -> 44.248712 | EH11: FTE (Чат) | EI11: =EP25*EG1/EI17/EI18 -> 42.101043 | EY11: FTE (Чат) | EZ11: =FG25*EX1/EZ17/EZ18 -> 41.985994 | FP11: FTE (Чат) | FQ11: =FX25*FO1/FQ17/FQ18 -> 45.665962 | GG11: FTE (Чат) | GH11: =GO25*GF1/GH17/GH18 -> 43.918738
B12: FTE в графике (ВСЕГО) | C12: =SUM(C8:C11) -> 84.173856 | S12: FTE в графике (ВСЕГО) | T12: =SUM(T8:T11) -> 84.176912 | AJ12: FTE в графике (ВСЕГО) | AK12: =SUM(AK8:AK11) -> 97.615348 | BA12: FTE в графике (ВСЕГО) | BB12: =SUM(BB8:BB11) -> 75.862117 | BR12: FTE в графике (ВСЕГО) | BS12: =SUM(BS8:BS11) -> 87.953682 | CI12: FTE в графике (ВСЕГО) | CJ12: =SUM(CJ8:CJ11) -> 75.031819 | CZ12: FTE в графике (ВСЕГО) | DA12: =SUM(DA8:DA11) -> 50.625396 | DQ12: FTE в графике (ВСЕГО) | DR12: =SUM(DR8:DR11) -> 51.236487 | EH12: FTE в графике (ВСЕГО) | EI12: =SUM(EI8:EI11) -> 48.8077 | EY12: FTE в графике (ВСЕГО) | EZ12: =SUM(EZ8:EZ11) -> 48.616439 | FP12: FTE в графике (ВСЕГО) | FQ12: =SUM(FQ8:FQ11) -> 52.738437 | GG12: FTE в графике (ВСЕГО) | GH12: =SUM(GH8:GH11) -> 50.625396
B13: Часов работы за период, ч | C13: =K25/C17*A1 -> 14008.515 | S13: Часов работы за период, ч | T13: =AB25/T17*R1 -> #NAME? | AJ13: Часов работы за период, ч | AK13: =AS25/AK17*AI1 -> #NAME? | BA13: Часов работы за период, ч | BB13: =BJ25/BB17*AZ1 -> 13723.264 | BR13: Часов работы за период, ч | BS13: =CA25/BS17*BQ1 -> #NAME? | CI13: Часов работы за период, ч | CJ13: =CR25/CJ17*CH1 -> 13528.771 | CZ13: Часов работы за период, ч | DA13: =DI25/DA17*CY1 -> 9349.5165 | DQ13: Часов работы за период, ч | DR13: =DZ25/DR17*DP1 -> 9097.191 | EH13: Часов работы за период, ч | EI13: =EQ25/EI17*EG1 -> 9015.7956 | EY13: Часов работы за период, ч | EZ13: =FH25/EZ17*EX1 -> 9097.191 | FP13: Часов работы за период, ч | FQ13: =FY25/FQ17*FO1 -> 9225.0979 | GG13: Часов работы за период, ч | GH13: =GP25/GH17*GF1 -> 9349.5165
B14: FTE в штате | C14: =C12/(1-C15) -> 101.41428 | S14: FTE в штате | T14: =T12/(1-T15) -> 101.41797 | AJ14: FTE в штате | AK14: =AK12/(1-AK15) -> 117.60885 | BA14: FTE в штате | BB14: =BB12/(1-BB15) -> 91.400141 | BR14: FTE в штате | BS14: =BS12/(1-BS15) -> 105.96829 | CI14: FTE в штате | CJ14: =CJ12/(1-CJ15) -> 90.399782 | CZ14: FTE в штате | DA14: =DA12/(1-DA15) -> 60.994453 | DQ14: FTE в штате | DR14: =DR12/(1-DR15) -> 61.730707 | EH14: FTE в штате | EI14: =EI12/(1-EI15) -> 59.521585 | EY14: FTE в штате | EZ14: =EZ12/(1-EZ15) -> 59.28834 | FP14: FTE в штате | FQ14: =FQ12/(1-FQ15) -> 64.315167 | GG14: FTE в штате | GH14: =GH12/(1-GH15) -> 61.738288
B15: Плановые отсутствия | C15: 0.17 | S15: Плановые отсутствия | T15: 0.17 | AJ15: Плановые отсутствия | AK15: 0.17 | BA15: Плановые отсутствия | BB15: 0.17 | BR15: Плановые отсутствия | BS15: 0.17 | CI15: Плановые отсутствия | CJ15: 0.17 | CZ15: Плановые отсутствия | DA15: 0.17 | DQ15: Плановые отсутствия | DR15: 0.17 | EH15: Плановые отсутствия | EI15: 0.18 | EY15: Плановые отсутствия | EZ15: 0.18 | FP15: Плановые отсутствия | FQ15: 0.18 | GG15: Плановые отсутствия | GH15: 0.18
B16: Неплановые отсутствия | C16: 0.07 | S16: Неплановые отсутствия | T16: 0.07 | AJ16: Неплановые отсутствия | AK16: 0.07 | BA16: Неплановые отсутствия | BB16: 0.07 | BR16: Неплановые отсутствия | BS16: 0.07 | CI16: Неплановые отсутствия | CJ16: 0.07 | CZ16: Неплановые отсутствия | DA16: 0.07 | DQ16: Неплановые отсутствия | DR16: 0.07 | EH16: Неплановые отсутствия | EI16: 0.07 | EY16: Неплановые отсутствия | EZ16: 0.07 | FP16: Неплановые отсутствия | FQ16: 0.07 | GG16: Неплановые отсутствия | GH16: 0.07
B17: Utilization | C17: 0.86 | S17: Utilization | T17: 0.86 | AJ17: Utilization | AK17: 0.86 | BA17: Utilization | BB17: 0.86 | BR17: Utilization | BS17: 0.86 | CI17: Utilization | CJ17: 0.86 | CZ17: Utilization | DA17: 0.86 | DQ17: Utilization | DR17: 0.86 | EH17: Utilization | EI17: 0.86 | EY17: Utilization | EZ17: 0.86 | FP17: Utilization | FQ17: 0.86 | GG17: Utilization | GH17: 0.86
B18: FTE, hrs*month | C18: =C19*C20 -> 160 | S18: FTE, hrs*month | T18: =T19*T20 -> 160 | AJ18: FTE, hrs*month | AK18: =AK19*AK20 -> 148 | BA18: FTE, hrs*month | BB18: =BB19*BB20 -> 174 | BR18: FTE, hrs*month | BS18: =BS19*BS20 -> 144.83333 | CI18: FTE, hrs*month | CJ18: =CJ19*CJ20 -> 173.33333 | CZ18: FTE, hrs*month | DA18: =DA19*DA20 -> 174 | DQ18: FTE, hrs*month | DR18: =DR19*DR20 -> 167 | EH18: FTE, hrs*month | EI18: =EI19*EI20 -> 174 | EY18: FTE, hrs*month | EZ18: =EZ19*EZ20 -> 176 | FP18: FTE, hrs*month | FQ18: =FQ19*FQ20 -> 165 | GG18: FTE, hrs*month | GH18: =GH19*GH20 -> 174
B19: FTE, hrs*day | C19: 6.6666667 | S19: FTE, hrs*day | T19: 6.6666667 | AJ19: FTE, hrs*day | AK19: 6.7272727 | BA19: FTE, hrs*day | BB19: 6.6923077 | BR19: FTE, hrs*day | BS19: 6.5833333 | CI19: FTE, hrs*day | CJ19: 6.6666667 | CZ19: FTE, hrs*day | DA19: 6.6923077 | DQ19: FTE, hrs*day | DR19: 6.68 | EH19: FTE, hrs*day | EI19: 6.6923077 | EY19: FTE, hrs*day | EZ19: 6.7692308 | FP19: FTE, hrs*day | FQ19: 6.6 | GG19: FTE, hrs*day | GH19: 6.6923077
B20: Рабочих дней | C20: 24 | S20: Рабочих дней | T20: 24 | AJ20: Рабочих дней | AK20: 22 | BA20: Рабочих дней | BB20: 26 | BR20: Рабочих дней | BS20: 22 | CI20: Рабочих дней | CJ20: 26 | CZ20: Рабочих дней | DA20: 26 | DQ20: Рабочих дней | DR20: 25 | EH20: Рабочих дней | EI20: 26 | EY20: Рабочих дней | EZ20: 26 | FP20: Рабочих дней | FQ20: 25 | GG20: Рабочих дней | GH20: 26
B21: Выходных дней | C21: 7 | S21: Выходных дней | T21: 4 | AJ21: Выходных дней | AK21: 9 | BA21: Выходных дней | BB21: 4 | BR21: Выходных дней | BS21: 9 | CI21: Выходных дней | CJ21: 4 | CZ21: Выходных дней | DA21: 5 | DQ21: Выходных дней | DR21: 6 | EH21: Выходных дней | EI21: 4 | EY21: Выходных дней | EZ21: 4 | FP21: Выходных дней | FQ21: 5 | GG21: Выходных дней | GH21: 5
B23: Средний день | S23: Средний день | AJ23: Средний день | BA23: Средний день | BR23: Средний день | CI23: Средний день | CZ23: Средний день | DQ23: Средний день | EH23: Средний день | EY23: Средний день | FP23: Средний день | GG23: Средний день
B24: % | C24: Звонки вход. | D24: Звонки исход. | E24: Неголосовые тикеты | F24: Чаты | G24: Агенты вход. | H24: Агенты исход. | I24: Агенты Неголос. Тикеты | J24: Агенты чаты | K24: Агенты в линии ВСЕГО | L24: SL Вход. | M24: SL Чаты | N24: ASA вход., sec | O24: AR Вход. | P24: OCC Все каналы | S24: % | T24: Звонки вход. | U24: Звонки исход. | V24: Неголосовые тикеты | W24: Чаты | X24: Агенты вход. | Y24: Агенты исход. | Z24: Агенты Неголос. Тикеты | AA24: Агенты чаты | AB24: Агенты в линии ВСЕГО | AC24: SL Вход. | AD24: SL Чаты | AE24: ASA вход., sec | AF24: AR Вход. | AG24: OCC Все каналы | AJ24: % | AK24: Звонки вход. | AL24: Звонки исход. | AM24: Неголосовые тикеты | AN24: Чаты | AO24: Агенты вход. | AP24: Агенты исход. | AQ24: Агенты Неголос. Тикеты | AR24: Агенты чаты | AS24: Агенты в линии ВСЕГО | AT24: SL Вход. | AU24: SL Чаты | AV24: ASA вход., sec | AW24: AR Вход. | AX24: OCC Все каналы | BA24: % | BB24: Звонки вход. | BC24: Звонки исход. | BD24: Неголосовые тикеты | BE24: Чаты | BF24: Агенты вход. | BG24: Агенты исход. | BH24: Агенты Неголос. Тикеты | BI24: Агенты чаты | BJ24: Агенты в линии ВСЕГО | BK24: SL Вход. | BL24: SL Чаты | BM24: ASA вход., sec | BN24: AR Вход. | BO24: OCC Все каналы | BR24: % | BS24: Звонки вход. | BT24: Звонки исход. | BU24: Неголосовые тикеты | BV24: Чаты | BW24: Агенты вход. | BX24: Агенты исход. | BY24: Агенты Неголос. Тикеты | BZ24: Агенты чаты | CA24: Агенты в линии ВСЕГО | CB24: SL Вход. | CC24: SL Чаты | CD24: ASA вход., sec | CE24: AR Вход. | CF24: OCC Все каналы | CI24: % | CJ24: Звонки вход. | CK24: Звонки исход. | CL24: Неголосовые тикеты | CM24: Чаты | CN24: Агенты вход. | CO24: Агенты исход. | CP24: Агенты Неголос. Тикеты | CQ24: Агенты чаты | CR24: Агенты в линии ВСЕГО | CS24: SL Вход. | CT24: SL Чаты | CU24: ASA вход., sec | CV24: AR Вход. | CW24: OCC Все каналы | CZ24: % | DA24: Звонки вход. | DB24: Звонки исход. | DC24: Неголосовые тикеты | DD24: Чаты | DE24: Агенты вход. | DF24: Агенты исход. | DG24: Агенты Неголос. Тикеты | DH24: Агенты чаты | DI24: Агенты в линии ВСЕГО | DJ24: SL Вход. | DK24: SL Чаты | DL24: ASA вход., sec | DM24: AR Вход. | DN24: OCC Все каналы | DQ24: % | DR24: Звонки вход. | DS24: Звонки исход. | DT24: Неголосовые тикеты | DU24: Чаты | DV24: Агенты вход. | DW24: Агенты исход. | DX24: Агенты Неголос. Тикеты | DY24: Агенты чаты | DZ24: Агенты в линии ВСЕГО | EA24: SL Вход. | EB24: SL Чаты | EC24: ASA вход., sec | ED24: AR Вход. | EE24: OCC Все каналы | EH24: % | EI24: Звонки вход. | EJ24: Звонки исход. | EK24: Неголосовые тикеты | EL24: Чаты | EM24: Агенты вход. | EN24: Агенты исход. | EO24: Агенты Неголос. Тикеты | EP24: Агенты чаты | EQ24: Агенты в линии ВСЕГО | ER24: SL Вход. | ES24: SL Чаты | ET24: ASA вход., sec | EU24: AR Вход. | EV24: OCC Все каналы | EY24: % | EZ24: Звонки вход. | FA24: Звонки исход. | FB24: Неголосовые тикеты | FC24: Чаты | FD24: Агенты вход. | FE24: Агенты исход. | FF24: Агенты Неголос. Тикеты | FG24: Агенты чаты | FH24: Агенты в линии ВСЕГО | FI24: SL Вход. | FJ24: SL Чаты | FK24: ASA вход., sec | FL24: AR Вход. | FM24: OCC Все каналы | FP24: % | FQ24: Звонки вход. | FR24: Звонки исход. | FS24: Неголосовые тикеты | FT24: Чаты | FU24: Агенты вход. | FV24: Агенты исход. | FW24: Агенты Неголос. Тикеты | FX24: Агенты чаты | FY24: Агенты в линии ВСЕГО | FZ24: SL Вход. | GA24: SL Чаты | GB24: ASA вход., sec | GC24: AR Вход. | GD24: OCC Все каналы | GG24: % | GH24: Звонки вход. | GI24: Звонки исход. | GJ24: Неголосовые тикеты | GK24: Чаты | GL24: Агенты вход. | GM24: Агенты исход. | GN24: Агенты Неголос. Тикеты | GO24: Агенты чаты | GP24: Агенты в линии ВСЕГО | GQ24: SL Вход. | GR24: SL Чаты | GS24: ASA вход., sec | GT24: AR Вход. | GU24: OCC Все каналы
B25: =SUM(B26:B49) -> 1 | C25: =C3/A1 -> 0 | D25: =C4/A1*A4 -> 154.83871 | E25: =C5/A1 -> 0 | F25: =C6/A1 -> 2070.9677 | G25: =SUM(G26:G49) -> 15 | H25: =SUM(H26:H49) -> 41.623309 | I25: =SUM(I26:I49) -> 0 | J25: =SUM(J26:J49) -> 332 | K25: =SUM(K26:K49) -> 388.62331 | L25: =SUMPRODUCT(C26:C49,L26:L49)/C25 -> #DIV/0! | M25: =SUMPRODUCT(F26:F49,M26:M49)/F25 -> 0.66800468 | N25: =SUMPRODUCT(C26:C49,N26:N49)/C25 -> #DIV/0! | O25: =SUMPRODUCT(C26:C49,O26:O49)/C25 -> #DIV/0! | P25: =SUMPRODUCT(K26:K49,P26:P49)/K25 -> 0.73223146 | S25: =SUM(S26:S49) -> 1 | T25: =T3/R1 -> 0 | U25: =T4/R1*R4 -> 142.85714 | V25: =T5/R1 -> 0 | W25: =T6/R1 -> 2103.5714 | X25: =SUM(X26:X49) -> #NAME? | Y25: =SUM(Y26:Y49) -> 42.669398 | Z25: =SUM(Z26:Z49) -> 0 | AA25: =SUM(AA26:AA49) -> 371 | AB25: =SUM(AB26:AB49) -> #NAME? | AC25: =SUMPRODUCT(T26:T49,AC26:AC49)/T25 -> #VALUE! | AD25: =SUMPRODUCT(W26:W49,AD26:AD49)/W25 -> 0.68036723 | AE25: =SUMPRODUCT(T26:T49,AE26:AE49)/T25 -> #VALUE! | AF25: =SUMPRODUCT(T26:T49,AF26:AF49)/T25 -> #NAME? | AG25: =SUMPRODUCT(AB26:AB49,AG26:AG49)/AB25 -> #NAME? | AJ25: =SUM(AJ26:AJ49) -> 1 | AK25: =AK3/AI1 -> 0 | AL25: =AK4/AI1*AI4 -> 160 | AM25: =AK5/AI1 -> 0 | AN25: =AK6/AI1 -> 1967.7419 | AO25: =SUM(AO26:AO49) -> #NAME? | AP25: =SUM(AP26:AP49) -> 47.789725 | AQ25: =SUM(AQ26:AQ49) -> 0 | AR25: =SUM(AR26:AR49) -> 353 | AS25: =SUM(AS26:AS49) -> #NAME? | AT25: =SUMPRODUCT(AK26:AK49,AT26:AT49)/AK25 -> #VALUE! | AU25: =SUMPRODUCT(AN26:AN49,AU26:AU49)/AN25 -> 0.65474522 | AV25: =SUMPRODUCT(AK26:AK49,AV26:AV49)/AK25 -> #VALUE! | AW25: =SUMPRODUCT(AK26:AK49,AW26:AW49)/AK25 -> #NAME? | AX25: =SUMPRODUCT(AS26:AS49,AX26:AX49)/AS25 -> #NAME? | BA25: =SUM(BA26:BA49) -> 1 | BB25: =BB3/AZ1 -> 0 | BC25: =BB4/AZ1*AZ4 -> 152 | BD25: =BB5/AZ1 -> 0 | BE25: =BB6/AZ1 -> 1866.6667 | BF25: =SUM(BF26:BF49) -> 15 | BG25: =SUM(BG26:BG49) -> 45.400239 | BH25: =SUM(BH26:BH49) -> 0 | BI25: =SUM(BI26:BI49) -> 333 | BJ25: =SUM(BJ26:BJ49) -> 393.40024 | BK25: =SUMPRODUCT(BB26:BB49,BK26:BK49)/BB25 -> #DIV/0! | BL25: =SUMPRODUCT(BE26:BE49,BL26:BL49)/BE25 -> 0.66427007 | BM25: =SUMPRODUCT(BB26:BB49,BM26:BM49)/BB25 -> #DIV/0! | BN25: =SUMPRODUCT(BB26:BB49,BN26:BN49)/BB25 -> #DIV/0! | BO25: =SUMPRODUCT(BJ26:BJ49,BO26:BO49)/BJ25 -> 0.73094911 | BR25: =SUM(BR26:BR49) -> 1 | BS25: =BS3/BQ1 -> 0 | BT25: =BS4/BQ1*BQ4 -> 141.93548 | BU25: =BS5/BQ1 -> 0 | BV25: =BS6/BQ1 -> 1725.8065 | BW25: =SUM(BW26:BW49) -> #NAME? | BX25: =SUM(BX26:BX49) -> 42.394111 | BY25: =SUM(BY26:BY49) -> 0 | BZ25: =SUM(BZ26:BZ49) -> 311 | CA25: =SUM(CA26:CA49) -> #NAME? | CB25: =SUMPRODUCT(BS26:BS49,CB26:CB49)/BS25 -> #NAME? | CC25: =SUMPRODUCT(BV26:BV49,CC26:CC49)/BV25 -> 0.66619753 | CD25: =SUMPRODUCT(BS26:BS49,CD26:CD49)/BS25 -> #NAME? | CE25: =SUMPRODUCT(BS26:BS49,CE26:CE49)/BS25 -> #NAME? | CF25: =SUMPRODUCT(CA26:CA49,CF26:CF49)/CA25 -> #NAME? | CI25: =SUM(CI26:CI49) -> 1 | CJ25: =CJ3/CH1 -> 0 | CK25: =CJ4/CH1*CH4 -> 133.33333 | CL25: =CJ5/CH1 -> 0 | CM25: =CJ6/CH1 -> 1833.3333 | CN25: =SUM(CN26:CN49) -> 15 | CO25: =SUM(CO26:CO49) -> 39.824771 | CP25: =SUM(CP26:CP49) -> 0 | CQ25: =SUM(CQ26:CQ49) -> 333 | CR25: =SUM(CR26:CR49) -> 387.82477 | CS25: =SUMPRODUCT(CJ26:CJ49,CS26:CS49)/CJ25 -> #DIV/0! | CT25: =SUMPRODUCT(CM26:CM49,CT26:CT49)/CM25 -> 0.66653705 | CU25: =SUMPRODUCT(CJ26:CJ49,CU26:CU49)/CJ25 -> #DIV/0! | CV25: =SUMPRODUCT(CJ26:CJ49,CV26:CV49)/CJ25 -> #DIV/0! | CW25: =SUMPRODUCT(CR26:CR49,CW26:CW49)/CR25 -> 0.73261691 | CZ25: =SUM(CZ26:CZ49) -> 1 | DA25: =DA3/CY1 -> 0 | DB25: =DA4/CY1*CY4 -> 90.322581 | DC25: =DA5/CY1 -> 0 | DD25: =DA6/CY1 -> 709.67742 | DE25: =SUM(DE26:DE49) -> 15 | DF25: =SUM(DF26:DF49) -> 32.373685 | DG25: =SUM(DG26:DG49) -> 0 | DH25: =SUM(DH26:DH49) -> 212 | DI25: =SUM(DI26:DI49) -> 259.37368 | DJ25: =SUMPRODUCT(DA26:DA49,DJ26:DJ49)/DA25 -> #DIV/0! | DK25: =SUMPRODUCT(DD26:DD49,DK26:DK49)/DD25 -> 0.73415984 | DL25: =SUMPRODUCT(DA26:DA49,DL26:DL49)/DA25 -> #DIV/0! | DM25: =SUMPRODUCT(DA26:DA49,DM26:DM49)/DA25 -> #DIV/0! | DN25: =SUMPRODUCT(DI26:DI49,DN26:DN49)/DI25 -> 0.67767326 | DQ25: =SUM(DQ26:DQ49) -> 1 | DR25: =DR3/DP1 -> 0 | DS25: =DR4/DP1*DP4 -> 90.322581 | DT25: =DR5/DP1 -> 0 | DU25: =DR6/DP1 -> 677.41935 | DV25: =SUM(DV26:DV49) -> 15 | DW25: =SUM(DW26:DW49) -> 32.373685 | DX25: =SUM(DX26:DX49) -> 0 | DY25: =SUM(DY26:DY49) -> 205 | DZ25: =SUM(DZ26:DZ49) -> 252.37368 | EA25: =SUMPRODUCT(DR26:DR49,EA26:EA49)/DR25 -> #DIV/0! | EB25: =SUMPRODUCT(DU26:DU49,EB26:EB49)/DU25 -> 0.74082593 | EC25: =SUMPRODUCT(DR26:DR49,EC26:EC49)/DR25 -> #DIV/0! | ED25: =SUMPRODUCT(DR26:DR49,ED26:ED49)/DR25 -> #DIV/0! | EE25: =SUMPRODUCT(DZ26:DZ49,EE26:EE49)/DZ25 -> 0.66806549 | EH25: =SUM(EH26:EH49) -> 1 | EI25: =EI3/EG1 -> 0 | EJ25: =EI4/EG1*EG4 -> 93.333333 | EK25: =EI5/EG1 -> 0 | EL25: =EI6/EG1 -> 700 | EM25: =SUM(EM26:EM49) -> 15 | EN25: =SUM(EN26:EN49) -> 33.452808 | EO25: =SUM(EO26:EO49) -> 0 | EP25: =SUM(EP26:EP49) -> 210 | EQ25: =SUM(EQ26:EQ49) -> 258.45281 | ER25: =SUMPRODUCT(EI26:EI49,ER26:ER49)/EI25 -> #DIV/0! | ES25: =SUMPRODUCT(EL26:EL49,ES26:ES49)/EL25 -> 0.73987877 | ET25: =SUMPRODUCT(EI26:EI49,ET26:ET49)/EI25 -> #DIV/0! | EU25: =SUMPRODUCT(EI26:EI49,EU26:EU49)/EI25 -> #DIV/0! | EV25: =SUMPRODUCT(EQ26:EQ49,EV26:EV49)/EQ25 -> 0.67409685 | EY25: =SUM(EY26:EY49) -> 1 | EZ25: =EZ3/EX1 -> 0 | FA25: =EZ4/EX1*EX4 -> 90.322581 | FB25: =EZ5/EX1 -> 0 | FC25: =EZ6/EX1 -> 677.41935 | FD25: =SUM(FD26:FD49) -> 15 | FE25: =SUM(FE26:FE49) -> 32.373685 | FF25: =SUM(FF26:FF49) -> 0 | FG25: =SUM(FG26:FG49) -> 205 | FH25: =SUM(FH26:FH49) -> 252.37368 | FI25: =SUMPRODUCT(EZ26:EZ49,FI26:FI49)/EZ25 -> #DIV/0! | FJ25: =SUMPRODUCT(FC26:FC49,FJ26:FJ49)/FC25 -> 0.74082593 | FK25: =SUMPRODUCT(EZ26:EZ49,FK26:FK49)/EZ25 -> #DIV/0! | FL25: =SUMPRODUCT(EZ26:EZ49,FL26:FL49)/EZ25 -> #DIV/0! | FM25: =SUMPRODUCT(FH26:FH49,FM26:FM49)/FH25 -> 0.66806549 | FP25: =SUM(FP26:FP49) -> 1 | FQ25: =FQ3/FO1 -> 0 | FR25: =FQ4/FO1*FO4 -> 93.333333 | FS25: =FQ5/FO1 -> 0 | FT25: =FQ6/FO1 -> 716.66667 | FU25: =SUM(FU26:FU49) -> 15 | FV25: =SUM(FV26:FV49) -> 33.452808 | FW25: =SUM(FW26:FW49) -> 0 | FX25: =SUM(FX26:FX49) -> 216 | FY25: =SUM(FY26:FY49) -> 264.45281 | FZ25: =SUMPRODUCT(FQ26:FQ49,FZ26:FZ49)/FQ25 -> #DIV/0! | GA25: =SUMPRODUCT(FT26:FT49,GA26:GA49)/FT25 -> 0.73643047 | GB25: =SUMPRODUCT(FQ26:FQ49,GB26:GB49)/FQ25 -> #DIV/0! | GC25: =SUMPRODUCT(FQ26:FQ49,GC26:GC49)/FQ25 -> #DIV/0! | GD25: =SUMPRODUCT(FY26:FY49,GD26:GD49)/FY25 -> 0.67280785 | GG25: =SUM(GG26:GG49) -> 1 | GH25: =GH3/GF1 -> 0 | GI25: =GH4/GF1*GF4 -> 90.322581 | GJ25: =GH5/GF1 -> 0 | GK25: =GH6/GF1 -> 709.67742 | GL25: =SUM(GL26:GL49) -> 15 | GM25: =SUM(GM26:GM49) -> 32.373685 | GN25: =SUM(GN26:GN49) -> 0 | GO25: =SUM(GO26:GO49) -> 212 | GP25: =SUM(GP26:GP49) -> 259.37368 | GQ25: =SUMPRODUCT(GH26:GH49,GQ26:GQ49)/GH25 -> #DIV/0! | GR25: =SUMPRODUCT(GK26:GK49,GR26:GR49)/GK25 -> 0.73415984 | GS25: =SUMPRODUCT(GH26:GH49,GS26:GS49)/GH25 -> #DIV/0! | GT25: =SUMPRODUCT(GH26:GH49,GT26:GT49)/GH25 -> #DIV/0! | GU25: =SUMPRODUCT(GP26:GP49,GU26:GU49)/GP25 -> 0.67767326
A26: 0 | R26: 0 | AI26: 0 | AZ26: 0 | BQ26: 0 | CH26: 0 | CY26: 0 | DP26: 0 | EG26: 0 | EX26: 0 | FO26: 0 | GF26: 0
A27: 0.041666667 | R27: 0.041666667 | AI27: 0.041666667 | AZ27: 0.041666667 | BQ27: 0.041666667 | CH27: 0.041666667 | CY27: 0.041666667 | DP27: 0.041666667 | EG27: 0.041666667 | EX27: 0.041666667 | FO27: 0.041666667 | GF27: 0.041666667
A28: 0.083333333 | R28: 0.083333333 | AI28: 0.083333333 | AZ28: 0.083333333 | BQ28: 0.083333333 | CH28: 0.083333333 | CY28: 0.083333333 | DP28: 0.083333333 | EG28: 0.083333333 | EX28: 0.083333333 | FO28: 0.083333333 | GF28: 0.083333333
A29: 0.125 | R29: 0.125 | AI29: 0.125 | AZ29: 0.125 | BQ29: 0.125 | CH29: 0.125 | CY29: 0.125 | DP29: 0.125 | EG29: 0.125 | EX29: 0.125 | FO29: 0.125 | GF29: 0.125
A30: 0.16666667 | R30: 0.16666667 | AI30: 0.16666667 | AZ30: 0.16666667 | BQ30: 0.16666667 | CH30: 0.16666667 | CY30: 0.16666667 | DP30: 0.16666667 | EG30: 0.16666667 | EX30: 0.16666667 | FO30: 0.16666667 | GF30: 0.16666667
A31: 0.20833333 | R31: 0.20833333 | AI31: 0.20833333 | AZ31: 0.20833333 | BQ31: 0.20833333 | CH31: 0.20833333 | CY31: 0.20833333 | DP31: 0.20833333 | EG31: 0.20833333 | EX31: 0.20833333 | FO31: 0.20833333 | GF31: 0.20833333
A32: 0.25 | R32: 0.25 | AI32: 0.25 | AZ32: 0.25 | BQ32: 0.25 | CH32: 0.25 | CY32: 0.25 | DP32: 0.25 | EG32: 0.25 | EX32: 0.25 | FO32: 0.25 | GF32: 0.25
A33: 0.29166667 | R33: 0.29166667 | AI33: 0.29166667 | AZ33: 0.29166667 | BQ33: 0.29166667 | CH33: 0.29166667 | CY33: 0.29166667 | DP33: 0.29166667 | EG33: 0.29166667 | EX33: 0.29166667 | FO33: 0.29166667 | GF33: 0.29166667
A34: 0.33333333 | B34: 0.051936408 | C34: =C$25*B34 -> 0 | D34: =D$25/15 -> 10.322581 | E34: =E$25*B34 -> 0 | F34: =F$25*B34 -> 107.55863 | G34: =[1]!ErlangC_Agents(C34/60,D$3,0.9,E$3/60) -> 1 | H34: =(D34*D$4)/(60*(1-C$16)*0.6) -> 2.7748873 | I34: =(E34*D$5)/(60*(1-C$16)*0.75) -> 0 | J34: =[1]!ErlangC_Agents(F34/60/C$7,D$6,0.8,E$6/60) -> 18 | K34: =SUM(G34:J34) -> 21.774887 | L34: =[1]!ErlangC_ServiceLevel(C34/60,D$3,G34*(1-C$16),E$3/60) -> 1 | M34: =[1]!ErlangC_ServiceLevel(F34/60/C$7,D$6,J34*(1-C$16),E$6/60) -> 0.76287053 | N34: =[1]!ErlangC_ASA(C34/60,D$3,G34*(1-C$16))*60 -> 0 | O34: =[2]!Abandon(G34,F$3,C34,D$3*60) -> 0 | P34: =(C34*D$3+D34*D$4+E34*D$5+F34/C$7*D$6)/(K34*60) -> 0.6944358 | R34: 0.33333333 | S34: 0.051936408 | T34: =T$25*S34 -> 0 | U34: =U$25/15 -> 9.5238095 | V34: =V$25*S34 -> 0 | W34: =W$25*S34 -> 109.25194 | X34: =[3]!ErlangC_Agents(T34/60,U$3,0.9,V$3/60) -> #NAME? | Y34: =(U34*U$4)/(60*(1-T$16)*0.6) -> 2.8446265 | Z34: =(V34*U$5)/(60*(1-T$16)*0.75) -> 0 | AA34: =[1]!ErlangC_Agents(W34/60/T$7,U$6,0.8,V$6/60) -> 20 | AB34: =SUM(X34:AA34) -> #NAME? | AC34: =[1]!ErlangC_ServiceLevel(T34/60,U$3,X34*(1-T$16),V$3/60) -> #VALUE! | AD34: =[1]!ErlangC_ServiceLevel(W34/60/T$7,U$6,AA34*(1-T$16),V$6/60) -> 0.76331578 | AE34: =[1]!ErlangC_ASA(T34/60,U$3,X34*(1-T$16))*60 -> #VALUE! | AF34: =[4]!Abandon(X34,W$3,T34,U$3*60) -> #NAME? | AG34: =(T34*U$3+U34*U$4+V34*U$5+W34/T$7*U$6)/(AB34*60) -> #NAME? | AI34: 0.33333333 | AJ34: 0.051936408 | AK34: =AK$25*AJ34 -> 0 | AL34: =AL$25/15 -> 10.666667 | AM34: =AM$25*AJ34 -> 0 | AN34: =AN$25*AJ34 -> 102.19745 | AO34: =[3]!ErlangC_Agents(AK34/60,AL$3,0.9,AM$3/60) -> #NAME? | AP34: =(AL34*AL$4)/(60*(1-AK$16)*0.6) -> 3.1859817 | AQ34: =(AM34*AL$5)/(60*(1-AK$16)*0.75) -> 0 | AR34: =[1]!ErlangC_Agents(AN34/60/AK$7,AL$6,0.8,AM$6/60) -> 19 | AS34: =SUM(AO34:AR34) -> #NAME? | AT34: =[1]!ErlangC_ServiceLevel(AK34/60,AL$3,AO34*(1-AK$16),AM$3/60) -> #VALUE! | AU34: =[1]!ErlangC_ServiceLevel(AN34/60/AK$7,AL$6,AR34*(1-AK$16),AM$6/60) -> 0.74285366 | AV34: =[1]!ErlangC_ASA(AK34/60,AL$3,AO34*(1-AK$16))*60 -> #VALUE! | AW34: =[4]!Abandon(AO34,AN$3,AK34,AL$3*60) -> #NAME? | AX34: =(AK34*AL$3+AL34*AL$4+AM34*AL$5+AN34/AK$7*AL$6)/(AS34*60) -> #NAME? | AZ34: 0.33333333 | BA34: 0.051936408 | BB34: =BB$25*BA34 -> 0 | BC34: =BC$25/15 -> 10.133333 | BD34: =BD$25*BA34 -> 0 | BE34: =BE$25*BA34 -> 96.947962 | BF34: =[1]!ErlangC_Agents(BB34/60,BC$3,0.9,BD$3/60) -> 1 | BG34: =(BC34*BC$4)/(60*(1-BB$16)*0.6) -> 3.0266826 | BH34: =(BD34*BC$5)/(60*(1-BB$16)*0.75) -> 0 | BI34: =[1]!ErlangC_Agents(BE34/60/BB$7,BC$6,0.8,BD$6/60) -> 18 | BJ34: =SUM(BF34:BI34) -> 22.026683 | BK34: =[1]!ErlangC_ServiceLevel(BB34/60,BC$3,BF34*(1-BB$16),BD$3/60) -> 1 | BL34: =[1]!ErlangC_ServiceLevel(BE34/60/BB$7,BC$6,BI34*(1-BB$16),BD$6/60) -> 0.75240982 | BM34: =[1]!ErlangC_ASA(BB34/60,BC$3,BF34*(1-BB$16))*60 -> 0 | BN34: =[2]!Abandon(BF34,BE$3,BB34,BC$3*60) -> 0 | BO34: =(BB34*BC$3+BC34*BC$4+BD34*BC$5+BE34/BB$7*BC$6)/(BJ34*60) -> 0.69496481 | BQ34: 0.33333333 | BR34: 0.051936408 | BS34: =BS$25*BR34 -> 0 | BT34: =BT$25/15 -> 9.4623656 | BU34: =BU$25*BR34 -> 0 | BV34: =BV$25*BR34 -> 89.632188 | BW34: =[3]!ErlangC_Agents(BS34/60,BT$3,0.9,BU$3/60) -> #NAME? | BX34: =(BT34*BT$4)/(60*(1-BS$16)*0.6) -> 2.8262741 | BY34: =(BU34*BT$5)/(60*(1-BS$16)*0.75) -> 0 | BZ34: =[1]!ErlangC_Agents(BV34/60/BS$7,BT$6,0.8,BU$6/60) -> 17 | CA34: =SUM(BW34:BZ34) -> #NAME? | CB34: =[3]!ErlangC_ServiceLevel(BS34/60,BT$3,BW34*(1-BS$16),BU$3/60) -> #NAME? | CC34: =[1]!ErlangC_ServiceLevel(BV34/60/BS$7,BT$6,BZ34*(1-BS$16),BU$6/60) -> 0.76784727 | CD34: =[3]!ErlangC_ASA(BS34/60,BT$3,BW34*(1-BS$16))*60 -> #NAME? | CE34: =[4]!Abandon(BW34,BV$3,BS34,BT$3*60) -> #NAME? | CF34: =(BS34*BT$3+BT34*BT$4+BU34*BT$5+BV34/BS$7*BT$6)/(CA34*60) -> #NAME? | CH34: 0.33333333 | CI34: 0.051936408 | CJ34: =CJ$25*CI34 -> 0 | CK34: =CK$25/15 -> 8.8888889 | CL34: =CL$25*CI34 -> 0 | CM34: =CM$25*CI34 -> 95.216748 | CN34: =[1]!ErlangC_Agents(CJ34/60,CK$3,0.9,CL$3/60) -> 1 | CO34: =(CK34*CK$4)/(60*(1-CJ$16)*0.6) -> 2.6549847 | CP34: =(CL34*CK$5)/(60*(1-CJ$16)*0.75) -> 0 | CQ34: =[1]!ErlangC_Agents(CM34/60/CJ$7,CK$6,0.8,CL$6/60) -> 18 | CR34: =SUM(CN34:CQ34) -> 21.654985 | CS34: =[1]!ErlangC_ServiceLevel(CJ34/60,CK$3,CN34*(1-CJ$16),CL$3/60) -> 1 | CT34: =[1]!ErlangC_ServiceLevel(CM34/60/CJ$7,CK$6,CQ34*(1-CJ$16),CL$6/60) -> 0.75376893 | CU34: =[1]!ErlangC_ASA(CJ34/60,CK$3,CN34*(1-CJ$16))*60 -> 0 | CV34: =[2]!Abandon(CN34,CM$3,CJ34,CK$3*60) -> 0 | CW34: =(CJ34*CK$3+CK34*CK$4+CL34*CK$5+CM34/CJ$7*CK$6)/(CR34*60) -> 0.69655436 | CY34: 0.33333333 | CZ34: 0.029211151 | DA34: =DA$25*CZ34 -> 0 | DB34: =DB$25/15 -> 6.0215054 | DC34: =DC$25*CZ34 -> 0 | DD34: =DD$25*CZ34 -> 20.730495 | DE34: =[1]!ErlangC_Agents(DA34/60,DB$3,0.9,DC$3/60) -> 1 | DF34: =(DB34*DB$4)/(60*(1-DA$16)*0.6) -> 2.1582457 | DG34: =(DC34*DB$5)/(60*(1-DA$16)*0.75) -> 0 | DH34: =[1]!ErlangC_Agents(DD34/60/DA$7,DB$6,0.8,DC$6/60) -> 7 | DI34: =SUM(DE34:DH34) -> 10.158246 | DJ34: =[1]!ErlangC_ServiceLevel(DA34/60,DB$3,DE34*(1-DA$16),DC$3/60) -> 1 | DK34: =[1]!ErlangC_ServiceLevel(DD34/60/DA$7,DB$6,DH34*(1-DA$16),DC$6/60) -> 0.80115607 | DL34: =[1]!ErlangC_ASA(DA34/60,DB$3,DE34*(1-DA$16))*60 -> 0 | DM34: =[2]!Abandon(DE34,DD$3,DA34,DB$3*60) -> 0 | DN34: =(DA34*DB$3+DB34*DB$4+DC34*DB$5+DD34/DA$7*DB$6)/(DI34*60) -> 0.57205524 | DP34: 0.33333333 | DQ34: 0.029211151 | DR34: =DR$25*DQ34 -> 0 | DS34: =DS$25/15 -> 6.0215054 | DT34: =DT$25*DQ34 -> 0 | DU34: =DU$25*DQ34 -> 19.788199 | DV34: =[1]!ErlangC_Agents(DR34/60,DS$3,0.9,DT$3/60) -> 1 | DW34: =(DS34*DS$4)/(60*(1-DR$16)*0.6) -> 2.1582457 | DX34: =(DT34*DS$5)/(60*(1-DR$16)*0.75) -> 0 | DY34: =[1]!ErlangC_Agents(DU34/60/DR$7,DS$6,0.8,DT$6/60) -> 7 | DZ34: =SUM(DV34:DY34) -> 10.158246 | EA34: =[1]!ErlangC_ServiceLevel(DR34/60,DS$3,DV34*(1-DR$16),DT$3/60) -> 1 | EB34: =[1]!ErlangC_ServiceLevel(DU34/60/DR$7,DS$6,DY34*(1-DR$16),DT$6/60) -> 0.83679823 | EC34: =[1]!ErlangC_ASA(DR34/60,DS$3,DV34*(1-DR$16))*60 -> 0 | ED34: =[2]!Abandon(DV34,DU$3,DR34,DS$3*60) -> 0 | EE34: =(DR34*DS$3+DS34*DS$4+DT34*DS$5+DU34/DR$7*DS$6)/(DZ34*60) -> 0.55144155 | EG34: 0.33333333 | EH34: 0.029211151 | EI34: =EI$25*EH34 -> 0 | EJ34: =EJ$25/15 -> 6.2222222 | EK34: =EK$25*EH34 -> 0 | EL34: =EL$25*EH34 -> 20.447806 | EM34: =[1]!ErlangC_Agents(EI34/60,EJ$3,0.9,EK$3/60) -> 1 | EN34: =(EJ34*EJ$4)/(60*(1-EI$16)*0.6) -> 2.2301872 | EO34: =(EK34*EJ$5)/(60*(1-EI$16)*0.75) -> 0 | EP34: =[1]!ErlangC_Agents(EL34/60/EI$7,EJ$6,0.8,EK$6/60) -> 7 | EQ34: =SUM(EM34:EP34) -> 10.230187 | ER34: =[1]!ErlangC_ServiceLevel(EI34/60,EJ$3,EM34*(1-EI$16),EK$3/60) -> 1 | ES34: =[1]!ErlangC_ServiceLevel(EL34/60/EI$7,EJ$6,EP34*(1-EI$16),EK$6/60) -> 0.81234374 | ET34: =[1]!ErlangC_ASA(EI34/60,EJ$3,EM34*(1-EI$16))*60 -> 0 | EU34: =[2]!Abandon(EM34,EL$3,EI34,EJ$3*60) -> 0 | EV34: =(EI34*EJ$3+EJ34*EJ$4+EK34*EJ$5+EL34/EI$7*EJ$6)/(EQ34*60) -> 0.56581578 | EX34: 0.33333333 | EY34: 0.029211151 | EZ34: =EZ$25*EY34 -> 0 | FA34: =FA$25/15 -> 6.0215054 | FB34: =FB$25*EY34 -> 0 | FC34: =FC$25*EY34 -> 19.788199 | FD34: =[1]!ErlangC_Agents(EZ34/60,FA$3,0.9,FB$3/60) -> 1 | FE34: =(FA34*FA$4)/(60*(1-EZ$16)*0.6) -> 2.1582457 | FF34: =(FB34*FA$5)/(60*(1-EZ$16)*0.75) -> 0 | FG34: =[1]!ErlangC_Agents(FC34/60/EZ$7,FA$6,0.8,FB$6/60) -> 7 | FH34: =SUM(FD34:FG34) -> 10.158246 | FI34: =[1]!ErlangC_ServiceLevel(EZ34/60,FA$3,FD34*(1-EZ$16),FB$3/60) -> 1 | FJ34: =[1]!ErlangC_ServiceLevel(FC34/60/EZ$7,FA$6,FG34*(1-EZ$16),FB$6/60) -> 0.83679823 | FK34: =[1]!ErlangC_ASA(EZ34/60,FA$3,FD34*(1-EZ$16))*60 -> 0 | FL34: =[2]!Abandon(FD34,FC$3,EZ34,FA$3*60) -> 0 | FM34: =(EZ34*FA$3+FA34*FA$4+FB34*FA$5+FC34/EZ$7*FA$6)/(FH34*60) -> 0.55144155 | FO34: 0.33333333 | FP34: 0.029211151 | FQ34: =FQ$25*FP34 -> 0 | FR34: =FR$25/15 -> 6.2222222 | FS34: =FS$25*FP34 -> 0 | FT34: =FT$25*FP34 -> 20.934659 | FU34: =[1]!ErlangC_Agents(FQ34/60,FR$3,0.9,FS$3/60) -> 1 | FV34: =(FR34*FR$4)/(60*(1-FQ$16)*0.6) -> 2.2301872 | FW34: =(FS34*FR$5)/(60*(1-FQ$16)*0.75) -> 0 | FX34: =[1]!ErlangC_Agents(FT34/60/FQ$7,FR$6,0.8,FS$6/60) -> 8 | FY34: =SUM(FU34:FX34) -> 11.230187 | FZ34: =[1]!ErlangC_ServiceLevel(FQ34/60,FR$3,FU34*(1-FQ$16),FS$3/60) -> 1 | GA34: =[1]!ErlangC_ServiceLevel(FT34/60/FQ$7,FR$6,FX34*(1-FQ$16),FS$6/60) -> 0.79280645 | GB34: =[1]!ErlangC_ASA(FQ34/60,FR$3,FU34*(1-FQ$16))*60 -> 0 | GC34: =[2]!Abandon(FU34,FT$3,FQ34,FR$3*60) -> 0 | GD34: =(FQ34*FR$3+FR34*FR$4+FS34*FR$5+FT34/FQ$7*FR$6)/(FY34*60) -> 0.52506612 | GF34: 0.33333333 | GG34: 0.029211151 | GH34: =GH$25*GG34 -> 0 | GI34: =GI$25/15 -> 6.0215054 | GJ34: =GJ$25*GG34 -> 0 | GK34: =GK$25*GG34 -> 20.730495 | GL34: =[1]!ErlangC_Agents(GH34/60,GI$3,0.9,GJ$3/60) -> 1 | GM34: =(GI34*GI$4)/(60*(1-GH$16)*0.6) -> 2.1582457 | GN34: =(GJ34*GI$5)/(60*(1-GH$16)*0.75) -> 0 | GO34: =[1]!ErlangC_Agents(GK34/60/GH$7,GI$6,0.8,GJ$6/60) -> 7 | GP34: =SUM(GL34:GO34) -> 10.158246 | GQ34: =[1]!ErlangC_ServiceLevel(GH34/60,GI$3,GL34*(1-GH$16),GJ$3/60) -> 1 | GR34: =[1]!ErlangC_ServiceLevel(GK34/60/GH$7,GI$6,GO34*(1-GH$16),GJ$6/60) -> 0.80115607 | GS34: =[1]!ErlangC_ASA(GH34/60,GI$3,GL34*(1-GH$16))*60 -> 0 | GT34: =[2]!Abandon(GL34,GK$3,GH34,GI$3*60) -> 0 | GU34: =(GH34*GI$3+GI34*GI$4+GJ34*GI$5+GK34/GH$7*GI$6)/(GP34*60) -> 0.57205524
A35: 0.375 | B35: 0.079039559 | C35: =C$25*B35 -> 0 | D35: =D$25/15 -> 10.322581 | E35: =E$25*B35 -> 0 | F35: =F$25*B35 -> 163.68838 | G35: =[1]!ErlangC_Agents(C35/60,D$3,0.9,E$3/60) -> 1 | H35: =(D35*D$4)/(60*(1-C$16)*0.6) -> 2.7748873 | I35: =(E35*D$5)/(60*(1-C$16)*0.75) -> 0 | J35: =[1]!ErlangC_Agents(F35/60/C$7,D$6,0.8,E$6/60) -> 26 | K35: =SUM(G35:J35) -> 29.774887 | L35: =[1]!ErlangC_ServiceLevel(C35/60,D$3,G35*(1-C$16),E$3/60) -> 1 | M35: =[1]!ErlangC_ServiceLevel(F35/60/C$7,D$6,J35*(1-C$16),E$6/60) -> 0.68732895 | N35: =[1]!ErlangC_ASA(C35/60,D$3,G35*(1-C$16))*60 -> 0 | O35: =[2]!Abandon(G35,F$3,C35,D$3*60) -> 0 | P35: =(C35*D$3+D35*D$4+E35*D$5+F35/C$7*D$6)/(K35*60) -> 0.74573923 | R35: 0.375 | S35: 0.079039559 | T35: =T$25*S35 -> 0 | U35: =U$25/15 -> 9.5238095 | V35: =V$25*S35 -> 0 | W35: =W$25*S35 -> 166.26536 | X35: =[3]!ErlangC_Agents(T35/60,U$3,0.9,V$3/60) -> #NAME? | Y35: =(U35*U$4)/(60*(1-T$16)*0.6) -> 2.8446265 | Z35: =(V35*U$5)/(60*(1-T$16)*0.75) -> 0 | AA35: =[1]!ErlangC_Agents(W35/60/T$7,U$6,0.8,V$6/60) -> 29 | AB35: =SUM(X35:AA35) -> #NAME? | AC35: =[1]!ErlangC_ServiceLevel(T35/60,U$3,X35*(1-T$16),V$3/60) -> #VALUE! | AD35: =[1]!ErlangC_ServiceLevel(W35/60/T$7,U$6,AA35*(1-T$16),V$6/60) -> 0.69567101 | AE35: =[1]!ErlangC_ASA(T35/60,U$3,X35*(1-T$16))*60 -> #VALUE! | AF35: =[4]!Abandon(X35,W$3,T35,U$3*60) -> #NAME? | AG35: =(T35*U$3+U35*U$4+V35*U$5+W35/T$7*U$6)/(AB35*60) -> #NAME? | AI35: 0.375 | AJ35: 0.079039559 | AK35: =AK$25*AJ35 -> 0 | AL35: =AL$25/15 -> 10.666667 | AM35: =AM$25*AJ35 -> 0 | AN35: =AN$25*AJ35 -> 155.52946 | AO35: =[3]!ErlangC_Agents(AK35/60,AL$3,0.9,AM$3/60) -> #NAME? | AP35: =(AL35*AL$4)/(60*(1-AK$16)*0.6) -> 3.1859817 | AQ35: =(AM35*AL$5)/(60*(1-AK$16)*0.75) -> 0 | AR35: =[1]!ErlangC_Agents(AN35/60/AK$7,AL$6,0.8,AM$6/60) -> 27 | AS35: =SUM(AO35:AR35) -> #NAME? | AT35: =[1]!ErlangC_ServiceLevel(AK35/60,AL$3,AO35*(1-AK$16),AM$3/60) -> #VALUE! | AU35: =[1]!ErlangC_ServiceLevel(AN35/60/AK$7,AL$6,AR35*(1-AK$16),AM$6/60) -> 0.59526487 | AV35: =[1]!ErlangC_ASA(AK35/60,AL$3,AO35*(1-AK$16))*60 -> #VALUE! | AW35: =[4]!Abandon(AO35,AN$3,AK35,AL$3*60) -> #NAME? | AX35: =(AK35*AL$3+AL35*AL$4+AM35*AL$5+AN35/AK$7*AL$6)/(AS35*60) -> #NAME? | AZ35: 0.375 | BA35: 0.079039559 | BB35: =BB$25*BA35 -> 0 | BC35: =BC$25/15 -> 10.133333 | BD35: =BD$25*BA35 -> 0 | BE35: =BE$25*BA35 -> 147.54051 | BF35: =[1]!ErlangC_Agents(BB35/60,BC$3,0.9,BD$3/60) -> 1 | BG35: =(BC35*BC$4)/(60*(1-BB$16)*0.6) -> 3.0266826 | BH35: =(BD35*BC$5)/(60*(1-BB$16)*0.75) -> 0 | BI35: =[1]!ErlangC_Agents(BE35/60/BB$7,BC$6,0.8,BD$6/60) -> 26 | BJ35: =SUM(BF35:BI35) -> 30.026683 | BK35: =[1]!ErlangC_ServiceLevel(BB35/60,BC$3,BF35*(1-BB$16),BD$3/60) -> 1 | BL35: =[1]!ErlangC_ServiceLevel(BE35/60/BB$7,BC$6,BI35*(1-BB$16),BD$6/60) -> 0.67225852 | BM35: =[1]!ErlangC_ASA(BB35/60,BC$3,BF35*(1-BB$16))*60 -> 0 | BN35: =[2]!Abandon(BF35,BE$3,BB35,BC$3*60) -> 0 | BO35: =(BB35*BC$3+BC35*BC$4+BD35*BC$5+BE35/BB$7*BC$6)/(BJ35*60) -> 0.74649664 | BQ35: 0.375 | BR35: 0.079039559 | BS35: =BS$25*BR35 -> 0 | BT35: =BT$25/15 -> 9.4623656 | BU35: =BU$25*BR35 -> 0 | BV35: =BV$25*BR35 -> 136.40698 | BW35: =[3]!ErlangC_Agents(BS35/60,BT$3,0.9,BU$3/60) -> #NAME? | BX35: =(BT35*BT$4)/(60*(1-BS$16)*0.6) -> 2.8262741 | BY35: =(BU35*BT$5)/(60*(1-BS$16)*0.75) -> 0 | BZ35: =[1]!ErlangC_Agents(BV35/60/BS$7,BT$6,0.8,BU$6/60) -> 24 | CA35: =SUM(BW35:BZ35) -> #NAME? | CB35: =[3]!ErlangC_ServiceLevel(BS35/60,BT$3,BW35*(1-BS$16),BU$3/60) -> #NAME? | CC35: =[1]!ErlangC_ServiceLevel(BV35/60/BS$7,BT$6,BZ35*(1-BS$16),BU$6/60) -> 0.62784603 | CD35: =[3]!ErlangC_ASA(BS35/60,BT$3,BW35*(1-BS$16))*60 -> #NAME? | CE35: =[4]!Abandon(BW35,BV$3,BS35,BT$3*60) -> #NAME? | CF35: =(BS35*BT$3+BT35*BT$4+BU35*BT$5+BV35/BS$7*BT$6)/(CA35*60) -> #NAME? | CH35: 0.375 | CI35: 0.079039559 | CJ35: =CJ$25*CI35 -> 0 | CK35: =CK$25/15 -> 8.8888889 | CL35: =CL$25*CI35 -> 0 | CM35: =CM$25*CI35 -> 144.90586 | CN35: =[1]!ErlangC_Agents(CJ35/60,CK$3,0.9,CL$3/60) -> 1 | CO35: =(CK35*CK$4)/(60*(1-CJ$16)*0.6) -> 2.6549847 | CP35: =(CL35*CK$5)/(60*(1-CJ$16)*0.75) -> 0 | CQ35: =[1]!ErlangC_Agents(CM35/60/CJ$7,CK$6,0.8,CL$6/60) -> 26 | CR35: =SUM(CN35:CQ35) -> 29.654985 | CS35: =[1]!ErlangC_ServiceLevel(CJ35/60,CK$3,CN35*(1-CJ$16),CL$3/60) -> 1 | CT35: =[1]!ErlangC_ServiceLevel(CM35/60/CJ$7,CK$6,CQ35*(1-CJ$16),CL$6/60) -> 0.67459458 | CU35: =[1]!ErlangC_ASA(CJ35/60,CK$3,CN35*(1-CJ$16))*60 -> 0 | CV35: =[2]!Abandon(CN35,CM$3,CJ35,CK$3*60) -> 0 | CW35: =(CJ35*CK$3+CK35*CK$4+CL35*CK$5+CM35/CJ$7*CK$6)/(CR35*60) -> 0.74801315 | CY35: 0.375 | CZ35: 0.06364992 | DA35: =DA$25*CZ35 -> 0 | DB35: =DB$25/15 -> 6.0215054 | DC35: =DC$25*CZ35 -> 0 | DD35: =DD$25*CZ35 -> 45.170911 | DE35: =[1]!ErlangC_Agents(DA35/60,DB$3,0.9,DC$3/60) -> 1 | DF35: =(DB35*DB$4)/(60*(1-DA$16)*0.6) -> 2.1582457 | DG35: =(DC35*DB$5)/(60*(1-DA$16)*0.75) -> 0 | DH35: =[1]!ErlangC_Agents(DD35/60/DA$7,DB$6,0.8,DC$6/60) -> 14 | DI35: =SUM(DE35:DH35) -> 17.158246 | DJ35: =[1]!ErlangC_ServiceLevel(DA35/60,DB$3,DE35*(1-DA$16),DC$3/60) -> 1 | DK35: =[1]!ErlangC_ServiceLevel(DD35/60/DA$7,DB$6,DH35*(1-DA$16),DC$6/60) -> 0.76685616 | DL35: =[1]!ErlangC_ASA(DA35/60,DB$3,DE35*(1-DA$16))*60 -> 0 | DM35: =[2]!Abandon(DE35,DD$3,DA35,DB$3*60) -> 0 | DN35: =(DA35*DB$3+DB35*DB$4+DC35*DB$5+DD35/DA$7*DB$6)/(DI35*60) -> 0.65521158 | DP35: 0.375 | DQ35: 0.06364992 | DR35: =DR$25*DQ35 -> 0 | DS35: =DS$25/15 -> 6.0215054 | DT35: =DT$25*DQ35 -> 0 | DU35: =DU$25*DQ35 -> 43.117688 | DV35: =[1]!ErlangC_Agents(DR35/60,DS$3,0.9,DT$3/60) -> 1 | DW35: =(DS35*DS$4)/(60*(1-DR$16)*0.6) -> 2.1582457 | DX35: =(DT35*DS$5)/(60*(1-DR$16)*0.75) -> 0 | DY35: =[1]!ErlangC_Agents(DU35/60/DR$7,DS$6,0.8,DT$6/60) -> 13 | DZ35: =SUM(DV35:DY35) -> 16.158246 | EA35: =[1]!ErlangC_ServiceLevel(DR35/60,DS$3,DV35*(1-DR$16),DT$3/60) -> 1 | EB35: =[1]!ErlangC_ServiceLevel(DU35/60/DR$7,DS$6,DY35*(1-DR$16),DT$6/60) -> 0.69521848 | EC35: =[1]!ErlangC_ASA(DR35/60,DS$3,DV35*(1-DR$16))*60 -> 0 | ED35: =[2]!Abandon(DV35,DU$3,DR35,DS$3*60) -> 0 | EE35: =(DR35*DS$3+DS35*DS$4+DT35*DS$5+DU35/DR$7*DS$6)/(DZ35*60) -> 0.66752355 | EG35: 0.375 | EH35: 0.06364992 | EI35: =EI$25*EH35 -> 0 | EJ35: =EJ$25/15 -> 6.2222222 | EK35: =EK$25*EH35 -> 0 | EL35: =EL$25*EH35 -> 44.554944 | EM35: =[1]!ErlangC_Agents(EI35/60,EJ$3,0.9,EK$3/60) -> 1 | EN35: =(EJ35*EJ$4)/(60*(1-EI$16)*0.6) -> 2.2301872 | EO35: =(EK35*EJ$5)/(60*(1-EI$16)*0.75) -> 0 | EP35: =[1]!ErlangC_Agents(EL35/60/EI$7,EJ$6,0.8,EK$6/60) -> 14 | EQ35: =SUM(EM35:EP35) -> 17.230187 | ER35: =[1]!ErlangC_ServiceLevel(EI35/60,EJ$3,EM35*(1-EI$16),EK$3/60) -> 1 | ES35: =[1]!ErlangC_ServiceLevel(EL35/60/EI$7,EJ$6,EP35*(1-EI$16),EK$6/60) -> 0.78571969 | ET35: =[1]!ErlangC_ASA(EI35/60,EJ$3,EM35*(1-EI$16))*60 -> 0 | EU35: =[2]!Abandon(EM35,EL$3,EI35,EJ$3*60) -> 0 | EV35: =(EI35*EJ$3+EJ35*EJ$4+EK35*EJ$5+EL35/EI$7*EJ$6)/(EQ35*60) -> 0.6468614 | EX35: 0.375 | EY35: 0.06364992 | EZ35: =EZ$25*EY35 -> 0 | FA35: =FA$25/15 -> 6.0215054 | FB35: =FB$25*EY35 -> 0 | FC35: =FC$25*EY35 -> 43.117688 | FD35: =[1]!ErlangC_Agents(EZ35/60,FA$3,0.9,FB$3/60) -> 1 | FE35: =(FA35*FA$4)/(60*(1-EZ$16)*0.6) -> 2.1582457 | FF35: =(FB35*FA$5)/(60*(1-EZ$16)*0.75) -> 0 | FG35: =[1]!ErlangC_Agents(FC35/60/EZ$7,FA$6,0.8,FB$6/60) -> 13 | FH35: =SUM(FD35:FG35) -> 16.158246 | FI35: =[1]!ErlangC_ServiceLevel(EZ35/60,FA$3,FD35*(1-EZ$16),FB$3/60) -> 1 | FJ35: =[1]!ErlangC_ServiceLevel(FC35/60/EZ$7,FA$6,FG35*(1-EZ$16),FB$6/60) -> 0.69521848 | FK35: =[1]!ErlangC_ASA(EZ35/60,FA$3,FD35*(1-EZ$16))*60 -> 0 | FL35: =[2]!Abandon(FD35,FC$3,EZ35,FA$3*60) -> 0 | FM35: =(EZ35*FA$3+FA35*FA$4+FB35*FA$5+FC35/EZ$7*FA$6)/(FH35*60) -> 0.66752355 | FO35: 0.375 | FP35: 0.06364992 | FQ35: =FQ$25*FP35 -> 0 | FR35: =FR$25/15 -> 6.2222222 | FS35: =FS$25*FP35 -> 0 | FT35: =FT$25*FP35 -> 45.615776 | FU35: =[1]!ErlangC_Agents(FQ35/60,FR$3,0.9,FS$3/60) -> 1 | FV35: =(FR35*FR$4)/(60*(1-FQ$16)*0.6) -> 2.2301872 | FW35: =(FS35*FR$5)/(60*(1-FQ$16)*0.75) -> 0 | FX35: =[1]!ErlangC_Agents(FT35/60/FQ$7,FR$6,0.8,FS$6/60) -> 14 | FY35: =SUM(FU35:FX35) -> 17.230187 | FZ35: =[1]!ErlangC_ServiceLevel(FQ35/60,FR$3,FU35*(1-FQ$16),FS$3/60) -> 1 | GA35: =[1]!ErlangC_ServiceLevel(FT35/60/FQ$7,FR$6,FX35*(1-FQ$16),FS$6/60) -> 0.75249967 | GB35: =[1]!ErlangC_ASA(FQ35/60,FR$3,FU35*(1-FQ$16))*60 -> 0 | GC35: =[2]!Abandon(FU35,FT$3,FQ35,FR$3*60) -> 0 | GD35: =(FQ35*FR$3+FR35*FR$4+FS35*FR$5+FT35/FQ$7*FR$6)/(FY35*60) -> 0.66054323 | GF35: 0.375 | GG35: 0.06364992 | GH35: =GH$25*GG35 -> 0 | GI35: =GI$25/15 -> 6.0215054 | GJ35: =GJ$25*GG35 -> 0 | GK35: =GK$25*GG35 -> 45.170911 | GL35: =[1]!ErlangC_Agents(GH35/60,GI$3,0.9,GJ$3/60) -> 1 | GM35: =(GI35*GI$4)/(60*(1-GH$16)*0.6) -> 2.1582457 | GN35: =(GJ35*GI$5)/(60*(1-GH$16)*0.75) -> 0 | GO35: =[1]!ErlangC_Agents(GK35/60/GH$7,GI$6,0.8,GJ$6/60) -> 14 | GP35: =SUM(GL35:GO35) -> 17.158246 | GQ35: =[1]!ErlangC_ServiceLevel(GH35/60,GI$3,GL35*(1-GH$16),GJ$3/60) -> 1 | GR35: =[1]!ErlangC_ServiceLevel(GK35/60/GH$7,GI$6,GO35*(1-GH$16),GJ$6/60) -> 0.76685616 | GS35: =[1]!ErlangC_ASA(GH35/60,GI$3,GL35*(1-GH$16))*60 -> 0 | GT35: =[2]!Abandon(GL35,GK$3,GH35,GI$3*60) -> 0 | GU35: =(GH35*GI$3+GI35*GI$4+GJ35*GI$5+GK35/GH$7*GI$6)/(GP35*60) -> 0.65521158
A36: 0.41666667 | B36: 0.082004855 | C36: =C$25*B36 -> 0 | D36: =D$25/15 -> 10.322581 | E36: =E$25*B36 -> 0 | F36: =F$25*B36 -> 169.82941 | G36: =[1]!ErlangC_Agents(C36/60,D$3,0.9,E$3/60) -> 1 | H36: =(D36*D$4)/(60*(1-C$16)*0.6) -> 2.7748873 | I36: =(E36*D$5)/(60*(1-C$16)*0.75) -> 0 | J36: =[1]!ErlangC_Agents(F36/60/C$7,D$6,0.8,E$6/60) -> 26 | K36: =SUM(G36:J36) -> 29.774887 | L36: =[1]!ErlangC_ServiceLevel(C36/60,D$3,G36*(1-C$16),E$3/60) -> 1 | M36: =[1]!ErlangC_ServiceLevel(F36/60/C$7,D$6,J36*(1-C$16),E$6/60) -> 0.57710705 | N36: =[1]!ErlangC_ASA(C36/60,D$3,G36*(1-C$16))*60 -> 0 | O36: =[2]!Abandon(G36,F$3,C36,D$3*60) -> 0 | P36: =(C36*D$3+D36*D$4+E36*D$5+F36/C$7*D$6)/(K36*60) -> 0.77176585 | R36: 0.41666667 | S36: 0.082004855 | T36: =T$25*S36 -> 0 | U36: =U$25/15 -> 9.5238095 | V36: =V$25*S36 -> 0 | W36: =W$25*S36 -> 172.50307 | X36: =[3]!ErlangC_Agents(T36/60,U$3,0.9,V$3/60) -> #NAME? | Y36: =(U36*U$4)/(60*(1-T$16)*0.6) -> 2.8446265 | Z36: =(V36*U$5)/(60*(1-T$16)*0.75) -> 0 | AA36: =[1]!ErlangC_Agents(W36/60/T$7,U$6,0.8,V$6/60) -> 30 | AB36: =SUM(X36:AA36) -> #NAME? | AC36: =[1]!ErlangC_ServiceLevel(T36/60,U$3,X36*(1-T$16),V$3/60) -> #VALUE! | AD36: =[1]!ErlangC_ServiceLevel(W36/60/T$7,U$6,AA36*(1-T$16),V$6/60) -> 0.70303876 | AE36: =[1]!ErlangC_ASA(T36/60,U$3,X36*(1-T$16))*60 -> #VALUE! | AF36: =[4]!Abandon(X36,W$3,T36,U$3*60) -> #NAME? | AG36: =(T36*U$3+U36*U$4+V36*U$5+W36/T$7*U$6)/(AB36*60) -> #NAME? | AI36: 0.41666667 | AJ36: 0.082004855 | AK36: =AK$25*AJ36 -> 0 | AL36: =AL$25/15 -> 10.666667 | AM36: =AM$25*AJ36 -> 0 | AN36: =AN$25*AJ36 -> 161.36439 | AO36: =[3]!ErlangC_Agents(AK36/60,AL$3,0.9,AM$3/60) -> #NAME? | AP36: =(AL36*AL$4)/(60*(1-AK$16)*0.6) -> 3.1859817 | AQ36: =(AM36*AL$5)/(60*(1-AK$16)*0.75) -> 0 | AR36: =[1]!ErlangC_Agents(AN36/60/AK$7,AL$6,0.8,AM$6/60) -> 28 | AS36: =SUM(AO36:AR36) -> #NAME? | AT36: =[1]!ErlangC_ServiceLevel(AK36/60,AL$3,AO36*(1-AK$16),AM$3/60) -> #VALUE! | AU36: =[1]!ErlangC_ServiceLevel(AN36/60/AK$7,AL$6,AR36*(1-AK$16),AM$6/60) -> 0.61237067 | AV36: =[1]!ErlangC_ASA(AK36/60,AL$3,AO36*(1-AK$16))*60 -> #VALUE! | AW36: =[4]!Abandon(AO36,AN$3,AK36,AL$3*60) -> #NAME? | AX36: =(AK36*AL$3+AL36*AL$4+AM36*AL$5+AN36/AK$7*AL$6)/(AS36*60) -> #NAME? | AZ36: 0.41666667 | BA36: 0.082004855 | BB36: =BB$25*BA36 -> 0 | BC36: =BC$25/15 -> 10.133333 | BD36: =BD$25*BA36 -> 0 | BE36: =BE$25*BA36 -> 153.07573 | BF36: =[1]!ErlangC_Agents(BB36/60,BC$3,0.9,BD$3/60) -> 1 | BG36: =(BC36*BC$4)/(60*(1-BB$16)*0.6) -> 3.0266826 | BH36: =(BD36*BC$5)/(60*(1-BB$16)*0.75) -> 0 | BI36: =[1]!ErlangC_Agents(BE36/60/BB$7,BC$6,0.8,BD$6/60) -> 27 | BJ36: =SUM(BF36:BI36) -> 31.026683 | BK36: =[1]!ErlangC_ServiceLevel(BB36/60,BC$3,BF36*(1-BB$16),BD$3/60) -> 1 | BL36: =[1]!ErlangC_ServiceLevel(BE36/60/BB$7,BC$6,BI36*(1-BB$16),BD$6/60) -> 0.69253549 | BM36: =[1]!ErlangC_ASA(BB36/60,BC$3,BF36*(1-BB$16))*60 -> 0 | BN36: =[2]!Abandon(BF36,BE$3,BB36,BC$3*60) -> 0 | BO36: =(BB36*BC$3+BC36*BC$4+BD36*BC$5+BE36/BB$7*BC$6)/(BJ36*60) -> 0.74749803 | BQ36: 0.41666667 | BR36: 0.082004855 | BS36: =BS$25*BR36 -> 0 | BT36: =BT$25/15 -> 9.4623656 | BU36: =BU$25*BR36 -> 0 | BV36: =BV$25*BR36 -> 141.52451 | BW36: =[3]!ErlangC_Agents(BS36/60,BT$3,0.9,BU$3/60) -> #NAME? | BX36: =(BT36*BT$4)/(60*(1-BS$16)*0.6) -> 2.8262741 | BY36: =(BU36*BT$5)/(60*(1-BS$16)*0.75) -> 0 | BZ36: =[1]!ErlangC_Agents(BV36/60/BS$7,BT$6,0.8,BU$6/60) -> 25 | CA36: =SUM(BW36:BZ36) -> #NAME? | CB36: =[3]!ErlangC_ServiceLevel(BS36/60,BT$3,BW36*(1-BS$16),BU$3/60) -> #NAME? | CC36: =[1]!ErlangC_ServiceLevel(BV36/60/BS$7,BT$6,BZ36*(1-BS$16),BU$6/60) -> 0.65961507 | CD36: =[3]!ErlangC_ASA(BS36/60,BT$3,BW36*(1-BS$16))*60 -> #NAME? | CE36: =[4]!Abandon(BW36,BV$3,BS36,BT$3*60) -> #NAME? | CF36: =(BS36*BT$3+BT36*BT$4+BU36*BT$5+BV36/BS$7*BT$6)/(CA36*60) -> #NAME? | CH36: 0.41666667 | CI36: 0.082004855 | CJ36: =CJ$25*CI36 -> 0 | CK36: =CK$25/15 -> 8.8888889 | CL36: =CL$25*CI36 -> 0 | CM36: =CM$25*CI36 -> 150.34223 | CN36: =[1]!ErlangC_Agents(CJ36/60,CK$3,0.9,CL$3/60) -> 1 | CO36: =(CK36*CK$4)/(60*(1-CJ$16)*0.6) -> 2.6549847 | CP36: =(CL36*CK$5)/(60*(1-CJ$16)*0.75) -> 0 | CQ36: =[1]!ErlangC_Agents(CM36/60/CJ$7,CK$6,0.8,CL$6/60) -> 27 | CR36: =SUM(CN36:CQ36) -> 30.654985 | CS36: =[1]!ErlangC_ServiceLevel(CJ36/60,CK$3,CN36*(1-CJ$16),CL$3/60) -> 1 | CT36: =[1]!ErlangC_ServiceLevel(CM36/60/CJ$7,CK$6,CQ36*(1-CJ$16),CL$6/60) -> 0.69477043 | CU36: =[1]!ErlangC_ASA(CJ36/60,CK$3,CN36*(1-CJ$16))*60 -> 0 | CV36: =[2]!Abandon(CN36,CM$3,CJ36,CK$3*60) -> 0 | CW36: =(CJ36*CK$3+CK36*CK$4+CL36*CK$5+CM36/CJ$7*CK$6)/(CR36*60) -> 0.7489465 | CY36: 0.41666667 | CZ36: 0.083880003 | DA36: =DA$25*CZ36 -> 0 | DB36: =DB$25/15 -> 6.0215054 | DC36: =DC$25*CZ36 -> 0 | DD36: =DD$25*CZ36 -> 59.527744 | DE36: =[1]!ErlangC_Agents(DA36/60,DB$3,0.9,DC$3/60) -> 1 | DF36: =(DB36*DB$4)/(60*(1-DA$16)*0.6) -> 2.1582457 | DG36: =(DC36*DB$5)/(60*(1-DA$16)*0.75) -> 0 | DH36: =[1]!ErlangC_Agents(DD36/60/DA$7,DB$6,0.8,DC$6/60) -> 17 | DI36: =SUM(DE36:DH36) -> 20.158246 | DJ36: =[1]!ErlangC_ServiceLevel(DA36/60,DB$3,DE36*(1-DA$16),DC$3/60) -> 1 | DK36: =[1]!ErlangC_ServiceLevel(DD36/60/DA$7,DB$6,DH36*(1-DA$16),DC$6/60) -> 0.69945355 | DL36: =[1]!ErlangC_ASA(DA36/60,DB$3,DE36*(1-DA$16))*60 -> 0 | DM36: =[2]!Abandon(DE36,DD$3,DA36,DB$3*60) -> 0 | DN36: =(DA36*DB$3+DB36*DB$4+DC36*DB$5+DD36/DA$7*DB$6)/(DI36*60) -> 0.71596948 | DP36: 0.41666667 | DQ36: 0.083880003 | DR36: =DR$25*DQ36 -> 0 | DS36: =DS$25/15 -> 6.0215054 | DT36: =DT$25*DQ36 -> 0 | DU36: =DU$25*DQ36 -> 56.821937 | DV36: =[1]!ErlangC_Agents(DR36/60,DS$3,0.9,DT$3/60) -> 1 | DW36: =(DS36*DS$4)/(60*(1-DR$16)*0.6) -> 2.1582457 | DX36: =(DT36*DS$5)/(60*(1-DR$16)*0.75) -> 0 | DY36: =[1]!ErlangC_Agents(DU36/60/DR$7,DS$6,0.8,DT$6/60) -> 17 | DZ36: =SUM(DV36:DY36) -> 20.158246 | EA36: =[1]!ErlangC_ServiceLevel(DR36/60,DS$3,DV36*(1-DR$16),DT$3/60) -> 1 | EB36: =[1]!ErlangC_ServiceLevel(DU36/60/DR$7,DS$6,DY36*(1-DR$16),DT$6/60) -> 0.78187799 | EC36: =[1]!ErlangC_ASA(DR36/60,DS$3,DV36*(1-DR$16))*60 -> 0 | ED36: =[2]!Abandon(DV36,DU$3,DR36,DS$3*60) -> 0 | EE36: =(DR36*DS$3+DS36*DS$4+DT36*DS$5+DU36/DR$7*DS$6)/(DZ36*60) -> 0.68614097 | EG36: 0.41666667 | EH36: 0.083880003 | EI36: =EI$25*EH36 -> 0 | EJ36: =EJ$25/15 -> 6.2222222 | EK36: =EK$25*EH36 -> 0 | EL36: =EL$25*EH36 -> 58.716002 | EM36: =[1]!ErlangC_Agents(EI36/60,EJ$3,0.9,EK$3/60) -> 1 | EN36: =(EJ36*EJ$4)/(60*(1-EI$16)*0.6) -> 2.2301872 | EO36: =(EK36*EJ$5)/(60*(1-EI$16)*0.75) -> 0 | EP36: =[1]!ErlangC_Agents(EL36/60/EI$7,EJ$6,0.8,EK$6/60) -> 17 | EQ36: =SUM(EM36:EP36) -> 20.230187 | ER36: =[1]!ErlangC_ServiceLevel(EI36/60,EJ$3,EM36*(1-EI$16),EK$3/60) -> 1 | ES36: =[1]!ErlangC_ServiceLevel(EL36/60/EI$7,EJ$6,EP36*(1-EI$16),EK$6/60) -> 0.72626549 | ET36: =[1]!ErlangC_ASA(EI36/60,EJ$3,EM36*(1-EI$16))*60 -> 0 | EU36: =[2]!Abandon(EM36,EL$3,EI36,EJ$3*60) -> 0 | EV36: =(EI36*EJ$3+EJ36*EJ$4+EK36*EJ$5+EL36/EI$7*EJ$6)/(EQ36*60) -> 0.70649099 | EX36: 0.41666667 | EY36: 0.083880003 | EZ36: =EZ$25*EY36 -> 0 | FA36: =FA$25/15 -> 6.0215054 | FB36: =FB$25*EY36 -> 0 | FC36: =FC$25*EY36 -> 56.821937 | FD36: =[1]!ErlangC_Agents(EZ36/60,FA$3,0.9,FB$3/60) -> 1 | FE36: =(FA36*FA$4)/(60*(1-EZ$16)*0.6) -> 2.1582457 | FF36: =(FB36*FA$5)/(60*(1-EZ$16)*0.75) -> 0 | FG36: =[1]!ErlangC_Agents(FC36/60/EZ$7,FA$6,0.8,FB$6/60) -> 17 | FH36: =SUM(FD36:FG36) -> 20.158246 | FI36: =[1]!ErlangC_ServiceLevel(EZ36/60,FA$3,FD36*(1-EZ$16),FB$3/60) -> 1 | FJ36: =[1]!ErlangC_ServiceLevel(FC36/60/EZ$7,FA$6,FG36*(1-EZ$16),FB$6/60) -> 0.78187799 | FK36: =[1]!ErlangC_ASA(EZ36/60,FA$3,FD36*(1-EZ$16))*60 -> 0 | FL36: =[2]!Abandon(FD36,FC$3,EZ36,FA$3*60) -> 0 | FM36: =(EZ36*FA$3+FA36*FA$4+FB36*FA$5+FC36/EZ$7*FA$6)/(FH36*60) -> 0.68614097 | FO36: 0.41666667 | FP36: 0.083880003 | FQ36: =FQ$25*FP36 -> 0 | FR36: =FR$25/15 -> 6.2222222 | FS36: =FS$25*FP36 -> 0 | FT36: =FT$25*FP36 -> 60.114002 | FU36: =[1]!ErlangC_Agents(FQ36/60,FR$3,0.9,FS$3/60) -> 1 | FV36: =(FR36*FR$4)/(60*(1-FQ$16)*0.6) -> 2.2301872 | FW36: =(FS36*FR$5)/(60*(1-FQ$16)*0.75) -> 0 | FX36: =[1]!ErlangC_Agents(FT36/60/FQ$7,FR$6,0.8,FS$6/60) -> 17 | FY36: =SUM(FU36:FX36) -> 20.230187 | FZ36: =[1]!ErlangC_ServiceLevel(FQ36/60,FR$3,FU36*(1-FQ$16),FS$3/60) -> 1 | GA36: =[1]!ErlangC_ServiceLevel(FT36/60/FQ$7,FR$6,FX36*(1-FQ$16),FS$6/60) -> 0.67891252 | GB36: =[1]!ErlangC_ASA(FQ36/60,FR$3,FU36*(1-FQ$16))*60 -> 0 | GC36: =[2]!Abandon(FU36,FT$3,FQ36,FR$3*60) -> 0 | GD36: =(FQ36*FR$3+FR36*FR$4+FS36*FR$5+FT36/FQ$7*FR$6)/(FY36*60) -> 0.72184758 | GF36: 0.41666667 | GG36: 0.083880003 | GH36: =GH$25*GG36 -> 0 | GI36: =GI$25/15 -> 6.0215054 | GJ36: =GJ$25*GG36 -> 0 | GK36: =GK$25*GG36 -> 59.527744 | GL36: =[1]!ErlangC_Agents(GH36/60,GI$3,0.9,GJ$3/60) -> 1 | GM36: =(GI36*GI$4)/(60*(1-GH$16)*0.6) -> 2.1582457 | GN36: =(GJ36*GI$5)/(60*(1-GH$16)*0.75) -> 0 | GO36: =[1]!ErlangC_Agents(GK36/60/GH$7,GI$6,0.8,GJ$6/60) -> 17 | GP36: =SUM(GL36:GO36) -> 20.158246 | GQ36: =[1]!ErlangC_ServiceLevel(GH36/60,GI$3,GL36*(1-GH$16),GJ$3/60) -> 1 | GR36: =[1]!ErlangC_ServiceLevel(GK36/60/GH$7,GI$6,GO36*(1-GH$16),GJ$6/60) -> 0.69945355 | GS36: =[1]!ErlangC_ASA(GH36/60,GI$3,GL36*(1-GH$16))*60 -> 0 | GT36: =[2]!Abandon(GL36,GK$3,GH36,GI$3*60) -> 0 | GU36: =(GH36*GI$3+GI36*GI$4+GJ36*GI$5+GK36/GH$7*GI$6)/(GP36*60) -> 0.71596948
