Workbook

Sheet Расчет численности
B1: Расчет необходимой штатной численности операторов ЦОО при создании СРОА
B2: Наименование | C2: Январь | D2: Февраль | E2: Март | F2: Апрель | G2: Май | H2: Июнь | I2: Июль | J2: Август | K2: Сентябрь | L2: Октябрь | M2: Ноябрь | N2: Декабрь
A3: 1 | B3: Количество поступающих обращений/диалогов | C3: 68000 | D3: 64000 | E3: 67000 | F3: 62000 | G3: 59000 | H3: 69000 | I3: 66000 | J3: 65000 | K3: 64000 | L3: 62000 | M3: 62000 | N3: 64000
A4: 2 | B4: Фактическая ШЧ ЦОО | C4: 74 | D4: 74 | E4: 74 | F4: 75 | G4: 75 | H4: 75 | I4: 78 | J4: 78 | K4: 78 | L4: 78 | M4: 78 | N4: 78
A5: 3 | B5: Необходимая ШЧ при текущих условиях и объемах, ШЕ | C5: 101 | D5: 101 | E5: 117 | F5: 91 | G5: 106 | H5: ='Потреб тек'!CJ14 -> 101.93553 | I5: ='Потреб тек'!DA14 -> 96.941233 | J5: ='Потреб тек'!DR14 -> 99.482261 | K5: ='Потреб тек'!EI14 -> 94.329995 | L5: ='Потреб тек'!EZ14 -> 96.508868 | M5: ='Потреб тек'!FQ14 -> 97.670492 | N5: ='Потреб тек'!GH14 -> 95.633937 | O5: 97
A6: 4 | B6: Необходимая ШЧ при создании СРОА , из них | I6: =I7+I8 -> 105.56264 | J6: =J7+J8 -> 108.16703 | K6: =K7+K8 -> 105.96168 | L6: =L7+L8 -> 102.38881 | M6: =M7+M8 -> 110.19446 | N6: =N7+N8 -> 107.60791
A7: 4.1. | B7: Для СРОА (макс лимит 3 диалогов одновременно, 21000-22000 диалогов в мес, AHT 40 мин, AR не более 1%) | I7: ='СРОА v2'!DA14 -> 60.994453 | J7: ='СРОА v2'!DR14 -> 61.730707 | K7: ='СРОА v2'!EI14 -> 59.521585 | L7: ='СРОА v2'!EZ14 -> 59.28834 | M7: ='СРОА v2'!FQ14 -> 64.315167 | N7: ='СРОА v2'!GH14 -> 61.738288 | O7: 61
A8: 4.2. | B8: Остальные Вопросы (макс лимит 7 диалогов одновременно, 40000 диалогов, AHT 40 мин) | I8: ='Группа 1 v1'!DA14 -> 44.568192 | J8: ='Группа 1 v1'!DR14 -> 46.43632 | K8: ='Группа 1 v1'!EI14 -> 46.440098 | L8: ='Группа 1 v1'!EZ14 -> 43.100466 | M8: ='Группа 1 v1'!FQ14 -> 45.879294 | N8: ='Группа 1 v1'!GH14 -> 45.869623 | O8: 45
O9: 106
B11: На 15.06.2026 количество ШЕ специалистов по обслуживанию составляет 75 ШЕ (Алматы 22, Шымкент 53). При организации СРОА без увеличения штатной численности, существуют значительные риски по эффективности создания СРОА т.к количество диалогов в 2-х группах не изменится( по сравнению как сейчас), и 1 оператор также будет обслуживать одновременно 10 и более диалогов, что скажется как на качестве консультации/удержании так и на выполнении всех качественных показателей. Согласно бейнча, для качественного обслуживания клиентов количество одновременных диалогов должно быть от 3-5.
B12: Расчет произведен из условия, что в группу СРОА будут поступать дилоги кторые на боте выбрали "Отключение услуг" либо сообщили что хотят отключить услуги(на Айзере).
B13: Вторым этапом, после 2-3 месяцев запуска и анализа, рассмотреть возможность переключения в данную группу клиентов, которые выбрали "Смена ТП" .

Sheet Потреб тек
A1: 31 | B1: ЦОО январь | R1: 28 | S1: февраль | AI1: 31 | AJ1: март | AZ1: =SUM(BB20:BB21) -> 30 | BA1: апрель | BQ1: 31 | BR1: май | CH1: =SUM(CJ20:CJ21) -> 30 | CI1: июнь | CY1: 31 | CZ1: июль | DP1: 31 | DQ1: август | EG1: 30 | EH1: Сентябрь | EX1: 31 | EY1: Октябрь | FO1: 30 | FP1: Ноябрь | GF1: 31 | GG1: Декабрь
B2: Направление | C2: Количество | D2: AHT, min | E2: Service time, sec | F2: Patience, sec | S2: Направление | T2: Количество | U2: AHT, min | V2: Service time, sec | W2: Patience, sec | AJ2: Направление | AK2: Количество | AL2: AHT, min | AM2: Service time, sec | AN2: Patience, sec | BA2: Направление | BB2: Количество | BC2: AHT, min | BD2: Service time, sec | BE2: Patience, sec | BR2: Направление | BS2: Количество | BT2: AHT, min | BU2: Service time, sec | BV2: Patience, sec | CI2: Направление | CJ2: Количество | CK2: AHT, min | CL2: Service time, sec | CM2: Patience, sec | CZ2: Направление | DA2: Количество | DB2: AHT, min | DC2: Service time, sec | DD2: Patience, sec | DQ2: Направление | DR2: Количество | DS2: AHT, min | DT2: Service time, sec | DU2: Patience, sec | EH2: Направление | EI2: Количество | EJ2: AHT, min | EK2: Service time, sec | EL2: Patience, sec | EY2: Направление | EZ2: Количество | FA2: AHT, min | FB2: Service time, sec | FC2: Patience, sec | FP2: Направление | FQ2: Количество | FR2: AHT, min | FS2: Service time, sec | FT2: Patience, sec | GG2: Направление | GH2: Количество | GI2: AHT, min | GJ2: Service time, sec | GK2: Patience, sec
B3: Входящие звонки | C3: 0 | D3: 4.5 | E3: 40 | F3: 40 | S3: Входящие звонки | T3: 0 | U3: 4.5 | V3: 40 | W3: 40 | AJ3: Входящие звонки | AK3: 0 | AL3: 4.5 | AM3: 40 | AN3: 40 | BA3: Входящие звонки | BB3: 0 | BC3: 4.5 | BD3: 40 | BE3: 40 | BR3: Входящие звонки | BS3: 0 | BT3: 4.5 | BU3: 40 | BV3: 40 | CI3: Входящие звонки | CJ3: 0 | CK3: 4.5 | CL3: 40 | CM3: 40 | CZ3: Входящие звонки | DA3: 0 | DB3: 4.5 | DC3: 40 | DD3: 40 | DQ3: Входящие звонки | DR3: 0 | DS3: 4.5 | DT3: 40 | DU3: 40 | EH3: Входящие звонки | EI3: 0 | EJ3: 4.5 | EK3: 40 | EL3: 40 | EY3: Входящие звонки | EZ3: 0 | FA3: 4.5 | FB3: 40 | FC3: 40 | FP3: Входящие звонки | FQ3: 0 | FR3: 4.5 | FS3: 40 | FT3: 40 | GG3: Входящие звонки | GH3: 0 | GI3: 4.5 | GJ3: 40 | GK3: 40
A4: 0.8 | B4: Исходящие звонки | C4: 6000 | D4: 9 | R4: 0.8 | S4: Исходящие звонки | T4: 5000 | U4: 10 | AI4: 0.8 | AJ4: Исходящие звонки | AK4: 6200 | AL4: 10 | AZ4: 0.8 | BA4: Исходящие звонки | BB4: 5700 | BC4: 10 | BQ4: 0.8 | BR4: Исходящие звонки | BS4: 5500 | BT4: 10 | CH4: 0.8 | CI4: Исходящие звонки | CJ4: 5700 | CK4: 10 | CY4: 0.8 | CZ4: Исходящие звонки | DA4: 5500 | DB4: 10 | DP4: 0.8 | DQ4: Исходящие звонки | DR4: 5000 | DS4: 10 | EG4: 0.8 | EH4: Исходящие звонки | EI4: 5000 | EJ4: 10 | EX4: 0.8 | EY4: Исходящие звонки | EZ4: 5500 | FA4: 10 | FO4: 0.8 | FP4: Исходящие звонки | FQ4: 5000 | FR4: 10 | GF4: 0.8 | GG4: Исходящие звонки | GH4: 5000 | GI4: 10
B5: Неголосовые тикеты | S5: Неголосовые тикеты | AJ5: Неголосовые тикеты | BA5: Неголосовые тикеты | BR5: Неголосовые тикеты | CI5: Неголосовые тикеты | CZ5: Неголосовые тикеты | DQ5: Неголосовые тикеты | EH5: Неголосовые тикеты | EY5: Неголосовые тикеты | FP5: Неголосовые тикеты | GG5: Неголосовые тикеты
B6: Чат | C6: 64200 | D6: 53 | E6: 180 | S6: Чат | T6: 58900 | U6: 59 | V6: 180 | AJ6: Чат | AK6: 61000 | AL6: 60 | AM6: 180 | BA6: Чат | BB6: 56000 | BC6: 59 | BD6: 180 | BR6: Чат | BS6: 53500 | BT6: 59 | BU6: 180 | CI6: Чат | CJ6: 63500 | CK6: 60 | CL6: 180 | CZ6: Чат | DA6: 61000 | DB6: 59 | DC6: 180 | DQ6: Чат | DR6: 60000 | DS6: 59 | DT6: 180 | EH6: Чат | EI6: 59000 | EJ6: 59 | EK6: 180 | EY6: Чат | EZ6: 60000 | FA6: 59 | FB6: 180 | FP6: Чат | FQ6: 57000 | FR6: 59 | FS6: 180 | GG6: Чат | GH6: 59000 | GI6: 59 | GJ6: 180
B7: Concurrency | C7: 7 | S7: Concurrency | T7: 7 | AJ7: Concurrency | AK7: 7 | BA7: Concurrency | BB7: 7 | BR7: Concurrency | BS7: 7 | CI7: Concurrency | CJ7: 7 | CZ7: Concurrency | DA7: 7 | DQ7: Concurrency | DR7: 7 | EH7: Concurrency | EI7: 7 | EY7: Concurrency | EZ7: 7 | FP7: Concurrency | FQ7: 7 | GG7: Concurrency | GH7: 7
B8: FTE (Входящие звонки) | S8: FTE (Входящие звонки) | AJ8: FTE (Входящие звонки) | BA8: FTE (Входящие звонки) | BR8: FTE (Входящие звонки) | CI8: FTE (Входящие звонки) | CZ8: FTE (Входящие звонки) | DQ8: FTE (Входящие звонки) | EH8: FTE (Входящие звонки) | EY8: FTE (Входящие звонки) | FP8: FTE (Входящие звонки) | GG8: FTE (Входящие звонки)
B9: FTE (Исходящие звонки) | C9: =H25*A1/C18/C17 -> 9.3773443 | S9: FTE (Исходящие звонки) | T9: =Y25*R1/T18/T17 -> 8.6827262 | AJ9: FTE (Исходящие звонки) | AK9: =AP25*AI1/AK18/AK17 -> 11.639547 | BA9: FTE (Исходящие звонки) | BB9: =BG25*AZ1/BB18/BB17 -> 9.1018923 | BR9: FTE (Исходящие звонки) | BS9: =BX25*BQ1/BS18/BS17 -> 10.551161 | CI9: FTE (Исходящие звонки) | CJ9: =CO25*CH1/CJ18/CJ17 -> 9.1368996 | CZ9: FTE (Исходящие звонки) | DA9: =DF25*CY1/DA18/DA17 -> 8.7825277 | DQ9: FTE (Исходящие звонки) | DR9: =DW25*DP1/DR18/DR17 -> 8.3187796 | EH9: FTE (Исходящие звонки) | EI9: =EN25*EG1/EI18/EI17 -> 7.9841161 | EY9: FTE (Исходящие звонки) | EZ9: =FE25*EX1/EZ18/EZ17 -> 8.6827262 | FP9: FTE (Исходящие звонки) | FQ9: =FV25*FO1/FQ18/FQ17 -> 8.4196133 | GG9: FTE (Исходящие звонки) | GH9: =GM25*GF1/GH18/GH17 -> 7.9841161
B10: FTE (Неголосовые тикеты) | C10: =I25*A1/C18/C17 -> 0 | S10: FTE (Неголосовые тикеты) | T10: =Z25*R1/T18/T17 -> 0 | AJ10: FTE (Неголосовые тикеты) | AK10: =AQ25*AI1/AK18/AK17 -> 0 | BA10: FTE (Неголосовые тикеты) | BB10: =BH25*AZ1/BB18/BB17 -> 0 | BR10: FTE (Неголосовые тикеты) | BS10: =BY25*BQ1/BS18/BS17 -> 0 | CI10: FTE (Неголосовые тикеты) | CJ10: =CP25*CH1/CJ18/CJ17 -> 0 | CZ10: FTE (Неголосовые тикеты) | DA10: =DG25*CY1/DA18/DA17 -> 0 | DQ10: FTE (Неголосовые тикеты) | DR10: =DX25*DP1/DR18/DR17 -> 0 | EH10: FTE (Неголосовые тикеты) | EI10: =EO25*EG1/EI18/EI17 -> 0 | EY10: FTE (Неголосовые тикеты) | EZ10: =FF25*EX1/EZ18/EZ17 -> 0 | FP10: FTE (Неголосовые тикеты) | FQ10: =FW25*FO1/FQ18/FQ17 -> 0 | GG10: FTE (Неголосовые тикеты) | GH10: =GN25*GF1/GH18/GH17 -> 0
B11: FTE (Чат) | C11: =J25*A1/C17/C18 -> 74.34593 | S11: FTE (Чат) | T11: =AA25*R1/T17/T18 -> 74.883721 | AJ11: FTE (Чат) | AK11: =AR25*AI1/AK17/AK18 -> 85.975801 | BA11: FTE (Чат) | BB11: =BI25*AZ1/BB17/BB18 -> 66.559743 | BR11: FTE (Чат) | BS11: =BZ25*BQ1/BS17/BS18 -> 76.904756 | CI11: FTE (Чат) | CJ11: =CQ25*CH1/CJ17/CJ18 -> 75.469589 | CZ11: FTE (Чат) | DA11: =DH25*CY1/DA17/DA18 -> 71.678696 | DQ11: FTE (Чат) | DR11: =DY25*DP1/DR17/DR18 -> 74.251497 | EH11: FTE (Чат) | EI11: =EP25*EG1/EI17/EI18 -> 69.36648 | EY11: FTE (Чат) | EZ11: =FG25*EX1/EZ17/EZ18 -> 70.454545 | FP11: FTE (Чат) | FQ11: =FX25*FO1/FQ17/FQ18 -> 71.67019 | GG11: FTE (Чат) | GH11: =GO25*GF1/GH17/GH18 -> 70.435712
B12: FTE в графике (ВСЕГО) | C12: =SUM(C8:C11) -> 83.723275 | S12: FTE в графике (ВСЕГО) | T12: =SUM(T8:T11) -> 83.566447 | AJ12: FTE в графике (ВСЕГО) | AK12: =SUM(AK8:AK11) -> 97.615348 | BA12: FTE в графике (ВСЕГО) | BB12: =SUM(BB8:BB11) -> 75.661636 | BR12: FTE в графике (ВСЕГО) | BS12: =SUM(BS8:BS11) -> 87.455917 | CI12: FTE в графике (ВСЕГО) | CJ12: =SUM(CJ8:CJ11) -> 84.606488 | CZ12: FTE в графике (ВСЕГО) | DA12: =SUM(DA8:DA11) -> 80.461223 | DQ12: FTE в графике (ВСЕГО) | DR12: =SUM(DR8:DR11) -> 82.570277 | EH12: FTE в графике (ВСЕГО) | EI12: =SUM(EI8:EI11) -> 77.350596 | EY12: FTE в графике (ВСЕГО) | EZ12: =SUM(EZ8:EZ11) -> 79.137272 | FP12: FTE в графике (ВСЕГО) | FQ12: =SUM(FQ8:FQ11) -> 80.089804 | GG12: FTE в графике (ВСЕГО) | GH12: =SUM(GH8:GH11) -> 78.419828
B13: Часов работы за период, ч | C13: =K25/C17*A1 -> 13936.422 | S13: Часов работы за период, ч | T13: =AB25/T17*R1 -> 13859.004 | AJ13: Часов работы за период, ч | AK13: =AS25/AK17*AI1 -> 14987.769 | BA13: Часов работы за период, ч | BB13: =BJ25/BB17*AZ1 -> 13688.38 | BR13: Часов работы за период, ч | BS13: =CA25/BS17*BQ1 -> 13207.23 | CI13: Часов работы за период, ч | CJ13: =CR25/CJ17*CH1 -> 15188.38 | CZ13: Часов работы за период, ч | DA13: =DI25/DA17*CY1 -> 14540.951 | DQ13: Часов работы за период, ч | DR13: =DZ25/DR17*DP1 -> 14329.934 | EH13: Часов работы за период, ч | EI13: =EQ25/EI17*EG1 -> 13982.259 | EY13: Часов работы за период, ч | EZ13: =FH25/EZ17*EX1 -> 14468.857 | FP13: Часов работы за период, ч | FQ13: =FY25/FQ17*FO1 -> 13738.073 | GG13: Часов работы за период, ч | GH13: =GP25/GH17*GF1 -> 14185.748
B14: FTE в штате | C14: =C12/(1-C15) -> 100.87142 | S14: FTE в штате | T14: =T12/(1-T15) -> 100.68247 | AJ14: FTE в штате | AK14: =AK12/(1-AK15) -> 117.60885 | BA14: FTE в штате | BB14: =BB12/(1-BB15) -> 91.158597 | BR14: FTE в штате | BS14: =BS12/(1-BS15) -> 105.36857 | CI14: FTE в штате | CJ14: =CJ12/(1-CJ15) -> 101.93553 | CZ14: FTE в штате | DA14: =DA12/(1-DA15) -> 96.941233 | DQ14: FTE в штате | DR14: =DR12/(1-DR15) -> 99.482261 | EH14: FTE в штате | EI14: =EI12/(1-EI15) -> 94.329995 | EY14: FTE в штате | EZ14: =EZ12/(1-EZ15) -> 96.508868 | FP14: FTE в штате | FQ14: =FQ12/(1-FQ15) -> 97.670492 | GG14: FTE в штате | GH14: =GH12/(1-GH15) -> 95.633937
B15: Плановые отсутствия | C15: 0.17 | S15: Плановые отсутствия | T15: 0.17 | AJ15: Плановые отсутствия | AK15: 0.17 | BA15: Плановые отсутствия | BB15: 0.17 | BR15: Плановые отсутствия | BS15: 0.17 | CI15: Плановые отсутствия | CJ15: 0.17 | CZ15: Плановые отсутствия | DA15: 0.17 | DQ15: Плановые отсутствия | DR15: 0.17 | EH15: Плановые отсутствия | EI15: 0.18 | EY15: Плановые отсутствия | EZ15: 0.18 | FP15: Плановые отсутствия | FQ15: 0.18 | GG15: Плановые отсутствия | GH15: 0.18
B16: Неплановые отсутствия | C16: 0.07 | S16: Неплановые отсутствия | T16: 0.07 | AJ16: Неплановые отсутствия | AK16: 0.07 | BA16: Неплановые отсутствия | BB16: 0.07 | BR16: Неплановые отсутствия | BS16: 0.07 | CI16: Неплановые отсутствия | CJ16: 0.07 | CZ16: Неплановые отсутствия | DA16: 0.07 | DQ16: Неплановые отсутствия | DR16: 0.07 | EH16: Неплановые отсутствия | EI16: 0.07 | EY16: Неплановые отсутствия | EZ16: 0.07 | FP16: Неплановые отсутствия | FQ16: 0.07 | GG16: Неплановые отсутствия | GH16: 0.07
B17: Utilization | C17: 0.86 | S17: Utilization | T17: 0.86 | AJ17: Utilization | AK17: 0.86 | BA17: Utilization | BB17: 0.86 | BR17: Utilization | BS17: 0.86 | CI17: Utilization | CJ17: 0.86 | CZ17: Utilization | DA17: 0.86 | DQ17: Utilization | DR17: 0.86 | EH17: Utilization | EI17: 0.86 | EY17: Utilization | EZ17: 0.86 | FP17: Utilization | FQ17: 0.86 | GG17: Utilization | GH17: 0.86
B18: FTE, hrs*month | C18: =C19*C20 -> 160 | S18: FTE, hrs*month | T18: =T19*T20 -> 160 | AJ18: FTE, hrs*month | AK18: =AK19*AK20 -> 148 | BA18: FTE, hrs*month | BB18: =BB19*BB20 -> 174 | BR18: FTE, hrs*month | BS18: =BS19*BS20 -> 144.83333 | CI18: FTE, hrs*month | CJ18: =CJ19*CJ20 -> 173.33333 | CZ18: FTE, hrs*month | DA18: =DA19*DA20 -> 174 | DQ18: FTE, hrs*month | DR18: =DR19*DR20 -> 167 | EH18: FTE, hrs*month | EI18: =EI19*EI20 -> 174 | EY18: FTE, hrs*month | EZ18: =EZ19*EZ20 -> 176 | FP18: FTE, hrs*month | FQ18: =FQ19*FQ20 -> 165 | GG18: FTE, hrs*month | GH18: =GH19*GH20 -> 174
B19: FTE, hrs*day | C19: 6.6666667 | S19: FTE, hrs*day | T19: 6.6666667 | AJ19: FTE, hrs*day | AK19: 6.7272727 | BA19: FTE, hrs*day | BB19: 6.6923077 | BR19: FTE, hrs*day | BS19: 6.5833333 | CI19: FTE, hrs*day | CJ19: 6.6666667 | CZ19: FTE, hrs*day | DA19: 6.6923077 | DQ19: FTE, hrs*day | DR19: 6.68 | EH19: FTE, hrs*day | EI19: 6.6923077 | EY19: FTE, hrs*day | EZ19: 6.7692308 | FP19: FTE, hrs*day | FQ19: 6.6 | GG19: FTE, hrs*day | GH19: 6.6923077
B20: Рабочих дней | C20: 24 | S20: Рабочих дней | T20: 24 | AJ20: Рабочих дней | AK20: 22 | BA20: Рабочих дней | BB20: 26 | BR20: Рабочих дней | BS20: 22 | CI20: Рабочих дней | CJ20: 26 | CZ20: Рабочих дней | DA20: 26 | DQ20: Рабочих дней | DR20: 25 | EH20: Рабочих дней | EI20: 26 | EY20: Рабочих дней | EZ20: 26 | FP20: Рабочих дней | FQ20: 25 | GG20: Рабочих дней | GH20: 26
B21: Выходных дней | C21: 7 | S21: Выходных дней | T21: 4 | AJ21: Выходных дней | AK21: 9 | BA21: Выходных дней | BB21: 4 | BR21: Выходных дней | BS21: 9 | CI21: Выходных дней | CJ21: 4 | CZ21: Выходных дней | DA21: 5 | DQ21: Выходных дней | DR21: 6 | EH21: Выходных дней | EI21: 4 | EY21: Выходных дней | EZ21: 4 | FP21: Выходных дней | FQ21: 5 | GG21: Выходных дней | GH21: 5
B23: Средний день | S23: Средний день | AJ23: Средний день | BA23: Средний день | BR23: Средний день | CI23: Средний день | CZ23: Средний день | DQ23: Средний день | EH23: Средний день | EY23: Средний день | FP23: Средний день | GG23: Средний день
B24: % | C24: Звонки вход. | D24: Звонки исход. | E24: Неголосовые тикеты | F24: Чаты | G24: Агенты вход. | H24: Агенты исход. | I24: Агенты Неголос. Тикеты | J24: Агенты чаты | K24: Агенты в линии ВСЕГО | L24: SL Вход. | M24: SL Чаты | N24: ASA вход., sec | O24: AR Вход. | P24: OCC Все каналы | S24: % | T24: Звонки вход. | U24: Звонки исход. | V24: Неголосовые тикеты | W24: Чаты | X24: Агенты вход. | Y24: Агенты исход. | Z24: Агенты Неголос. Тикеты | AA24: Агенты чаты | AB24: Агенты в линии ВСЕГО | AC24: SL Вход. | AD24: SL Чаты | AE24: ASA вход., sec | AF24: AR Вход. | AG24: OCC Все каналы | AJ24: % | AK24: Звонки вход. | AL24: Звонки исход. | AM24: Неголосовые тикеты | AN24: Чаты | AO24: Агенты вход. | AP24: Агенты исход. | AQ24: Агенты Неголос. Тикеты | AR24: Агенты чаты | AS24: Агенты в линии ВСЕГО | AT24: SL Вход. | AU24: SL Чаты | AV24: ASA вход., sec | AW24: AR Вход. | AX24: OCC Все каналы | BA24: % | BB24: Звонки вход. | BC24: Звонки исход. | BD24: Неголосовые тикеты | BE24: Чаты | BF24: Агенты вход. | BG24: Агенты исход. | BH24: Агенты Неголос. Тикеты | BI24: Агенты чаты | BJ24: Агенты в линии ВСЕГО | BK24: SL Вход. | BL24: SL Чаты | BM24: ASA вход., sec | BN24: AR Вход. | BO24: OCC Все каналы | BR24: % | BS24: Звонки вход. | BT24: Звонки исход. | BU24: Неголосовые тикеты | BV24: Чаты | BW24: Агенты вход. | BX24: Агенты исход. | BY24: Агенты Неголос. Тикеты | BZ24: Агенты чаты | CA24: Агенты в линии ВСЕГО | CB24: SL Вход. | CC24: SL Чаты | CD24: ASA вход., sec | CE24: AR Вход. | CF24: OCC Все каналы | CI24: % | CJ24: Звонки вход. | CK24: Звонки исход. | CL24: Неголосовые тикеты | CM24: Чаты | CN24: Агенты вход. | CO24: Агенты исход. | CP24: Агенты Неголос. Тикеты | CQ24: Агенты чаты | CR24: Агенты в линии ВСЕГО | CS24: SL Вход. | CT24: SL Чаты | CU24: ASA вход., sec | CV24: AR Вход. | CW24: OCC Все каналы | CZ24: % | DA24: Звонки вход. | DB24: Звонки исход. | DC24: Неголосовые тикеты | DD24: Чаты | DE24: Агенты вход. | DF24: Агенты исход. | DG24: Агенты Неголос. Тикеты | DH24: Агенты чаты | DI24: Агенты в линии ВСЕГО | DJ24: SL Вход. | DK24: SL Чаты | DL24: ASA вход., sec | DM24: AR Вход. | DN24: OCC Все каналы | DQ24: % | DR24: Звонки вход. | DS24: Звонки исход. | DT24: Неголосовые тикеты | DU24: Чаты | DV24: Агенты вход. | DW24: Агенты исход. | DX24: Агенты Неголос. Тикеты | DY24: Агенты чаты | DZ24: Агенты в линии ВСЕГО | EA24: SL Вход. | EB24: SL Чаты | EC24: ASA вход., sec | ED24: AR Вход. | EE24: OCC Все каналы | EH24: % | EI24: Звонки вход. | EJ24: Звонки исход. | EK24: Неголосовые тикеты | EL24: Чаты | EM24: Агенты вход. | EN24: Агенты исход. | EO24: Агенты Неголос. Тикеты | EP24: Агенты чаты | EQ24: Агенты в линии ВСЕГО | ER24: SL Вход. | ES24: SL Чаты | ET24: ASA вход., sec | EU24: AR Вход. | EV24: OCC Все каналы | EY24: % | EZ24: Звонки вход. | FA24: Звонки исход. | FB24: Неголосовые тикеты | FC24: Чаты | FD24: Агенты вход. | FE24: Агенты исход. | FF24: Агенты Неголос. Тикеты | FG24: Агенты чаты | FH24: Агенты в линии ВСЕГО | FI24: SL Вход. | FJ24: SL Чаты | FK24: ASA вход., sec | FL24: AR Вход. | FM24: OCC Все каналы | FP24: % | FQ24: Звонки вход. | FR24: Звонки исход. | FS24: Неголосовые тикеты | FT24: Чаты | FU24: Агенты вход. | FV24: Агенты исход. | FW24: Агенты Неголос. Тикеты | FX24: Агенты чаты | FY24: Агенты в линии ВСЕГО | FZ24: SL Вход. | GA24: SL Чаты | GB24: ASA вход., sec | GC24: AR Вход. | GD24: OCC Все каналы | GG24: % | GH24: Звонки вход. | GI24: Звонки исход. | GJ24: Неголосовые тикеты | GK24: Чаты | GL24: Агенты вход. | GM24: Агенты исход. | GN24: Агенты Неголос. Тикеты | GO24: Агенты чаты | GP24: Агенты в линии ВСЕГО | GQ24: SL Вход. | GR24: SL Чаты | GS24: ASA вход., sec | GT24: AR Вход. | GU24: OCC Все каналы
B25: =SUM(B26:B49) -> 1 | C25: =C3/A1 -> 0 | D25: =C4/A1*A4 -> 154.83871 | E25: =C5/A1 -> 0 | F25: =C6/A1 -> 2070.9677 | G25: =SUM(G26:G49) -> 15 | H25: =SUM(H26:H49) -> 41.623309 | I25: =SUM(I26:I49) -> 0 | J25: =SUM(J26:J49) -> 330 | K25: =SUM(K26:K49) -> 386.62331 | L25: =SUMPRODUCT(C26:C49,L26:L49)/C25 -> #DIV/0! | M25: =SUMPRODUCT(F26:F49,M26:M49)/F25 -> 0.6729398 | N25: =SUMPRODUCT(C26:C49,N26:N49)/C25 -> #DIV/0! | O25: =SUMPRODUCT(C26:C49,O26:O49)/C25 -> #DIV/0! | P25: =SUMPRODUCT(K26:K49,P26:P49)/K25 -> 0.73601929 | S25: =SUM(S26:S49) -> 1 | T25: =T3/R1 -> 0 | U25: =T4/R1*R4 -> 142.85714 | V25: =T5/R1 -> 0 | W25: =T6/R1 -> 2103.5714 | X25: =SUM(X26:X49) -> 15 | Y25: =SUM(Y26:Y49) -> 42.669398 | Z25: =SUM(Z26:Z49) -> 0 | AA25: =SUM(AA26:AA49) -> 368 | AB25: =SUM(AB26:AB49) -> 425.6694 | AC25: =SUMPRODUCT(T26:T49,AC26:AC49)/T25 -> #DIV/0! | AD25: =SUMPRODUCT(W26:W49,AD26:AD49)/W25 -> 0.67967835 | AE25: =SUMPRODUCT(T26:T49,AE26:AE49)/T25 -> #DIV/0! | AF25: =SUMPRODUCT(T26:T49,AF26:AF49)/T25 -> #DIV/0! | AG25: =SUMPRODUCT(AB26:AB49,AG26:AG49)/AB25 -> 0.75013902 | AJ25: =SUM(AJ26:AJ49) -> 1 | AK25: =AK3/AI1 -> 0 | AL25: =AK4/AI1*AI4 -> 160 | AM25: =AK5/AI1 -> 0 | AN25: =AK6/AI1 -> 1967.7419 | AO25: =SUM(AO26:AO49) -> 15 | AP25: =SUM(AP26:AP49) -> 47.789725 | AQ25: =SUM(AQ26:AQ49) -> 0 | AR25: =SUM(AR26:AR49) -> 353 | AS25: =SUM(AS26:AS49) -> 415.78973 | AT25: =SUMPRODUCT(AK26:AK49,AT26:AT49)/AK25 -> #DIV/0! | AU25: =SUMPRODUCT(AN26:AN49,AU26:AU49)/AN25 -> 0.67240605 | AV25: =SUMPRODUCT(AK26:AK49,AV26:AV49)/AK25 -> #DIV/0! | AW25: =SUMPRODUCT(AK26:AK49,AW26:AW49)/AK25 -> #DIV/0! | AX25: =SUMPRODUCT(AS26:AS49,AX26:AX49)/AS25 -> 0.74021227 | BA25: =SUM(BA26:BA49) -> 1 | BB25: =BB3/AZ1 -> 0 | BC25: =BB4/AZ1*AZ4 -> 152 | BD25: =BB5/AZ1 -> 0 | BE25: =BB6/AZ1 -> 1866.6667 | BF25: =SUM(BF26:BF49) -> 15 | BG25: =SUM(BG26:BG49) -> 45.400239 | BH25: =SUM(BH26:BH49) -> 0 | BI25: =SUM(BI26:BI49) -> 332 | BJ25: =SUM(BJ26:BJ49) -> 392.40024 | BK25: =SUMPRODUCT(BB26:BB49,BK26:BK49)/BB25 -> #DIV/0! | BL25: =SUMPRODUCT(BE26:BE49,BL26:BL49)/BE25 -> 0.67523782 | BM25: =SUMPRODUCT(BB26:BB49,BM26:BM49)/BB25 -> #DIV/0! | BN25: =SUMPRODUCT(BB26:BB49,BN26:BN49)/BB25 -> #DIV/0! | BO25: =SUMPRODUCT(BJ26:BJ49,BO26:BO49)/BJ25 -> 0.73281188 | BR25: =SUM(BR26:BR49) -> 1 | BS25: =BS3/BQ1 -> 0 | BT25: =BS4/BQ1*BQ4 -> 141.93548 | BU25: =BS5/BQ1 -> 0 | BV25: =BS6/BQ1 -> 1725.8065 | BW25: =SUM(BW26:BW49) -> 15 | BX25: =SUM(BX26:BX49) -> 42.394111 | BY25: =SUM(BY26:BY49) -> 0 | BZ25: =SUM(BZ26:BZ49) -> 309 | CA25: =SUM(CA26:CA49) -> 366.39411 | CB25: =SUMPRODUCT(BS26:BS49,CB26:CB49)/BS25 -> #DIV/0! | CC25: =SUMPRODUCT(BV26:BV49,CC26:CC49)/BV25 -> 0.65799682 | CD25: =SUMPRODUCT(BS26:BS49,CD26:CD49)/BS25 -> #DIV/0! | CE25: =SUMPRODUCT(BS26:BS49,CE26:CE49)/BS25 -> #DIV/0! | CF25: =SUMPRODUCT(CA26:CA49,CF26:CF49)/CA25 -> 0.72624156 | CI25: =SUM(CI26:CI49) -> 1 | CJ25: =CJ3/CH1 -> 0 | CK25: =CJ4/CH1*CH4 -> 152 | CL25: =CJ5/CH1 -> 0 | CM25: =CJ6/CH1 -> 2116.6667 | CN25: =SUM(CN26:CN49) -> 15 | CO25: =SUM(CO26:CO49) -> 45.400239 | CP25: =SUM(CP26:CP49) -> 0 | CQ25: =SUM(CQ26:CQ49) -> 375 | CR25: =SUM(CR26:CR49) -> 435.40024 | CS25: =SUMPRODUCT(CJ26:CJ49,CS26:CS49)/CJ25 -> #DIV/0! | CT25: =SUMPRODUCT(CM26:CM49,CT26:CT49)/CM25 -> 0.65803422 | CU25: =SUMPRODUCT(CJ26:CJ49,CU26:CU49)/CJ25 -> #DIV/0! | CV25: =SUMPRODUCT(CJ26:CJ49,CV26:CV49)/CJ25 -> #DIV/0! | CW25: =SUMPRODUCT(CR26:CR49,CW26:CW49)/CR25 -> 0.75267365 | CZ25: =SUM(CZ26:CZ49) -> 1 | DA25: =DA3/CY1 -> 0 | DB25: =DA4/CY1*CY4 -> 141.93548 | DC25: =DA5/CY1 -> 0 | DD25: =DA6/CY1 -> 1967.7419 | DE25: =SUM(DE26:DE49) -> 15 | DF25: =SUM(DF26:DF49) -> 42.394111 | DG25: =SUM(DG26:DG49) -> 0 | DH25: =SUM(DH26:DH49) -> 346 | DI25: =SUM(DI26:DI49) -> 403.39411 | DJ25: =SUMPRODUCT(DA26:DA49,DJ26:DJ49)/DA25 -> #DIV/0! | DK25: =SUMPRODUCT(DD26:DD49,DK26:DK49)/DD25 -> 0.65783395 | DL25: =SUMPRODUCT(DA26:DA49,DL26:DL49)/DA25 -> #DIV/0! | DM25: =SUMPRODUCT(DA26:DA49,DM26:DM49)/DA25 -> #DIV/0! | DN25: =SUMPRODUCT(DI26:DI49,DN26:DN49)/DI25 -> 0.74387998 | DQ25: =SUM(DQ26:DQ49) -> 1 | DR25: =DR3/DP1 -> 0 | DS25: =DR4/DP1*DP4 -> 129.03226 | DT25: =DR5/DP1 -> 0 | DU25: =DR6/DP1 -> 1935.4839 | DV25: =SUM(DV26:DV49) -> 15 | DW25: =SUM(DW26:DW49) -> 38.540101 | DX25: =SUM(DX26:DX49) -> 0 | DY25: =SUM(DY26:DY49) -> 344 | DZ25: =SUM(DZ26:DZ49) -> 397.5401 | EA25: =SUMPRODUCT(DR26:DR49,EA26:EA49)/DR25 -> #DIV/0! | EB25: =SUMPRODUCT(DU26:DU49,EB26:EB49)/DU25 -> 0.68108135 | EC25: =SUMPRODUCT(DR26:DR49,EC26:EC49)/DR25 -> #DIV/0! | ED25: =SUMPRODUCT(DR26:DR49,ED26:ED49)/DR25 -> #DIV/0! | EE25: =SUMPRODUCT(DZ26:DZ49,EE26:EE49)/DZ25 -> 0.73802561 | EH25: =SUM(EH26:EH49) -> 1 | EI25: =EI3/EG1 -> 0 | EJ25: =EI4/EG1*EG4 -> 133.33333 | EK25: =EI5/EG1 -> 0 | EL25: =EI6/EG1 -> 1966.6667 | EM25: =SUM(EM26:EM49) -> 15 | EN25: =SUM(EN26:EN49) -> 39.824771 | EO25: =SUM(EO26:EO49) -> 0 | EP25: =SUM(EP26:EP49) -> 346 | EQ25: =SUM(EQ26:EQ49) -> 400.82477 | ER25: =SUMPRODUCT(EI26:EI49,ER26:ER49)/EI25 -> #DIV/0! | ES25: =SUMPRODUCT(EL26:EL49,ES26:ES49)/EL25 -> 0.65935783 | ET25: =SUMPRODUCT(EI26:EI49,ET26:ET49)/EI25 -> #DIV/0! | EU25: =SUMPRODUCT(EI26:EI49,EU26:EU49)/EI25 -> #DIV/0! | EV25: =SUMPRODUCT(EQ26:EQ49,EV26:EV49)/EQ25 -> 0.74469465 | EY25: =SUM(EY26:EY49) -> 1 | EZ25: =EZ3/EX1 -> 0 | FA25: =EZ4/EX1*EX4 -> 141.93548 | FB25: =EZ5/EX1 -> 0 | FC25: =EZ6/EX1 -> 1935.4839 | FD25: =SUM(FD26:FD49) -> 15 | FE25: =SUM(FE26:FE49) -> 42.394111 | FF25: =SUM(FF26:FF49) -> 0 | FG25: =SUM(FG26:FG49) -> 344 | FH25: =SUM(FH26:FH49) -> 401.39411 | FI25: =SUMPRODUCT(EZ26:EZ49,FI26:FI49)/EZ25 -> #DIV/0! | FJ25: =SUMPRODUCT(FC26:FC49,FJ26:FJ49)/FC25 -> 0.68108135 | FK25: =SUMPRODUCT(EZ26:EZ49,FK26:FK49)/EZ25 -> #DIV/0! | FL25: =SUMPRODUCT(EZ26:EZ49,FL26:FL49)/EZ25 -> #DIV/0! | FM25: =SUMPRODUCT(FH26:FH49,FM26:FM49)/FH25 -> 0.73629709 | FP25: =SUM(FP26:FP49) -> 1 | FQ25: =FQ3/FO1 -> 0 | FR25: =FQ4/FO1*FO4 -> 133.33333 | FS25: =FQ5/FO1 -> 0 | FT25: =FQ6/FO1 -> 1900 | FU25: =SUM(FU26:FU49) -> 15 | FV25: =SUM(FV26:FV49) -> 39.824771 | FW25: =SUM(FW26:FW49) -> 0 | FX25: =SUM(FX26:FX49) -> 339 | FY25: =SUM(FY26:FY49) -> 393.82477 | FZ25: =SUMPRODUCT(FQ26:FQ49,FZ26:FZ49)/FQ25 -> #DIV/0! | GA25: =SUMPRODUCT(FT26:FT49,GA26:GA49)/FT25 -> 0.68757336 | GB25: =SUMPRODUCT(FQ26:FQ49,GB26:GB49)/FQ25 -> #DIV/0! | GC25: =SUMPRODUCT(FQ26:FQ49,GC26:GC49)/FQ25 -> #DIV/0! | GD25: =SUMPRODUCT(FY26:FY49,GD26:GD49)/FY25 -> 0.73415134 | GG25: =SUM(GG26:GG49) -> 1 | GH25: =GH3/GF1 -> 0 | GI25: =GH4/GF1*GF4 -> 129.03226 | GJ25: =GH5/GF1 -> 0 | GK25: =GH6/GF1 -> 1903.2258 | GL25: =SUM(GL26:GL49) -> 15 | GM25: =SUM(GM26:GM49) -> 38.540101 | GN25: =SUM(GN26:GN49) -> 0 | GO25: =SUM(GO26:GO49) -> 340 | GP25: =SUM(GP26:GP49) -> 393.5401 | GQ25: =SUMPRODUCT(GH26:GH49,GQ26:GQ49)/GH25 -> #DIV/0! | GR25: =SUMPRODUCT(GK26:GK49,GR26:GR49)/GK25 -> 0.68954224 | GS25: =SUMPRODUCT(GH26:GH49,GS26:GS49)/GH25 -> #DIV/0! | GT25: =SUMPRODUCT(GH26:GH49,GT26:GT49)/GH25 -> #DIV/0! | GU25: =SUMPRODUCT(GP26:GP49,GU26:GU49)/GP25 -> 0.73401233
A26: 0 | R26: 0 | AI26: 0 | AZ26: 0 | BQ26: 0 | CH26: 0 | CY26: 0 | DP26: 0 | EG26: 0 | EX26: 0 | FO26: 0 | GF26: 0
A27: 0.041666667 | R27: 0.041666667 | AI27: 0.041666667 | AZ27: 0.041666667 | BQ27: 0.041666667 | CH27: 0.041666667 | CY27: 0.041666667 | DP27: 0.041666667 | EG27: 0.041666667 | EX27: 0.041666667 | FO27: 0.041666667 | GF27: 0.041666667
A28: 0.083333333 | R28: 0.083333333 | AI28: 0.083333333 | AZ28: 0.083333333 | BQ28: 0.083333333 | CH28: 0.083333333 | CY28: 0.083333333 | DP28: 0.083333333 | EG28: 0.083333333 | EX28: 0.083333333 | FO28: 0.083333333 | GF28: 0.083333333
A29: 0.125 | R29: 0.125 | AI29: 0.125 | AZ29: 0.125 | BQ29: 0.125 | CH29: 0.125 | CY29: 0.125 | DP29: 0.125 | EG29: 0.125 | EX29: 0.125 | FO29: 0.125 | GF29: 0.125
A30: 0.16666667 | R30: 0.16666667 | AI30: 0.16666667 | AZ30: 0.16666667 | BQ30: 0.16666667 | CH30: 0.16666667 | CY30: 0.16666667 | DP30: 0.16666667 | EG30: 0.16666667 | EX30: 0.16666667 | FO30: 0.16666667 | GF30: 0.16666667
A31: 0.20833333 | R31: 0.20833333 | AI31: 0.20833333 | AZ31: 0.20833333 | BQ31: 0.20833333 | CH31: 0.20833333 | CY31: 0.20833333 | DP31: 0.20833333 | EG31: 0.20833333 | EX31: 0.20833333 | FO31: 0.20833333 | GF31: 0.20833333
A32: 0.25 | R32: 0.25 | AI32: 0.25 | AZ32: 0.25 | BQ32: 0.25 | CH32: 0.25 | CY32: 0.25 | DP32: 0.25 | EG32: 0.25 | EX32: 0.25 | FO32: 0.25 | GF32: 0.25
A33: 0.29166667 | R33: 0.29166667 | AI33: 0.29166667 | AZ33: 0.29166667 | BQ33: 0.29166667 | CH33: 0.29166667 | CY33: 0.29166667 | DP33: 0.29166667 | EG33: 0.29166667 | EX33: 0.29166667 | FO33: 0.29166667 | GF33: 0.29166667
A34: 0.33333333 | B34: 0.029211151 | C34: =C$25*B34 -> 0 | D34: =D$25/15 -> 10.322581 | E34: =E$25*B34 -> 0 | F34: =F$25*B34 -> 60.495352 | G34: =[1]!ErlangC_Agents(C34/60,D$3,0.9,E$3/60) -> 1 | H34: =(D34*D$4)/(60*(1-C$16)*0.6) -> 2.7748873 | I34: =(E34*D$5)/(60*(1-C$16)*0.75) -> 0 | J34: =[1]!ErlangC_Agents(F34/60/C$7,D$6,0.8,E$6/60) -> 11 | K34: =SUM(G34:J34) -> 14.774887 | L34: =[1]!ErlangC_ServiceLevel(C34/60,D$3,G34*(1-C$16),E$3/60) -> 1 | M34: =[1]!ErlangC_ServiceLevel(F34/60/C$7,D$6,J34*(1-C$16),E$6/60) -> 0.70932841 | N34: =[1]!ErlangC_ASA(C34/60,D$3,G34*(1-C$16))*60 -> 0 | O34: =[2]!Abandon(G34,F$3,C34,D$3*60) -> 0 | P34: =(C34*D$3+D34*D$4+E34*D$5+F34/C$7*D$6)/(K34*60) -> 0.62148186 | R34: 0.33333333 | S34: 0.029211151 | T34: =T$25*S34 -> 0 | U34: =U$25/15 -> 9.5238095 | V34: =V$25*S34 -> 0 | W34: =W$25*S34 -> 61.447744 | X34: =[1]!ErlangC_Agents(T34/60,U$3,0.9,V$3/60) -> 1 | Y34: =(U34*U$4)/(60*(1-T$16)*0.6) -> 2.8446265 | Z34: =(V34*U$5)/(60*(1-T$16)*0.75) -> 0 | AA34: =[1]!ErlangC_Agents(W34/60/T$7,U$6,0.8,V$6/60) -> 12 | AB34: =SUM(X34:AA34) -> 15.844627 | AC34: =[1]!ErlangC_ServiceLevel(T34/60,U$3,X34*(1-T$16),V$3/60) -> 1 | AD34: =[1]!ErlangC_ServiceLevel(W34/60/T$7,U$6,AA34*(1-T$16),V$6/60) -> 0.68560047 | AE34: =[1]!ErlangC_ASA(T34/60,U$3,X34*(1-T$16))*60 -> 0 | AF34: =[2]!Abandon(X34,W$3,T34,U$3*60) -> 0 | AG34: =(T34*U$3+U34*U$4+V34*U$5+W34/T$7*U$6)/(AB34*60) -> 0.64496607 | AI34: 0.33333333 | AJ34: 0.029211151 | AK34: =AK$25*AJ34 -> 0 | AL34: =AL$25/15 -> 10.666667 | AM34: =AM$25*AJ34 -> 0 | AN34: =AN$25*AJ34 -> 57.480008 | AO34: =[1]!ErlangC_Agents(AK34/60,AL$3,0.9,AM$3/60) -> 1 | AP34: =(AL34*AL$4)/(60*(1-AK$16)*0.6) -> 3.1859817 | AQ34: =(AM34*AL$5)/(60*(1-AK$16)*0.75) -> 0 | AR34: =[1]!ErlangC_Agents(AN34/60/AK$7,AL$6,0.8,AM$6/60) -> 12 | AS34: =SUM(AO34:AR34) -> 16.185982 | AT34: =[1]!ErlangC_ServiceLevel(AK34/60,AL$3,AO34*(1-AK$16),AM$3/60) -> 1 | AU34: =[1]!ErlangC_ServiceLevel(AN34/60/AK$7,AL$6,AR34*(1-AK$16),AM$6/60) -> 0.75747261 | AV34: =[1]!ErlangC_ASA(AK34/60,AL$3,AO34*(1-AK$16))*60 -> 0 | AW34: =[2]!Abandon(AO34,AN$3,AK34,AL$3*60) -> 0 | AX34: =(AK34*AL$3+AL34*AL$4+AM34*AL$5+AN34/AK$7*AL$6)/(AS34*60) -> 0.61715178 | AZ34: 0.33333333 | BA34: 0.029211151 | BB34: =BB$25*BA34 -> 0 | BC34: =BC$25/15 -> 10.133333 | BD34: =BD$25*BA34 -> 0 | BE34: =BE$25*BA34 -> 54.527483 | BF34: =[1]!ErlangC_Agents(BB34/60,BC$3,0.9,BD$3/60) -> 1 | BG34: =(BC34*BC$4)/(60*(1-BB$16)*0.6) -> 3.0266826 | BH34: =(BD34*BC$5)/(60*(1-BB$16)*0.75) -> 0 | BI34: =[1]!ErlangC_Agents(BE34/60/BB$7,BC$6,0.8,BD$6/60) -> 11 | BJ34: =SUM(BF34:BI34) -> 15.026683 | BK34: =[1]!ErlangC_ServiceLevel(BB34/60,BC$3,BF34*(1-BB$16),BD$3/60) -> 1 | BL34: =[1]!ErlangC_ServiceLevel(BE34/60/BB$7,BC$6,BI34*(1-BB$16),BD$6/60) -> 0.70041264 | BM34: =[1]!ErlangC_ASA(BB34/60,BC$3,BF34*(1-BB$16))*60 -> 0 | BN34: =[2]!Abandon(BF34,BE$3,BB34,BC$3*60) -> 0 | BO34: =(BB34*BC$3+BC34*BC$4+BD34*BC$5+BE34/BB$7*BC$6)/(BJ34*60) -> 0.62214011 | BQ34: 0.33333333 | BR34: 0.029211151 | BS34: =BS$25*BR34 -> 0 | BT34: =BT$25/15 -> 9.4623656 | BU34: =BU$25*BR34 -> 0 | BV34: =BV$25*BR34 -> 50.412794 | BW34: =[1]!ErlangC_Agents(BS34/60,BT$3,0.9,BU$3/60) -> 1 | BX34: =(BT34*BT$4)/(60*(1-BS$16)*0.6) -> 2.8262741 | BY34: =(BU34*BT$5)/(60*(1-BS$16)*0.75) -> 0 | BZ34: =[1]!ErlangC_Agents(BV34/60/BS$7,BT$6,0.8,BU$6/60) -> 11 | CA34: =SUM(BW34:BZ34) -> 14.826274 | CB34: =[1]!ErlangC_ServiceLevel(BS34/60,BT$3,BW34*(1-BS$16),BU$3/60) -> 1 | CC34: =[1]!ErlangC_ServiceLevel(BV34/60/BS$7,BT$6,BZ34*(1-BS$16),BU$6/60) -> 0.79789233 | CD34: =[1]!ErlangC_ASA(BS34/60,BT$3,BW34*(1-BS$16))*60 -> 0 | CE34: =[2]!Abandon(BW34,BV$3,BS34,BT$3*60) -> 0 | CF34: =(BS34*BT$3+BT34*BT$4+BU34*BT$5+BV34/BS$7*BT$6)/(CA34*60) -> 0.58402118 | CH34: 0.33333333 | CI34: 0.029211151 | CJ34: =CJ$25*CI34 -> 0 | CK34: =CK$25/15 -> 10.133333 | CL34: =CL$25*CI34 -> 0 | CM34: =CM$25*CI34 -> 61.830271 | CN34: =[1]!ErlangC_Agents(CJ34/60,CK$3,0.9,CL$3/60) -> 1 | CO34: =(CK34*CK$4)/(60*(1-CJ$16)*0.6) -> 3.0266826 | CP34: =(CL34*CK$5)/(60*(1-CJ$16)*0.75) -> 0 | CQ34: =[1]!ErlangC_Agents(CM34/60/CJ$7,CK$6,0.8,CL$6/60) -> 13 | CR34: =SUM(CN34:CQ34) -> 17.026683 | CS34: =[1]!ErlangC_ServiceLevel(CJ34/60,CK$3,CN34*(1-CJ$16),CL$3/60) -> 1 | CT34: =[1]!ErlangC_ServiceLevel(CM34/60/CJ$7,CK$6,CQ34*(1-CJ$16),CL$6/60) -> 0.79417733 | CU34: =[1]!ErlangC_ASA(CJ34/60,CK$3,CN34*(1-CJ$16))*60 -> 0 | CV34: =[2]!Abandon(CN34,CM$3,CJ34,CK$3*60) -> 0 | CW34: =(CJ34*CK$3+CK34*CK$4+CL34*CK$5+CM34/CJ$7*CK$6)/(CR34*60) -> 0.61795859 | CY34: 0.33333333 | CZ34: 0.029211151 | DA34: =DA$25*CZ34 -> 0 | DB34: =DB$25/15 -> 9.4623656 | DC34: =DC$25*CZ34 -> 0 | DD34: =DD$25*CZ34 -> 57.480008 | DE34: =[1]!ErlangC_Agents(DA34/60,DB$3,0.9,DC$3/60) -> 1 | DF34: =(DB34*DB$4)/(60*(1-DA$16)*0.6) -> 2.8262741 | DG34: =(DC34*DB$5)/(60*(1-DA$16)*0.75) -> 0 | DH34: =[1]!ErlangC_Agents(DD34/60/DA$7,DB$6,0.8,DC$6/60) -> 12 | DI34: =SUM(DE34:DH34) -> 15.826274 | DJ34: =[1]!ErlangC_ServiceLevel(DA34/60,DB$3,DE34*(1-DA$16),DC$3/60) -> 1 | DK34: =[1]!ErlangC_ServiceLevel(DD34/60/DA$7,DB$6,DH34*(1-DA$16),DC$6/60) -> 0.7788845 | DL34: =[1]!ErlangC_ASA(DA34/60,DB$3,DE34*(1-DA$16))*60 -> 0 | DM34: =[2]!Abandon(DE34,DD$3,DA34,DB$3*60) -> 0 | DN34: =(DA34*DB$3+DB34*DB$4+DC34*DB$5+DD34/DA$7*DB$6)/(DI34*60) -> 0.60984875 | DP34: 0.33333333 | DQ34: 0.029211151 | DR34: =DR$25*DQ34 -> 0 | DS34: =DS$25/15 -> 8.6021505 | DT34: =DT$25*DQ34 -> 0 | DU34: =DU$25*DQ34 -> 56.537713 | DV34: =[1]!ErlangC_Agents(DR34/60,DS$3,0.9,DT$3/60) -> 1 | DW34: =(DS34*DS$4)/(60*(1-DR$16)*0.6) -> 2.5693401 | DX34: =(DT34*DS$5)/(60*(1-DR$16)*0.75) -> 0 | DY34: =[1]!ErlangC_Agents(DU34/60/DR$7,DS$6,0.8,DT$6/60) -> 12 | DZ34: =SUM(DV34:DY34) -> 15.56934 | EA34: =[1]!ErlangC_ServiceLevel(DR34/60,DS$3,DV34*(1-DR$16),DT$3/60) -> 1 | EB34: =[1]!ErlangC_ServiceLevel(DU34/60/DR$7,DS$6,DY34*(1-DR$16),DT$6/60) -> 0.79782154 | EC34: =[1]!ErlangC_ASA(DR34/60,DS$3,DV34*(1-DR$16))*60 -> 0 | ED34: =[2]!Abandon(DV34,DU$3,DR34,DS$3*60) -> 0 | EE34: =(DR34*DS$3+DS34*DS$4+DT34*DS$5+DU34/DR$7*DS$6)/(DZ34*60) -> 0.60220242 | EG34: 0.33333333 | EH34: 0.029211151 | EI34: =EI$25*EH34 -> 0 | EJ34: =EJ$25/15 -> 8.8888889 | EK34: =EK$25*EH34 -> 0 | EL34: =EL$25*EH34 -> 57.448598 | EM34: =[1]!ErlangC_Agents(EI34/60,EJ$3,0.9,EK$3/60) -> 1 | EN34: =(EJ34*EJ$4)/(60*(1-EI$16)*0.6) -> 2.6549847 | EO34: =(EK34*EJ$5)/(60*(1-EI$16)*0.75) -> 0 | EP34: =[1]!ErlangC_Agents(EL34/60/EI$7,EJ$6,0.8,EK$6/60) -> 12 | EQ34: =SUM(EM34:EP34) -> 15.654985 | ER34: =[1]!ErlangC_ServiceLevel(EI34/60,EJ$3,EM34*(1-EI$16),EK$3/60) -> 1 | ES34: =[1]!ErlangC_ServiceLevel(EL34/60/EI$7,EJ$6,EP34*(1-EI$16),EK$6/60) -> 0.77953485 | ET34: =[1]!ErlangC_ASA(EI34/60,EJ$3,EM34*(1-EI$16))*60 -> 0 | EU34: =[2]!Abandon(EM34,EL$3,EI34,EJ$3*60) -> 0 | EV34: =(EI34*EJ$3+EJ34*EJ$4+EK34*EJ$5+EL34/EI$7*EJ$6)/(EQ34*60) -> 0.61013421 | EX34: 0.33333333 | EY34: 0.029211151 | EZ34: =EZ$25*EY34 -> 0 | FA34: =FA$25/15 -> 9.4623656 | FB34: =FB$25*EY34 -> 0 | FC34: =FC$25*EY34 -> 56.537713 | FD34: =[1]!ErlangC_Agents(EZ34/60,FA$3,0.9,FB$3/60) -> 1 | FE34: =(FA34*FA$4)/(60*(1-EZ$16)*0.6) -> 2.8262741 | FF34: =(FB34*FA$5)/(60*(1-EZ$16)*0.75) -> 0 | FG34: =[1]!ErlangC_Agents(FC34/60/EZ$7,FA$6,0.8,FB$6/60) -> 12 | FH34: =SUM(FD34:FG34) -> 15.826274 | FI34: =[1]!ErlangC_ServiceLevel(EZ34/60,FA$3,FD34*(1-EZ$16),FB$3/60) -> 1 | FJ34: =[1]!ErlangC_ServiceLevel(FC34/60/EZ$7,FA$6,FG34*(1-EZ$16),FB$6/60) -> 0.79782154 | FK34: =[1]!ErlangC_ASA(EZ34/60,FA$3,FD34*(1-EZ$16))*60 -> 0 | FL34: =[2]!Abandon(FD34,FC$3,EZ34,FA$3*60) -> 0 | FM34: =(EZ34*FA$3+FA34*FA$4+FB34*FA$5+FC34/EZ$7*FA$6)/(FH34*60) -> 0.60148481 | FO34: 0.33333333 | FP34: 0.029211151 | FQ34: =FQ$25*FP34 -> 0 | FR34: =FR$25/15 -> 8.8888889 | FS34: =FS$25*FP34 -> 0 | FT34: =FT$25*FP34 -> 55.501188 | FU34: =[1]!ErlangC_Agents(FQ34/60,FR$3,0.9,FS$3/60) -> 1 | FV34: =(FR34*FR$4)/(60*(1-FQ$16)*0.6) -> 2.6549847 | FW34: =(FS34*FR$5)/(60*(1-FQ$16)*0.75) -> 0 | FX34: =[1]!ErlangC_Agents(FT34/60/FQ$7,FR$6,0.8,FS$6/60) -> 11 | FY34: =SUM(FU34:FX34) -> 14.654985 | FZ34: =[1]!ErlangC_ServiceLevel(FQ34/60,FR$3,FU34*(1-FQ$16),FS$3/60) -> 1 | GA34: =[1]!ErlangC_ServiceLevel(FT34/60/FQ$7,FR$6,FX34*(1-FQ$16),FS$6/60) -> 0.67343196 | GB34: =[1]!ErlangC_ASA(FQ34/60,FR$3,FU34*(1-FQ$16))*60 -> 0 | GC34: =[2]!Abandon(FU34,FT$3,FQ34,FR$3*60) -> 0 | GD34: =(FQ34*FR$3+FR34*FR$4+FS34*FR$5+FT34/FQ$7*FR$6)/(FY34*60) -> 0.63310041 | GF34: 0.33333333 | GG34: 0.029211151 | GH34: =GH$25*GG34 -> 0 | GI34: =GI$25/15 -> 8.6021505 | GJ34: =GJ$25*GG34 -> 0 | GK34: =GK$25*GG34 -> 55.595417 | GL34: =[1]!ErlangC_Agents(GH34/60,GI$3,0.9,GJ$3/60) -> 1 | GM34: =(GI34*GI$4)/(60*(1-GH$16)*0.6) -> 2.5693401 | GN34: =(GJ34*GI$5)/(60*(1-GH$16)*0.75) -> 0 | GO34: =[1]!ErlangC_Agents(GK34/60/GH$7,GI$6,0.8,GJ$6/60) -> 11 | GP34: =SUM(GL34:GO34) -> 14.56934 | GQ34: =[1]!ErlangC_ServiceLevel(GH34/60,GI$3,GL34*(1-GH$16),GJ$3/60) -> 1 | GR34: =[1]!ErlangC_ServiceLevel(GK34/60/GH$7,GI$6,GO34*(1-GH$16),GJ$6/60) -> 0.67073788 | GS34: =[1]!ErlangC_ASA(GH34/60,GI$3,GL34*(1-GH$16))*60 -> 0 | GT34: =[2]!Abandon(GL34,GK$3,GH34,GI$3*60) -> 0 | GU34: =(GH34*GI$3+GI34*GI$4+GJ34*GI$5+GK34/GH$7*GI$6)/(GP34*60) -> 0.63445044
A35: 0.375 | B35: 0.06364992 | C35: =C$25*B35 -> 0 | D35: =D$25/15 -> 10.322581 | E35: =E$25*B35 -> 0 | F35: =F$25*B35 -> 131.81693 | G35: =[1]!ErlangC_Agents(C35/60,D$3,0.9,E$3/60) -> 1 | H35: =(D35*D$4)/(60*(1-C$16)*0.6) -> 2.7748873 | I35: =(E35*D$5)/(60*(1-C$16)*0.75) -> 0 | J35: =[1]!ErlangC_Agents(F35/60/C$7,D$6,0.8,E$6/60) -> 21 | K35: =SUM(G35:J35) -> 24.774887 | L35: =[1]!ErlangC_ServiceLevel(C35/60,D$3,G35*(1-C$16),E$3/60) -> 1 | M35: =[1]!ErlangC_ServiceLevel(F35/60/C$7,D$6,J35*(1-C$16),E$6/60) -> 0.72414992 | N35: =[1]!ErlangC_ASA(C35/60,D$3,G35*(1-C$16))*60 -> 0 | O35: =[2]!Abandon(G35,F$3,C35,D$3*60) -> 0 | P35: =(C35*D$3+D35*D$4+E35*D$5+F35/C$7*D$6)/(K35*60) -> 0.73390559 | R35: 0.375 | S35: 0.06364992 | T35: =T$25*S35 -> 0 | U35: =U$25/15 -> 9.5238095 | V35: =V$25*S35 -> 0 | W35: =W$25*S35 -> 133.89215 | X35: =[1]!ErlangC_Agents(T35/60,U$3,0.9,V$3/60) -> 1 | Y35: =(U35*U$4)/(60*(1-T$16)*0.6) -> 2.8446265 | Z35: =(V35*U$5)/(60*(1-T$16)*0.75) -> 0 | AA35: =[1]!ErlangC_Agents(W35/60/T$7,U$6,0.8,V$6/60) -> 24 | AB35: =SUM(X35:AA35) -> 27.844627 | AC35: =[1]!ErlangC_ServiceLevel(T35/60,U$3,X35*(1-T$16),V$3/60) -> 1 | AD35: =[1]!ErlangC_ServiceLevel(W35/60/T$7,U$6,AA35*(1-T$16),V$6/60) -> 0.67773033 | AE35: =[1]!ErlangC_ASA(T35/60,U$3,X35*(1-T$16))*60 -> 0 | AF35: =[2]!Abandon(X35,W$3,T35,U$3*60) -> 0 | AG35: =(T35*U$3+U35*U$4+V35*U$5+W35/T$7*U$6)/(AB35*60) -> 0.73249182 | AI35: 0.375 | AJ35: 0.06364992 | AK35: =AK$25*AJ35 -> 0 | AL35: =AL$25/15 -> 10.666667 | AM35: =AM$25*AJ35 -> 0 | AN35: =AN$25*AJ35 -> 125.24662 | AO35: =[1]!ErlangC_Agents(AK35/60,AL$3,0.9,AM$3/60) -> 1 | AP35: =(AL35*AL$4)/(60*(1-AK$16)*0.6) -> 3.1859817 | AQ35: =(AM35*AL$5)/(60*(1-AK$16)*0.75) -> 0 | AR35: =[1]!ErlangC_Agents(AN35/60/AK$7,AL$6,0.8,AM$6/60) -> 23 | AS35: =SUM(AO35:AR35) -> 27.185982 | AT35: =[1]!ErlangC_ServiceLevel(AK35/60,AL$3,AO35*(1-AK$16),AM$3/60) -> 1 | AU35: =[1]!ErlangC_ServiceLevel(AN35/60/AK$7,AL$6,AR35*(1-AK$16),AM$6/60) -> 0.67434848 | AV35: =[1]!ErlangC_ASA(AK35/60,AL$3,AO35*(1-AK$16))*60 -> 0 | AW35: =[2]!Abandon(AO35,AN$3,AK35,AL$3*60) -> 0 | AX35: =(AK35*AL$3+AL35*AL$4+AM35*AL$5+AN35/AK$7*AL$6)/(AS35*60) -> 0.72354023 | AZ35: 0.375 | BA35: 0.06364992 | BB35: =BB$25*BA35 -> 0 | BC35: =BC$25/15 -> 10.133333 | BD35: =BD$25*BA35 -> 0 | BE35: =BE$25*BA35 -> 118.81318 | BF35: =[1]!ErlangC_Agents(BB35/60,BC$3,0.9,BD$3/60) -> 1 | BG35: =(BC35*BC$4)/(60*(1-BB$16)*0.6) -> 3.0266826 | BH35: =(BD35*BC$5)/(60*(1-BB$16)*0.75) -> 0 | BI35: =[1]!ErlangC_Agents(BE35/60/BB$7,BC$6,0.8,BD$6/60) -> 21 | BJ35: =SUM(BF35:BI35) -> 25.026683 | BK35: =[1]!ErlangC_ServiceLevel(BB35/60,BC$3,BF35*(1-BB$16),BD$3/60) -> 1 | BL35: =[1]!ErlangC_ServiceLevel(BE35/60/BB$7,BC$6,BI35*(1-BB$16),BD$6/60) -> 0.71153174 | BM35: =[1]!ErlangC_ASA(BB35/60,BC$3,BF35*(1-BB$16))*60 -> 0 | BN35: =[2]!Abandon(BF35,BE$3,BB35,BC$3*60) -> 0 | BO35: =(BB35*BC$3+BC35*BC$4+BD35*BC$5+BE35/BB$7*BC$6)/(BJ35*60) -> 0.73438868 | BQ35: 0.375 | BR35: 0.06364992 | BS35: =BS$25*BR35 -> 0 | BT35: =BT$25/15 -> 9.4623656 | BU35: =BU$25*BR35 -> 0 | BV35: =BV$25*BR35 -> 109.84744 | BW35: =[1]!ErlangC_Agents(BS35/60,BT$3,0.9,BU$3/60) -> 1 | BX35: =(BT35*BT$4)/(60*(1-BS$16)*0.6) -> 2.8262741 | BY35: =(BU35*BT$5)/(60*(1-BS$16)*0.75) -> 0 | BZ35: =[1]!ErlangC_Agents(BV35/60/BS$7,BT$6,0.8,BU$6/60) -> 20 | CA35: =SUM(BW35:BZ35) -> 23.826274 | CB35: =[1]!ErlangC_ServiceLevel(BS35/60,BT$3,BW35*(1-BS$16),BU$3/60) -> 1 | CC35: =[1]!ErlangC_ServiceLevel(BV35/60/BS$7,BT$6,BZ35*(1-BS$16),BU$6/60) -> 0.75357613 | CD35: =[1]!ErlangC_ASA(BS35/60,BT$3,BW35*(1-BS$16))*60 -> 0 | CE35: =[2]!Abandon(BW35,BV$3,BS35,BT$3*60) -> 0 | CF35: =(BS35*BT$3+BT35*BT$4+BU35*BT$5+BV35/BS$7*BT$6)/(CA35*60) -> 0.71383428 | CH35: 0.375 | CI35: 0.06364992 | CJ35: =CJ$25*CI35 -> 0 | CK35: =CK$25/15 -> 10.133333 | CL35: =CL$25*CI35 -> 0 | CM35: =CM$25*CI35 -> 134.72566 | CN35: =[1]!ErlangC_Agents(CJ35/60,CK$3,0.9,CL$3/60) -> 1 | CO35: =(CK35*CK$4)/(60*(1-CJ$16)*0.6) -> 3.0266826 | CP35: =(CL35*CK$5)/(60*(1-CJ$16)*0.75) -> 0 | CQ35: =[1]!ErlangC_Agents(CM35/60/CJ$7,CK$6,0.8,CL$6/60) -> 24 | CR35: =SUM(CN35:CQ35) -> 28.026683 | CS35: =[1]!ErlangC_ServiceLevel(CJ35/60,CK$3,CN35*(1-CJ$16),CL$3/60) -> 1 | CT35: =[1]!ErlangC_ServiceLevel(CM35/60/CJ$7,CK$6,CQ35*(1-CJ$16),CL$6/60) -> 0.61420247 | CU35: =[1]!ErlangC_ASA(CJ35/60,CK$3,CN35*(1-CJ$16))*60 -> 0 | CV35: =[2]!Abandon(CN35,CM$3,CJ35,CK$3*60) -> 0 | CW35: =(CJ35*CK$3+CK35*CK$4+CL35*CK$5+CM35/CJ$7*CK$6)/(CR35*60) -> 0.74698146 | CY35: 0.375 | CZ35: 0.06364992 | DA35: =DA$25*CZ35 -> 0 | DB35: =DB$25/15 -> 9.4623656 | DC35: =DC$25*CZ35 -> 0 | DD35: =DD$25*CZ35 -> 125.24662 | DE35: =[1]!ErlangC_Agents(DA35/60,DB$3,0.9,DC$3/60) -> 1 | DF35: =(DB35*DB$4)/(60*(1-DA$16)*0.6) -> 2.8262741 | DG35: =(DC35*DB$5)/(60*(1-DA$16)*0.75) -> 0 | DH35: =[1]!ErlangC_Agents(DD35/60/DA$7,DB$6,0.8,DC$6/60) -> 22 | DI35: =SUM(DE35:DH35) -> 25.826274 | DJ35: =[1]!ErlangC_ServiceLevel(DA35/60,DB$3,DE35*(1-DA$16),DC$3/60) -> 1 | DK35: =[1]!ErlangC_ServiceLevel(DD35/60/DA$7,DB$6,DH35*(1-DA$16),DC$6/60) -> 0.57622358 | DL35: =[1]!ErlangC_ASA(DA35/60,DB$3,DE35*(1-DA$16))*60 -> 0 | DM35: =[2]!Abandon(DE35,DD$3,DA35,DB$3*60) -> 0 | DN35: =(DA35*DB$3+DB35*DB$4+DC35*DB$5+DD35/DA$7*DB$6)/(DI35*60) -> 0.74231492 | DP35: 0.375 | DQ35: 0.06364992 | DR35: =DR$25*DQ35 -> 0 | DS35: =DS$25/15 -> 8.6021505 | DT35: =DT$25*DQ35 -> 0 | DU35: =DU$25*DQ35 -> 123.19339 | DV35: =[1]!ErlangC_Agents(DR35/60,DS$3,0.9,DT$3/60) -> 1 | DW35: =(DS35*DS$4)/(60*(1-DR$16)*0.6) -> 2.5693401 | DX35: =(DT35*DS$5)/(60*(1-DR$16)*0.75) -> 0 | DY35: =[1]!ErlangC_Agents(DU35/60/DR$7,DS$6,0.8,DT$6/60) -> 22 | DZ35: =SUM(DV35:DY35) -> 25.56934 | EA35: =[1]!ErlangC_ServiceLevel(DR35/60,DS$3,DV35*(1-DR$16),DT$3/60) -> 1 | EB35: =[1]!ErlangC_ServiceLevel(DU35/60/DR$7,DS$6,DY35*(1-DR$16),DT$6/60) -> 0.623571 | EC35: =[1]!ErlangC_ASA(DR35/60,DS$3,DV35*(1-DR$16))*60 -> 0 | ED35: =[2]!Abandon(DV35,DU$3,DR35,DS$3*60) -> 0 | EE35: =(DR35*DS$3+DS35*DS$4+DT35*DS$5+DU35/DR$7*DS$6)/(DZ35*60) -> 0.73288674 | EG35: 0.375 | EH35: 0.06364992 | EI35: =EI$25*EH35 -> 0 | EJ35: =EJ$25/15 -> 8.8888889 | EK35: =EK$25*EH35 -> 0 | EL35: =EL$25*EH35 -> 125.17818 | EM35: =[1]!ErlangC_Agents(EI35/60,EJ$3,0.9,EK$3/60) -> 1 | EN35: =(EJ35*EJ$4)/(60*(1-EI$16)*0.6) -> 2.6549847 | EO35: =(EK35*EJ$5)/(60*(1-EI$16)*0.75) -> 0 | EP35: =[1]!ErlangC_Agents(EL35/60/EI$7,EJ$6,0.8,EK$6/60) -> 22 | EQ35: =SUM(EM35:EP35) -> 25.654985 | ER35: =[1]!ErlangC_ServiceLevel(EI35/60,EJ$3,EM35*(1-EI$16),EK$3/60) -> 1 | ES35: =[1]!ErlangC_ServiceLevel(EL35/60/EI$7,EJ$6,EP35*(1-EI$16),EK$6/60) -> 0.577868 | ET35: =[1]!ErlangC_ASA(EI35/60,EJ$3,EM35*(1-EI$16))*60 -> 0 | EU35: =[2]!Abandon(EM35,EL$3,EI35,EJ$3*60) -> 0 | EV35: =(EI35*EJ$3+EJ35*EJ$4+EK35*EJ$5+EL35/EI$7*EJ$6)/(EQ35*60) -> 0.74317077 | EX35: 0.375 | EY35: 0.06364992 | EZ35: =EZ$25*EY35 -> 0 | FA35: =FA$25/15 -> 9.4623656 | FB35: =FB$25*EY35 -> 0 | FC35: =FC$25*EY35 -> 123.19339 | FD35: =[1]!ErlangC_Agents(EZ35/60,FA$3,0.9,FB$3/60) -> 1 | FE35: =(FA35*FA$4)/(60*(1-EZ$16)*0.6) -> 2.8262741 | FF35: =(FB35*FA$5)/(60*(1-EZ$16)*0.75) -> 0 | FG35: =[1]!ErlangC_Agents(FC35/60/EZ$7,FA$6,0.8,FB$6/60) -> 22 | FH35: =SUM(FD35:FG35) -> 25.826274 | FI35: =[1]!ErlangC_ServiceLevel(EZ35/60,FA$3,FD35*(1-EZ$16),FB$3/60) -> 1 | FJ35: =[1]!ErlangC_ServiceLevel(FC35/60/EZ$7,FA$6,FG35*(1-EZ$16),FB$6/60) -> 0.623571 | FK35: =[1]!ErlangC_ASA(EZ35/60,FA$3,FD35*(1-EZ$16))*60 -> 0 | FL35: =[2]!Abandon(FD35,FC$3,EZ35,FA$3*60) -> 0 | FM35: =(EZ35*FA$3+FA35*FA$4+FB35*FA$5+FC35/EZ$7*FA$6)/(FH35*60) -> 0.73114687 | FO35: 0.375 | FP35: 0.06364992 | FQ35: =FQ$25*FP35 -> 0 | FR35: =FR$25/15 -> 8.8888889 | FS35: =FS$25*FP35 -> 0 | FT35: =FT$25*FP35 -> 120.93485 | FU35: =[1]!ErlangC_Agents(FQ35/60,FR$3,0.9,FS$3/60) -> 1 | FV35: =(FR35*FR$4)/(60*(1-FQ$16)*0.6) -> 2.6549847 | FW35: =(FS35*FR$5)/(60*(1-FQ$16)*0.75) -> 0 | FX35: =[1]!ErlangC_Agents(FT35/60/FQ$7,FR$6,0.8,FS$6/60) -> 22 | FY35: =SUM(FU35:FX35) -> 25.654985 | FZ35: =[1]!ErlangC_ServiceLevel(FQ35/60,FR$3,FU35*(1-FQ$16),FS$3/60) -> 1 | GA35: =[1]!ErlangC_ServiceLevel(FT35/60/FQ$7,FR$6,FX35*(1-FQ$16),FS$6/60) -> 0.67106576 | GB35: =[1]!ErlangC_ASA(FQ35/60,FR$3,FU35*(1-FQ$16))*60 -> 0 | GC35: =[2]!Abandon(FU35,FT$3,FQ35,FR$3*60) -> 0 | GD35: =(FQ35*FR$3+FR35*FR$4+FS35*FR$5+FT35/FQ$7*FR$6)/(FY35*60) -> 0.71993604 | GF35: 0.375 | GG35: 0.06364992 | GH35: =GH$25*GG35 -> 0 | GI35: =GI$25/15 -> 8.6021505 | GJ35: =GJ$25*GG35 -> 0 | GK35: =GK$25*GG35 -> 121.14017 | GL35: =[1]!ErlangC_Agents(GH35/60,GI$3,0.9,GJ$3/60) -> 1 | GM35: =(GI35*GI$4)/(60*(1-GH$16)*0.6) -> 2.5693401 | GN35: =(GJ35*GI$5)/(60*(1-GH$16)*0.75) -> 0 | GO35: =[1]!ErlangC_Agents(GK35/60/GH$7,GI$6,0.8,GJ$6/60) -> 22 | GP35: =SUM(GL35:GO35) -> 25.56934 | GQ35: =[1]!ErlangC_ServiceLevel(GH35/60,GI$3,GL35*(1-GH$16),GJ$3/60) -> 1 | GR35: =[1]!ErlangC_ServiceLevel(GK35/60/GH$7,GI$6,GO35*(1-GH$16),GJ$6/60) -> 0.66694006 | GS35: =[1]!ErlangC_ASA(GH35/60,GI$3,GL35*(1-GH$16))*60 -> 0 | GT35: =[2]!Abandon(GL35,GK$3,GH35,GI$3*60) -> 0 | GU35: =(GH35*GI$3+GI35*GI$4+GJ35*GI$5+GK35/GH$7*GI$6)/(GP35*60) -> 0.72160647
A36: 0.41666667 | B36: 0.083880003 | C36: =C$25*B36 -> 0 | D36: =D$25/15 -> 10.322581 | E36: =E$25*B36 -> 0 | F36: =F$25*B36 -> 173.71278 | G36: =[1]!ErlangC_Agents(C36/60,D$3,0.9,E$3/60) -> 1 | H36: =(D36*D$4)/(60*(1-C$16)*0.6) -> 2.7748873 | I36: =(E36*D$5)/(60*(1-C$16)*0.75) -> 0 | J36: =[1]!ErlangC_Agents(F36/60/C$7,D$6,0.8,E$6/60) -> 27 | K36: =SUM(G36:J36) -> 30.774887 | L36: =[1]!ErlangC_ServiceLevel(C36/60,D$3,G36*(1-C$16),E$3/60) -> 1 | M36: =[1]!ErlangC_ServiceLevel(F36/60/C$7,D$6,J36*(1-C$16),E$6/60) -> 0.64504788 | N36: =[1]!ErlangC_ASA(C36/60,D$3,G36*(1-C$16))*60 -> 0 | O36: =[2]!Abandon(G36,F$3,C36,D$3*60) -> 0 | P36: =(C36*D$3+D36*D$4+E36*D$5+F36/C$7*D$6)/(K36*60) -> 0.76261159 | R36: 0.41666667 | S36: 0.083880003 | T36: =T$25*S36 -> 0 | U36: =U$25/15 -> 9.5238095 | V36: =V$25*S36 -> 0 | W36: =W$25*S36 -> 176.44758 | X36: =[1]!ErlangC_Agents(T36/60,U$3,0.9,V$3/60) -> 1 | Y36: =(U36*U$4)/(60*(1-T$16)*0.6) -> 2.8446265 | Z36: =(V36*U$5)/(60*(1-T$16)*0.75) -> 0 | AA36: =[1]!ErlangC_Agents(W36/60/T$7,U$6,0.8,V$6/60) -> 30 | AB36: =SUM(X36:AA36) -> 33.844627 | AC36: =[1]!ErlangC_ServiceLevel(T36/60,U$3,X36*(1-T$16),V$3/60) -> 1 | AD36: =[1]!ErlangC_ServiceLevel(W36/60/T$7,U$6,AA36*(1-T$16),V$6/60) -> 0.63603224 | AE36: =[1]!ErlangC_ASA(T36/60,U$3,X36*(1-T$16))*60 -> 0 | AF36: =[2]!Abandon(X36,W$3,T36,U$3*60) -> 0 | AG36: =(T36*U$3+U36*U$4+V36*U$5+W36/T$7*U$6)/(AB36*60) -> 0.77926654 | AI36: 0.41666667 | AJ36: 0.083880003 | AK36: =AK$25*AJ36 -> 0 | AL36: =AL$25/15 -> 10.666667 | AM36: =AM$25*AJ36 -> 0 | AN36: =AN$25*AJ36 -> 165.0542 | AO36: =[1]!ErlangC_Agents(AK36/60,AL$3,0.9,AM$3/60) -> 1 | AP36: =(AL36*AL$4)/(60*(1-AK$16)*0.6) -> 3.1859817 | AQ36: =(AM36*AL$5)/(60*(1-AK$16)*0.75) -> 0 | AR36: =[1]!ErlangC_Agents(AN36/60/AK$7,AL$6,0.8,AM$6/60) -> 29 | AS36: =SUM(AO36:AR36) -> 33.185982 | AT36: =[1]!ErlangC_ServiceLevel(AK36/60,AL$3,AO36*(1-AK$16),AM$3/60) -> 1 | AU36: =[1]!ErlangC_ServiceLevel(AN36/60/AK$7,AL$6,AR36*(1-AK$16),AM$6/60) -> 0.66804322 | AV36: =[1]!ErlangC_ASA(AK36/60,AL$3,AO36*(1-AK$16))*60 -> 0 | AW36: =[2]!Abandon(AO36,AN$3,AK36,AL$3*60) -> 0 | AX36: =(AK36*AL$3+AL36*AL$4+AM36*AL$5+AN36/AK$7*AL$6)/(AS36*60) -> 0.76408615 | AZ36: 0.41666667 | BA36: 0.083880003 | BB36: =BB$25*BA36 -> 0 | BC36: =BC$25/15 -> 10.133333 | BD36: =BD$25*BA36 -> 0 | BE36: =BE$25*BA36 -> 156.57601 | BF36: =[1]!ErlangC_Agents(BB36/60,BC$3,0.9,BD$3/60) -> 1 | BG36: =(BC36*BC$4)/(60*(1-BB$16)*0.6) -> 3.0266826 | BH36: =(BD36*BC$5)/(60*(1-BB$16)*0.75) -> 0 | BI36: =[1]!ErlangC_Agents(BE36/60/BB$7,BC$6,0.8,BD$6/60) -> 27 | BJ36: =SUM(BF36:BI36) -> 31.026683 | BK36: =[1]!ErlangC_ServiceLevel(BB36/60,BC$3,BF36*(1-BB$16),BD$3/60) -> 1 | BL36: =[1]!ErlangC_ServiceLevel(BE36/60/BB$7,BC$6,BI36*(1-BB$16),BD$6/60) -> 0.62842243 | BM36: =[1]!ErlangC_ASA(BB36/60,BC$3,BF36*(1-BB$16))*60 -> 0 | BN36: =[2]!Abandon(BF36,BE$3,BB36,BC$3*60) -> 0 | BO36: =(BB36*BC$3+BC36*BC$4+BD36*BC$5+BE36/BB$7*BC$6)/(BJ36*60) -> 0.76334586 | BQ36: 0.41666667 | BR36: 0.083880003 | BS36: =BS$25*BR36 -> 0 | BT36: =BT$25/15 -> 9.4623656 | BU36: =BU$25*BR36 -> 0 | BV36: =BV$25*BR36 -> 144.76065 | BW36: =[1]!ErlangC_Agents(BS36/60,BT$3,0.9,BU$3/60) -> 1 | BX36: =(BT36*BT$4)/(60*(1-BS$16)*0.6) -> 2.8262741 | BY36: =(BU36*BT$5)/(60*(1-BS$16)*0.75) -> 0 | BZ36: =[1]!ErlangC_Agents(BV36/60/BS$7,BT$6,0.8,BU$6/60) -> 25 | CA36: =SUM(BW36:BZ36) -> 28.826274 | CB36: =[1]!ErlangC_ServiceLevel(BS36/60,BT$3,BW36*(1-BS$16),BU$3/60) -> 1 | CC36: =[1]!ErlangC_ServiceLevel(BV36/60/BS$7,BT$6,BZ36*(1-BS$16),BU$6/60) -> 0.59334094 | CD36: =[1]!ErlangC_ASA(BS36/60,BT$3,BW36*(1-BS$16))*60 -> 0 | CE36: =[2]!Abandon(BW36,BV$3,BS36,BT$3*60) -> 0 | CF36: =(BS36*BT$3+BT36*BT$4+BU36*BT$5+BV36/BS$7*BT$6)/(CA36*60) -> 0.76015671 | CH36: 0.41666667 | CI36: 0.083880003 | CJ36: =CJ$25*CI36 -> 0 | CK36: =CK$25/15 -> 10.133333 | CL36: =CL$25*CI36 -> 0 | CM36: =CM$25*CI36 -> 177.54601 | CN36: =[1]!ErlangC_Agents(CJ36/60,CK$3,0.9,CL$3/60) -> 1 | CO36: =(CK36*CK$4)/(60*(1-CJ$16)*0.6) -> 3.0266826 | CP36: =(CL36*CK$5)/(60*(1-CJ$16)*0.75) -> 0 | CQ36: =[1]!ErlangC_Agents(CM36/60/CJ$7,CK$6,0.8,CL$6/60) -> 31 | CR36: =SUM(CN36:CQ36) -> 35.026683 | CS36: =[1]!ErlangC_ServiceLevel(CJ36/60,CK$3,CN36*(1-CJ$16),CL$3/60) -> 1 | CT36: =[1]!ErlangC_ServiceLevel(CM36/60/CJ$7,CK$6,CQ36*(1-CJ$16),CL$6/60) -> 0.68069274 | CU36: =[1]!ErlangC_ASA(CJ36/60,CK$3,CN36*(1-CJ$16))*60 -> 0 | CV36: =[2]!Abandon(CN36,CM$3,CJ36,CK$3*60) -> 0 | CW36: =(CJ36*CK$3+CK36*CK$4+CL36*CK$5+CM36/CJ$7*CK$6)/(CR36*60) -> 0.77234274 | CY36: 0.41666667 | CZ36: 0.083880003 | DA36: =DA$25*CZ36 -> 0 | DB36: =DB$25/15 -> 9.4623656 | DC36: =DC$25*CZ36 -> 0 | DD36: =DD$25*CZ36 -> 165.0542 | DE36: =[1]!ErlangC_Agents(DA36/60,DB$3,0.9,DC$3/60) -> 1 | DF36: =(DB36*DB$4)/(60*(1-DA$16)*0.6) -> 2.8262741 | DG36: =(DC36*DB$5)/(60*(1-DA$16)*0.75) -> 0 | DH36: =[1]!ErlangC_Agents(DD36/60/DA$7,DB$6,0.8,DC$6/60) -> 28 | DI36: =SUM(DE36:DH36) -> 31.826274 | DJ36: =[1]!ErlangC_ServiceLevel(DA36/60,DB$3,DE36*(1-DA$16),DC$3/60) -> 1 | DK36: =[1]!ErlangC_ServiceLevel(DD36/60/DA$7,DB$6,DH36*(1-DA$16),DC$6/60) -> 0.59402723 | DL36: =[1]!ErlangC_ASA(DA36/60,DB$3,DE36*(1-DA$16))*60 -> 0 | DM36: =[2]!Abandon(DE36,DD$3,DA36,DB$3*60) -> 0 | DN36: =(DA36*DB$3+DB36*DB$4+DC36*DB$5+DD36/DA$7*DB$6)/(DI36*60) -> 0.77807556 | DP36: 0.41666667 | DQ36: 0.083880003 | DR36: =DR$25*DQ36 -> 0 | DS36: =DS$25/15 -> 8.6021505 | DT36: =DT$25*DQ36 -> 0 | DU36: =DU$25*DQ36 -> 162.34839 | DV36: =[1]!ErlangC_Agents(DR36/60,DS$3,0.9,DT$3/60) -> 1 | DW36: =(DS36*DS$4)/(60*(1-DR$16)*0.6) -> 2.5693401 | DX36: =(DT36*DS$5)/(60*(1-DR$16)*0.75) -> 0 | DY36: =[1]!ErlangC_Agents(DU36/60/DR$7,DS$6,0.8,DT$6/60) -> 28 | DZ36: =SUM(DV36:DY36) -> 31.56934 | EA36: =[1]!ErlangC_ServiceLevel(DR36/60,DS$3,DV36*(1-DR$16),DT$3/60) -> 1 | EB36: =[1]!ErlangC_ServiceLevel(DU36/60/DR$7,DS$6,DY36*(1-DR$16),DT$6/60) -> 0.64695175 | EC36: =[1]!ErlangC_ASA(DR36/60,DS$3,DV36*(1-DR$16))*60 -> 0 | ED36: =[2]!Abandon(DV36,DU$3,DR36,DS$3*60) -> 0 | EE36: =(DR36*DS$3+DS36*DS$4+DT36*DS$5+DU36/DR$7*DS$6)/(DZ36*60) -> 0.76782649 | EG36: 0.41666667 | EH36: 0.083880003 | EI36: =EI$25*EH36 -> 0 | EJ36: =EJ$25/15 -> 8.8888889 | EK36: =EK$25*EH36 -> 0 | EL36: =EL$25*EH36 -> 164.96401 | EM36: =[1]!ErlangC_Agents(EI36/60,EJ$3,0.9,EK$3/60) -> 1 | EN36: =(EJ36*EJ$4)/(60*(1-EI$16)*0.6) -> 2.6549847 | EO36: =(EK36*EJ$5)/(60*(1-EI$16)*0.75) -> 0 | EP36: =[1]!ErlangC_Agents(EL36/60/EI$7,EJ$6,0.8,EK$6/60) -> 28 | EQ36: =SUM(EM36:EP36) -> 31.654985 | ER36: =[1]!ErlangC_ServiceLevel(EI36/60,EJ$3,EM36*(1-EI$16),EK$3/60) -> 1 | ES36: =[1]!ErlangC_ServiceLevel(EL36/60/EI$7,EJ$6,EP36*(1-EI$16),EK$6/60) -> 0.59588156 | ET36: =[1]!ErlangC_ASA(EI36/60,EJ$3,EM36*(1-EI$16))*60 -> 0 | EU36: =[2]!Abandon(EM36,EL$3,EI36,EJ$3*60) -> 0 | EV36: =(EI36*EJ$3+EJ36*EJ$4+EK36*EJ$5+EL36/EI$7*EJ$6)/(EQ36*60) -> 0.77886617 | EX36: 0.41666667 | EY36: 0.083880003 | EZ36: =EZ$25*EY36 -> 0 | FA36: =FA$25/15 -> 9.4623656 | FB36: =FB$25*EY36 -> 0 | FC36: =FC$25*EY36 -> 162.34839 | FD36: =[1]!ErlangC_Agents(EZ36/60,FA$3,0.9,FB$3/60) -> 1 | FE36: =(FA36*FA$4)/(60*(1-EZ$16)*0.6) -> 2.8262741 | FF36: =(FB36*FA$5)/(60*(1-EZ$16)*0.75) -> 0 | FG36: =[1]!ErlangC_Agents(FC36/60/EZ$7,FA$6,0.8,FB$6/60) -> 28 | FH36: =SUM(FD36:FG36) -> 31.826274 | FI36: =[1]!ErlangC_ServiceLevel(EZ36/60,FA$3,FD36*(1-EZ$16),FB$3/60) -> 1 | FJ36: =[1]!ErlangC_ServiceLevel(FC36/60/EZ$7,FA$6,FG36*(1-EZ$16),FB$6/60) -> 0.64695175 | FK36: =[1]!ErlangC_ASA(EZ36/60,FA$3,FD36*(1-EZ$16))*60 -> 0 | FL36: =[2]!Abandon(FD36,FC$3,EZ36,FA$3*60) -> 0 | FM36: =(EZ36*FA$3+FA36*FA$4+FB36*FA$5+FC36/EZ$7*FA$6)/(FH36*60) -> 0.76613256 | FO36: 0.41666667 | FP36: 0.083880003 | FQ36: =FQ$25*FP36 -> 0 | FR36: =FR$25/15 -> 8.8888889 | FS36: =FS$25*FP36 -> 0 | FT36: =FT$25*FP36 -> 159.37201 | FU36: =[1]!ErlangC_Agents(FQ36/60,FR$3,0.9,FS$3/60) -> 1 | FV36: =(FR36*FR$4)/(60*(1-FQ$16)*0.6) -> 2.6549847 | FW36: =(FS36*FR$5)/(60*(1-FQ$16)*0.75) -> 0 | FX36: =[1]!ErlangC_Agents(FT36/60/FQ$7,FR$6,0.8,FS$6/60) -> 28 | FY36: =SUM(FU36:FX36) -> 31.654985 | FZ36: =[1]!ErlangC_ServiceLevel(FQ36/60,FR$3,FU36*(1-FQ$16),FS$3/60) -> 1 | GA36: =[1]!ErlangC_ServiceLevel(FT36/60/FQ$7,FR$6,FX36*(1-FQ$16),FS$6/60) -> 0.69898647 | GB36: =[1]!ErlangC_ASA(FQ36/60,FR$3,FU36*(1-FQ$16))*60 -> 0 | GC36: =[2]!Abandon(FU36,FT$3,FQ36,FR$3*60) -> 0 | GD36: =(FQ36*FR$3+FR36*FR$4+FS36*FR$5+FT36/FQ$7*FR$6)/(FY36*60) -> 0.75405039 | GF36: 0.41666667 | GG36: 0.083880003 | GH36: =GH$25*GG36 -> 0 | GI36: =GI$25/15 -> 8.6021505 | GJ36: =GJ$25*GG36 -> 0 | GK36: =GK$25*GG36 -> 159.64259 | GL36: =[1]!ErlangC_Agents(GH36/60,GI$3,0.9,GJ$3/60) -> 1 | GM36: =(GI36*GI$4)/(60*(1-GH$16)*0.6) -> 2.5693401 | GN36: =(GJ36*GI$5)/(60*(1-GH$16)*0.75) -> 0 | GO36: =[1]!ErlangC_Agents(GK36/60/GH$7,GI$6,0.8,GJ$6/60) -> 28 | GP36: =SUM(GL36:GO36) -> 31.56934 | GQ36: =[1]!ErlangC_ServiceLevel(GH36/60,GI$3,GL36*(1-GH$16),GJ$3/60) -> 1 | GR36: =[1]!ErlangC_ServiceLevel(GK36/60/GH$7,GI$6,GO36*(1-GH$16),GJ$6/60) -> 0.6945119 | GS36: =[1]!ErlangC_ASA(GH36/60,GI$3,GL36*(1-GH$16))*60 -> 0 | GT36: =[2]!Abandon(GL36,GK$3,GH36,GI$3*60) -> 0 | GU36: =(GH36*GI$3+GI36*GI$4+GJ36*GI$5+GK36/GH$7*GI$6)/(GP36*60) -> 0.75578628
