Workbook

Sheet Описание
A1: УКАЗАНИЯ о принятии мер по устранению выявленных нарушений по безопасности и охране труда
A3: № | B3: Дата | C3: № указания | D3: Филиал | E3: Область | F3: Город/Район | G3: Объект с адресом | H3: Категория нарушения | I3: Описание выявленных нарушений и требования по их устранению | J3: Ссылка на законодательство | K3: Срок исполнения | L3: Статус исполнения | M3: Примечание | N3: кто выдал | O3: кому выдано | P3: Столбец 1
A4: 1 | B4: 46036 | C4: 1 | D4: ДРБ | E4: Костанайская | F4: г.Аркалык | G4: г.Аркалык | H4: Обучение и инструктажи | I4: Журнал регистрации инструктажа по пожарной безопасности не проведен повторный инструктаж за 1 квартад | J4: п.81 Правила проведения обучения, инструктирования и проверки знаний работников АО «Казахтелеком» по вопросам безопасности и охраны труда Распоряжение № 253 от 31.10.2025 Приложение 7 | K4: 20.01.2026г | L4: исполнено | N4: Инженер ОБиОТ Северного региона Адырбаев Ж.А. | O4: Региональному мененджеру ДРБ ДИР Савину С.Л.
A5: 2 | B5: 46036 | C5: 1 | D5: ДРБ | E5: Костанайская | F5: г.Аркалык | G5: г.Аркалык | H5: Обучение и инструктажи | I5: Журнал регистрации инструктажа на рабочем месте не проведен повторный инструктаж за 1 квартад | J5: п.51 Правила проведения обучения, инструктирования и проверки знаний работников АО «Казахтелеком» по вопросам безопасности и охраны труда Распоряжение № 253 от 31.10.2025 Приложение 7 | K5: 20.01.2026г | L5: исполнено | N5: Инженер ОБиОТ Северного региона Адырбаев Ж.А. | O5: Региональному мененджеру ДРБ ДИР Савину С.Л.
A6: 3 | B6: 46036 | C6: 1 | D6: ДРБ | E6: Костанайская | F6: г.Аркалык | G6: г.Аркалык | H6: Промышленная безопасность | I6: В помещении склада ЦРУ кабель находится на полу | J6: Правила пожарной безопасности АО "Казахтелеком" СТ АО 80429-1/038, Раздел 7 п.7.3 п.п.17 | K6: 20.01.2026г | L6: исполнено | N6: Инженер ОБиОТ Северного региона Адырбаев Ж.А. | O6: Региональному мененджеру ДРБ ДИР Савину С.Л.
A7: 4 | B7: 46036 | C7: 1 | D7: ДРБ | E7: Костанайская | F7: г.Аркалык | G7: г.Аркалык | H7: Производственная санитария | I7: В помещении склада требуется ремонт (трещины на стенах, с потолка осыпается штукатурка) | J7: п3,п.17 ст.22 ТК РК | K7: 20.01.2026г | L7: просрочено | N7: Инженер ОБиОТ Северного региона Адырбаев Ж.А. | O7: Региональному мененджеру ДРБ ДИР Савину С.Л.
A8: 5 | B8: 46036 | C8: 1 | D8: ДРБ | E8: Костанайская | F8: г.Аркалык | G8: г.Аркалык | H8: Пожарная безопасность | I8: Отсутствует табличка с указанием категории помещения и не указан ответственный работник | J8: П12 Правила пожарной безопасности, утв.Приказом министра по ЧС РК от 21.02.2022г №55 | K8: 20.01.2026г | L8: исполнено | N8: Инженер ОБиОТ Северного региона Адырбаев Ж.А. | O8: Региональному мененджеру ДРБ ДИР Савину С.Л.
A9: 6 | B9: 46037 | C9: 2 | D9: ДРБ | E9: СКО | F9: Тайыншинский район | G9: г.Тайынша | H9: Электробезопасность | I9: В зале обслуживания населения крышка штепсельной розетки напряжением 220В не закреплена | J9: Устранено в ходе проверки | K9: 46037 | L9: исполнено | N9: Инженер 1 категории ОБиОТ Северного региона Поплавский Е.С. | O9: Коммерческому директору В2С сегмента Северного региона Ляпуновой А.В.
A10: 7 | B10: 46038 | C10: 3 | D10: СФ | E10: СКО | F10: Тайыншинский район | G10: г.Тайынша | H10: Пожарная безопасность | I10: В административном здании ЛТЦ, цокольном этаже планы эвакуации при пожаре не актуальны | J10: Пункт 6 Правил пожарной безопасности, утвержденных приказом МЧС РК от 21 февраля 2022 года № 55 | K10: 46082 | L10: исполнено | N10: Инженер 1 категории ОБиОТ Северного региона Поплавский Е.С. | O10: Региональному директору СФ Северного региона Мергенову А.К.
A11: 8 | B11: 46038 | C11: 3 | D11: СФ | E11: СКО | F11: Тайыншинский район | G11: г.Тайынша | H11: Пожарная безопасность | I11: Пожарный щит на территории ЛТЦ: в ящике отсутствует песок | J11: Пункт 16.11 ПРАВИЛ ПОЖАРНОЙ БЕЗОПАСНОСТИ В АО «КАЗАХТЕЛЕКОМ», СТ АО 80429 – 1/038 – 2024 | K11: 46082 | L11: исполнено | N11: Инженер 1 категории ОБиОТ Северного региона Поплавский Е.С. | O11: Региональному директору СФ Северного региона Мергенову А.К.
A12: 9 | B12: 46038 | C12: 3 | D12: СФ | E12: СКО | F12: Тайыншинский район | G12: г.Тайынша | H12: Промышленная безопасность | I12: В гаражном боксе №2-3 обваливается потолок, срочно требуется ремонт | J12: подпункт 1), пункт 2, ст.182 ТК РК | K12: 46082 | L12: просрочено | M12: Повторно | N12: Инженер 1 категории ОБиОТ Северного региона Поплавский Е.С. | O12: Региональному директору СФ Северного региона Мергенову А.К.
A13: 10 | B13: 46038 | C13: 3 | D13: СФ | E13: СКО | F13: Тайыншинский район | G13: г.Тайынша | H13: Пожарная безопасность | I13: В гаражном боксе №2-3 не работает пожарно-охранная сигнализация, отсутствует датчик | J13: Пункт 6 Правил пожарной безопасности, утвержденных приказом МЧС РК от 21 февраля 2022 года № 55 | K13: 46082 | L13: просрочено | N13: Инженер 1 категории ОБиОТ Северного региона Поплавский Е.С. | O13: Региональному директору СФ Северного региона Мергенову А.К.
A14: 11 | B14: 46038 | C14: 3 | D14: СФ | E14: СКО | F14: Тайыншинский район | G14: г.Тайынша | H14: Электробезопасность | I14: В гаражном боксе №2-3 штепсельная розетка не закреплена к стене | J14: Подпункт 1), пункт 2, ст.182 ТК РК | K14: 46054 | L14: исполнено | N14: Инженер 1 категории ОБиОТ Северного региона Поплавский Е.С. | O14: Региональному директору СФ Северного региона Мергенову А.К.
A15: 12 | B15: 46038 | C15: 3 | D15: СФ | E15: СКО | F15: Тайыншинский район | G15: г.Тайынша | H15: Транспортная безопасность | I15: Транспортные средства не оснащены наклейками «360°» | J15: Распоряжение №288 от 03.12.2025 Стандарт по обеспечению безопасной эксплуатации транспортных средств АО "Казахтелеком" ДПБ/СТ -20-02-02, Приложение 7. | K15: 46082 | L15: исполнено | N15: Инженер 1 категории ОБиОТ Северного региона Поплавский Е.С. | O15: Региональному директору СФ Северного региона Мергенову А.К.
A16: 13 | B16: 46038 | C16: 3 | D16: СФ | E16: СКО | F16: Тайыншинский район | G16: г.Тайынша | H16: Охрана здоровья и гигиена ра рабочем месте | I16: В душевых отсутствуют резиновые либо пластиковые коврики, полки, крючки для банных принадлежностей | J16: Пункт 6.8 Требований к санитарно-гигиеническим помещениям в филиалах АО "Казахтелеком" | K16: 46082 | L16: исполнено | N16: Инженер 1 категории ОБиОТ Северного региона Поплавский Е.С. | O16: Региональному директору СФ Северного региона Мергенову А.К.
A17: 14 | B17: 46038 | C17: 3 | D17: СФ | E17: СКО | F17: Тайыншинский район | G17: г.Тайынша | H17: Производственная санитария | I17: Не производится откачка септика | J17: Подпункт 4), пункт 2, ст.182 ТК РК | K17: 46082 | L17: исполнено | N17: Инженер 1 категории ОБиОТ Северного региона Поплавский Е.С. | O17: Региональному директору СФ Северного региона Мергенову А.К.
A18: 15 | B18: 46038 | C18: 4 | D18: ОДС | E18: СКО | F18: Тайыншинский район | G18: г.Тайынша | H18: Производственная санитария | I18: Дизельная: не проводится профилактика в помещении и на оборудовании | J18: Пункт 11.1 Правил по БиОТ в помещениях с установленным телекоммуникационным оборудованием СТ АО 80429 – 1/034 – 2024 | K18: 46054 | L18: исполнено | N18: Инженер 1 категории ОБиОТ Северного региона Поплавский Е.С. | O18: Директору СК ДЭСД Елисееву С.Г.
A19: 16 | B19: 46038 | C19: 4 | D19: ОДС | E19: СКО | F19: Тайыншинский район | G19: г.Тайынша | H19: Промышленная безопасность | I19: Дизельная: не работает аварийное освещение | J19: Распоряжение №253 от 31.10.2025г.(приложение 3) Правила по безопасности и охране труда при работе в помещениях с установленным телекоммуникационным оборудованием. Пункт 189 | K19: 46054 | L19: исполнено | N19: Инженер 1 категории ОБиОТ Северного региона Поплавский Е.С. | O19: Директору СК ДЭСД Елисееву С.Г.
A20: 17 | B20: 46038 | C20: 4 | D20: ОДС | E20: СКО | F20: Тайыншинский район | G20: г.Тайынша | H20: Электробезопасность | I20: В помещении старой дизельной оголены и не упорядочены электрические провода и кабели. Электрический щиток не закрыт | J20: Распоряжение №253 от 31.10.2025г.(приложение 3) Правила по безопасности и охране труда при работе в помещениях с установленным телекоммуникационным оборудованием. Пункты 46, 47 | K20: 46082 | L20: просрочено | N20: Инженер 1 категории ОБиОТ Северного региона Поплавский Е.С. | O20: Директору СК ДЭСД Елисееву С.Г.
A21: 18 | B21: 46038 | C21: 4 | D21: ОДС | E21: СКО | F21: Тайыншинский район | G21: г.Тайынша | H21: Электробезопасность | I21: В КСУ перед ВКО напряжением выше 42 В переменного тока отсутствует резиновый диэлектрический коврик | J21: Распоряжение №253 от 31.10.2025г.(приложение 3) Правила по безопасности и охране труда при работе в помещениях с установленным телекоммуникационным оборудованием. Пункт 55 | K21: 46054 | L21: исполнено | N21: Инженер 1 категории ОБиОТ Северного региона Поплавский Е.С. | O21: Директору СК ДЭСД Елисееву С.Г.
A22: 19 | B22: 46038 | C22: 4 | D22: ОДС | E22: СКО | F22: Тайыншинский район | G22: г.Тайынша | H22: Производственная санитария | I22: В помещении монтерской комнаты не работает сушильный шкаф для одежды и обуви | J22: СТ АО 80429 – 1/019 –2024 Требования к санитарно-гигиеническим помещениям в филиалах АО «Казахтелеком», пункт 6.3 | K22: 46054 | L22: просрочено | N22: Инженер 1 категории ОБиОТ Северного региона Поплавский Е.С. | O22: Директору СК ДЭСД Елисееву С.Г.
A23: 20 | B23: 46038 | C23: 4 | D23: ОДС | E23: СКО | F23: Тайыншинский район | G23: г.Тайынша | H23: СИЗ | I23: Вновь принятые электромонтеры ЛСЭ Седлецкий Г.В., Петрухин А.Н. не обеспечены ручным инструментом | J23: Распоряжение №200 от 03.09.2025г.(приложение 1) Правила по безопасности и охране труда при работе на воздушных линиях связи. Пункт 4 | K23: 46082 | L23: исполнено | N23: Инженер 1 категории ОБиОТ Северного региона Поплавский Е.С. | O23: Директору СК ДЭСД Елисееву С.Г.
A24: 21 | B24: 46038 | C24: 4 | D24: ОДС | E24: СКО | F24: Тайыншинский район | G24: г.Тайынша | H24: СИЗ | I24: На момент проверки у электромонтера ЛСЭ Оспан Н.К. не рабочий индикатор напряжения | J24: Распоряжение №200 от 03.09.2025г.(приложение 1) Правила по безопасности и охране труда при работе на воздушных линиях связи. Пункт 11, подпункт 3 | K24: 46038 | L24: исполнено | N24: Инженер 1 категории ОБиОТ Северного региона Поплавский Е.С. | O24: Директору СК ДЭСД Елисееву С.Г.
... A40: 37 | B40: 46044 | C40: 5 | D40: СФ | E40: Костанайская | F40: Карасуский район | G40: Карасу | H40: Производственная санитария | I40: Не производиться откачка септика здания ЛТЦ | J40: П.1 статьи 181, П.2 статьи 182 Трудового кодекса РК | K40: 46068 | L40: исполнено | N40: Ведущий инженер ОБиОТ Северного региона Книга А.В. | O40: Региональному директору СР СФ Мергенову А.К.
A41: 38 | B41: 46044 | C41: 6 | D41: ОДС | E41: Костанайская | F41: Карасуский район | G41: Карасу | H41: Промышленная безопасность | I41: На момент проверки у электромонтера ЛТЦ Авдощенко В.В- не читаемая подпись в удостоверии по БиОТ, не затянут серп , затуплены шипы на монтерских когтях | J41: Правила по проведению четырехступенчатого контроля за состоянием Безопасности и охраны труда в филиалах АО «Казахтелеком» Распоряжение № 253 от 31.10.2025 п 5.2.5 | K41: 30.01.2026г | L41: исполнено | N41: Ведущий инженер ОБиОТ Северного региона Книга А.В. | O41: Директору Костанайского ДЭСД Искакову С.К.
A42: 39 | B42: 46044 | C42: 6 | D42: ОДС | E42: Костанайская | F42: Карасуский район | G42: Карасу | H42: Промышленная безопасность | I42: На момент проверки у кабельщика – спайщика Мосиенко М.Н. – поломана площадка на монтерских когтях | J42: Правила по проведению четырехступенчатого контроля за состоянием Безопасности и охраны труда в филиалах АО «Казахтелеком» Распоряжение № 253 от 31.10.2025 п 5.2.6 | K42: 30.01.2026г | L42: исполнено | N42: Ведущий инженер ОБиОТ Северного региона Книга А.В. | O42: Директору Костанайского ДЭСД Искакову С.К.
A43: 40 | B43: 46044 | C43: 6 | D43: ОДС | E43: Костанайская | F43: Карасуский район | G43: Карасу | H43: Промышленная безопасность | I43: На момент проверки у кабельщика – спайщика Самсонова А. Ю. изношены фиксирующие ремни на монтерских когтях | J43: Правила по проведению четырехступенчатого контроля за состоянием Безопасности и охраны труда в филиалах АО «Казахтелеком» Распоряжение № 253 от 31.10.2025 п 5.2.7 | K43: 30.01.2026г | L43: исполнено | N43: Ведущий инженер ОБиОТ Северного региона Книга А.В. | O43: Директору Костанайского ДЭСД Искакову С.К.
A44: 41 | B44: 46044 | C44: 6 | D44: ОДС | E44: Костанайская | F44: Карасуский район | G44: Карасу | H44: Обучение и инструктажи | I44: ЦЭиК Журнал регистрации инструктажа по БиОТ на рабочем месте - не правильно указан год проведения год при проведении повторного инструктажа за 1 квартал 2026г. | J44: Правила проведения обучения, инструктирования и проверки знаний работников АО «Казахтелеком» по вопросам безопасности и охраны труда Распоряжение № 253 от 31.10.2025 Приложение 7 | K44: 30.01.2026г | L44: исполнено | N44: Ведущий инженер ОБиОТ Северного региона Книга А.В. | O44: Директору Костанайского ДЭСД Искакову С.К.
A45: 42 | B45: 46044 | C45: 6 | D45: ОДС | E45: Костанайская | F45: Карасуский район | G45: Карасу | H45: Электробезопасность | I45: Журнал учета, проверки и испытаний электроинструмента и вспомогательного оборудования к нему – не заведен | J45: Приказ Министра энергетики Республики Казахстан от 16 марта 2015 года № 204. Зарегистрирован в Министерстве юстиции Республики Казахстан 23 апреля 2015 года № 10789 Приложение 1 | K45: 30.01.2026г | L45: исполнено | N45: Ведущий инженер ОБиОТ Северного региона Книга А.В. | O45: Директору Костанайского ДЭСД Искакову С.К.
A46: 43 | B46: 46044 | C46: 6 | D46: ОДС | E46: Костанайская | F46: Карасуский район | G46: Карасу | H46: Пожарная безопасность | I46: Расположение огнетушителей, не соответствует Плану эвакуации 1-2этажей | J46: Приказ Министра по чрезвычайным ситуациям Республики Казахстан от 21 февраля 2022 года № 55 приложение 2 | K46: 30.01.2026г | L46: исполнено | N46: Ведущий инженер ОБиОТ Северного региона Книга А.В. | O46: Директору Костанайского ДЭСД Искакову С.К.
A47: 44 | B47: 46045 | C47: 7 | D47: ДРБ | E47: Костанайская | F47: Карасуский район | G47: Карасу | H47: Обучение и инструктажи | I47: Журнал регистрации инструктажа по БиОТ на рабочем месте - не указана дата проведения повторного инструктажа за 1 квартал 2026г. | J47: Правила проведения обучения, инструктирования и проверки знаний работников АО «Казахтелеком» по вопросам безопасности и охраны труда Распоряжение № 253 от 31.10.2025 Приложение 7 | K47: 10.02.2026г | L47: исполнено | N47: Ведущий инженер ОБиОТ Северного региона Книга А.В. | O47: Коммерческому Директору В2С сегмента СР Ляпуновой А.В.
A48: 45 | B48: 46045 | C48: 7 | D48: ДРБ | E48: Костанайская | F48: Карасуский район | G48: Карасу | H48: Пожарная безопасность | I48: На складе отсутствует табличка с указанием категории помещения и не указан ответственный работник | J48: П.12 Правила пожарной безопасности, утв. Приказом Министра по чрезвычайным ситуациям Республики Казахстан от 21 февраля 2022 года № 55. | K48: 10.02.2026г | L48: исполнено | N48: Ведущий инженер ОБиОТ Северного региона Книга А.В. | O48: Коммерческому Директору В2С сегмента СР Ляпуновой А.В.
A49: 46 | B49: 46045 | C49: 7 | D49: ДРБ | E49: Костанайская | F49: Карасуский район | G49: Карасу | H49: Промышленная безопасность | I49: Установленный в складе стеллаж не предназначен для хранения кабеля, проводов и материалов. | J49: П. 7 Требования к эксплуатации стеллажей СТ АО 80429-1/043-2024. п. 21 Правила пожарной безопасности, утв. Приказом Министра по чрезвычайным ситуациям Республики Казахстан от 21 февраля 2022 года № 55 | K49: 10.02.2026г | L49: исполнено | N49: Ведущий инженер ОБиОТ Северного региона Книга А.В. | O49: Коммерческому Директору В2С сегмента СР Ляпуновой А.В.
A50: 47 | B50: 46044 | C50: 8 | D50: ДРБ | E50: Костанайская | F50: г.Аркалык | G50: г.Аркалык | H50: Обучение и инструктажи | I50: Журнал регистрации инструктажа по пожарной безопасности не проведен повторный инструктаж за 1 квартад | J50: п.81 Правила проведения обучения, инструктирования и проверки знаний работников АО «Казахтелеком» по вопросам безопасности и охраны труда Распоряжение № 253 от 31.10.2025 Приложение 7 | K50: 30.01.2026г | L50: исполнено | N50: Инженер ОБиОТ Северного региона Адырбаев Ж.А. | O50: Коммерческому Директору В2С сегмента СР Ляпуновой А.В.
A51: 48 | B51: 46044 | C51: 8 | D51: ДРБ | E51: Костанайская | F51: г.Аркалык | G51: г.Аркалык | H51: основные док-ты по БиОТ (приказы распоряжения) | I51: Журнал регистрации инструктажа на рабочем месте не проведен повторный инструктаж за 1 квартад | J51: п.51 Правила проведения обучения, инструктирования и проверки знаний работников АО «Казахтелеком» по вопросам безопасности и охраны труда Распоряжение № 253 от 31.10.2025 Приложение 7 | K51: 30.01.2026г | L51: исполнено | N51: Инженер ОБиОТ Северного региона Адырбаев Ж.А. | O51: Коммерческому Директору В2С сегмента СР Ляпуновой А.В.
A52: 49 | B52: 46044 | C52: 8 | D52: ДРБ | E52: Костанайская | F52: г.Аркалык | G52: г.Аркалык | H52: Пожарная безопасность | I52: ОУ не прошли ежегодную проверку (взвешивание и осмотр) | J52: П.18 Глава 1 Правила пожарной безопасности №55 от 21.02.2022 Пункт 6.1.2,8.2СТ РК 1487-2006 | K52: 30.01.2026г | L52: исполнено | N52: Инженер ОБиОТ Северного региона Адырбаев Ж.А. | O52: Коммерческому Директору В2С сегмента СР Ляпуновой А.В.
A53: 50 | B53: 46045 | C53: 9 | D53: ОДС | E53: СКО | F53: г.Петропавловск | G53: г.Петропавловск | H53: Пожарная безопасность | I53: Истек срок действия сертификата по ПТМ у руководителя. | J53: п.73.Правила проведения обучения, инструктирования и проверки знаний работников АО «Казахтелеком» по вопросам безопасности и охраны труда, промышленной безопасности, пожарной безопасности, электробезопасности СТ АО 80429-1/009/– 2024. | K53: 46059 | L53: исполнено | N53: Инженер 1 категории ОБиОТ Северного региона Шаймарданов А.С. | O53: Директору СК ДЭСД Елисееву С.Г.
A54: 51 | B54: 46045 | C54: 9 | D54: ОДС | E54: СКО | F54: г.Петропавловск | G54: г.Петропавловск | H54: Обучение и инструктажи | I54: Работники службы СТПиУ не ознакомлен под роспись с инструкциями по БиОТ в листе ознакомления на бумажном носителе. | J54: Приказ № 39 от 20.02.2024 СТ АО 80429 – 1/029 – 2024 Сборник инструкций по безопасности и охране труда по видам работ в подразделениях филиалов АО «Казахтелеком. СТ АО 80429 – 1/030 – 2024 Сборник инструкций по безопасности и охране труда по профессиям подразделений филиалов АО «Казахтелеком. | K54: 46059 | L54: исполнено | N54: Инженер 1 категории ОБиОТ Северного региона Шаймарданов А.С. | O54: Директору СК ДЭСД Елисееву С.Г.
A55: 52 | B55: 46045 | C55: 10 | D55: ДИТ | E55: СКО | F55: г.Петропавловск | G55: г.Петропавловск | H55: основные док-ты по БиОТ (приказы распоряжения) | I55: Во второй ступени журнала четырехступенчатого контроля отсутствует росписи членов комиссии. от 22.10.2025г. от 26.11.2025г. | J55: Правила по проведению четырехступенчатого контроля за состоянием БиОТ в филиалах АО «Казахтелеком», Распоряжение № 253 от 31.10.2025г., | K55: 46052 | L55: исполнено | N55: Инженер 1 категории ОБиОТ Северного региона Шаймарданов А.С. | O55: Начальнику отдела Киргизбаеву А.И.
A56: 53 | B56: 46045 | C56: 11 | D56: ДУП | E56: СКО | F56: г.Петропавловск | G56: г.Петропавловск | H56: Обучение и инструктажи | I56: Журнал регистрации инструктажа по безопасности и охране труда на рабочем месте не прошнурован, не скреплен печатью/подписью | J56: п.64 Правил проведения обучения, инструктирования и проверки знаний работников АО «Казахтелеком» по вопросам безопасности и охраны труда, промышленной безопасности, пожарной безопасности, электробезопасности СТ АО 80429-1/009/– 2024 | K56: 46059 | L56: исполнено | N56: Инженер 1 категории ОБиОТ Северного региона Шаймарданов А.С. | O56: Директору по строительству инфраструктуры ДУП Шотыкову Н.А.
A57: 54 | B57: 46045 | C57: 11 | D57: ДУП | E57: СКО | F57: г.Петропавловск | G57: г.Петропавловск | H57: Обучение и инструктажи | I57: Журнал регистрации инструктажа по пожарной безопасности не прошнурован, не скреплен печатью, не заверен подписью | J57: п.64 Правил проведения обучения, инструктирования и проверки знаний работников АО «Казахтелеком» по вопросам безопасности и охраны труда, промышленной безопасности, пожарной безопасности, электробезопасности СТ АО 80429-1/009/– 2024 | K57: 46059 | L57: исполнено | N57: Инженер 1 категории ОБиОТ Северного региона Шаймарданов А.С. | O57: Директору по строительству инфраструктуры ДУП Шотыкову Н.А.
A58: 55 | B58: 46045 | C58: 11 | D58: ДУП | E58: СКО | F58: г.Петропавловск | G58: г.Петропавловск | H58: Обучение и инструктажи | I58: В журнале регистрации инструктажа по Б и ОТ на рабочем месте имеются исправления даты. | J58: Управление документированной информацией, утверждена Приказом АО "Казахтелеком" КТ/ДП-01-23-01 от 03.12.2024г. № 320 п.26 | K58: 46059 | L58: исполнено | N58: Инженер 1 категории ОБиОТ Северного региона Шаймарданов А.С. | O58: Директору по строительству инфраструктуры ДУП Шотыкову Н.А.
A59: 56 | B59: 46045 | C59: 11 | D59: ДУП | E59: СКО | F59: г.Петропавловск | G59: г.Петропавловск | H59: Обучение и инструктажи | I59: Журнал регистрации инструктажа по БиОТ на рабочем месте – не проведен повторный инструктаж за 1 квартал | J59: Правила проведения обучения, инструктирования по вопросам безопасности и охраны труда и проверок знаний работников АО "Казахтелеком" пунк 51,52 | K59: 46059 | L59: исполнено | N59: Инженер 1 категории ОБиОТ Северного региона Шаймарданов А.С. | O59: Директору по строительству инфраструктуры ДУП Шотыкову Н.А.
A60: 57 | B60: 46045 | C60: 11 | D60: ДУП | E60: СКО | F60: г.Петропавловск | G60: г.Петропавловск | H60: Обучение и инструктажи | I60: Работники службы ДУП не ознакомлен под роспись с инструкциями по БиОТ в листе ознакомления на бумажном носителе. | J60: Приказ № 39 от 20.02.2024 СТ АО 80429 – 1/029 – 2024 Сборник инструкций по безопасности и охране труда по видам работ в подразделениях филиалов АО «Казахтелеком. СТ АО 80429 – 1/030 – 2024 Сборник инструкций по безопасности и охране труда по профессиям подразделений филиалов АО «Казахтелеком. п.5.6п.23Документированная процедура КТ/ДП-01-23-01 . | K60: 46059 | L60: исполнено | N60: Инженер 1 категории ОБиОТ Северного региона Шаймарданов А.С. | O60: Директору по строительству инфраструктуры ДУП Шотыкову Н.А.
A61: 58 | B61: 46044 | C61: 12 | D61: ОДС | E61: Костанайская | F61: г.Костанай | G61: г.Костанай | H61: основные док-ты по БиОТ (приказы распоряжения) | I61: Журнал осмотра стеллажей: нет записей за ноябрь, декабрь 2025 г. Внести соответствующие записи, впредь заполнять своевременно, ежемесячно. | J61: Требования к эксплуатации стеллажей АО «Казахтелеком» СТ АО 80429-1/043-2024, утверждены приказом АО "Казахтелеком" от 13.05.2024 № 124. | K61: 46044 | L61: исполнено | N61: Инженер 2 категории ОБиОТ Северного региона Нурманов К.А. | O61: Директору Костанайского ДЭСД Искакову С.К.
A62: 59 | B62: 46044 | C62: 12 | D62: ОДС | E62: Костанайская | F62: г.Костанай | G62: г.Костанай | H62: основные док-ты по БиОТ (приказы распоряжения) | I62: Не пересмотрены/не продлены сроки действия Инструкций по видам работ ОДС. | J62: п.19, 20 Правил разработки, утверждения и пересмотра инструкции по безопасности и охране труда работодателем (утв. приказом Министра здравоохранения и социального развития Республики Казахстан от 30.11.2015 года № 927). | K62: 46059 | L62: исполнено | N62: Инженер 2 категории ОБиОТ Северного региона Нурманов К.А. | O62: Директору Костанайского ДЭСД Искакову С.К.
A63: 60 | B63: 46044 | C63: 12 | D63: ОДС | E63: Костанайская | F63: г.Костанай | G63: г.Костанай | H63: Обучение и инструктажи | I63: В журнале учета инструктажей по пожарной безопасности внесены отсутствующие работники в день проведения повторного инструктажа. - Ознакомление работников с документированной информацией должно быть проведено в течение десяти рабочих дней, а в случае отсутствия работника доведение до сведения работника и его ознакомление должно быть проведено в течение пяти рабочих дней после его выхода на рабочее место. | J63: - Документированная процедура КТ/ДП-01-23-01 Управление документированной информацией, §6, п.44. - Стандарт АО «Казахтелеком» Правила проведения обучения, инструктирования и проверки знаний работников АО «Казахтелеком» по вопросам безопасности и охраны труда (Распоряжение № 253 от 31.10.2025). | K63: 46059 | L63: исполнено | N63: Инженер 2 категории ОБиОТ Северного региона Нурманов К.А. | O63: Директору Костанайского ДЭСД Искакову С.К.
A64: 61 | B64: 46044 | C64: 12 | D64: ОДС | E64: Костанайская | F64: г.Костанай | G64: г.Костанай | H64: СИЗ | I64: В карточках МБ-6 нет подписей работников о сдаче, получении спецодежды, СИЗ. | J64: СТ ДПБ/Р-20-02-02 АО "Казахтелеком" (Распоряжение № 271 от 19.11.2025) | K64: 46044 | L64: исполнено | N64: Инженер 2 категории ОБиОТ Северного региона Нурманов К.А. | O64: Директору Костанайского ДЭСД Искакову С.К.
... A172: 169 | B172: 46056 | C172: 23 | D172: ОДС | E172: Костанайская | F172: Житикаринский | G172: ул.Ленина, 57 | H172: Пожарная безопасность | I172: В производственных помещениях отсутствует инструкция о мерах пожарной безопасности. Требование: ознакомить работников с Инструкцией по пожарной безопасности на объектах Костанайского ДЭСД (№ 8 от 05.12.2025) и вывесить на видных местах | J172: Пункт 6.7 Правил пожарной безопасности в АО "Казахтелеком" СТ АО 80429–1/038–2024 | K172: 46084 | L172: исполнено | N172: Инженер 1 категории ОБиОТ Северного региона Ляшенко А.Л. | O172: Директору Костанайского ДЭСД Искакову С.К.
A173: 170 | B173: 46057 | C173: 24 | D173: СФ | E173: СКО | F173: г.Петропавловск | G173: г.Петропавловск | H173: Транспортная безопасность | I173: КС-3579, на базе МАЗ г/н 567YT0 на данном кране отсутствует дата следующего освидетельствования. ПТО,ЧТО. | J173: Приказ Министра по инвестициям и развитию Республики Казахстан от 30 декабря 2014 года № 359. Зарегистрирован в Министерстве юстиции Республики Казахстан 25 февраля 2015 года № 10332. параграф 2п.49 | K173: 13.02.2026г | L173: исполнено | N173: Инженер 1 категории ОБиОТ Северного региона Шаймарданов А.С. | O173: Региональному директору Северного региона Мергенову А.К.
A174: 171 | B174: 46057 | C174: 24 | D174: СФ | E174: СКО | F174: г.Петропавловск | G174: г.Петропавловск | H174: Транспортная безопасность | I174: КМ SQ6,3SK3Q на базе Камаз352315-15 г/н 512YT02 данном кране отсутствует дата следующего освидетельствования. ПТО,ЧТО. | J174: Приказ Министра по инвестициям и развитию Республики Казахстан от 30 декабря 2014 года № 359. Зарегистрирован в Министерстве юстиции Республики Казахстан 25 февраля 2015 года № 10332. параграф 2п.49 | K174: 13.02.2026г | L174: исполнено | N174: Инженер 1 категории ОБиОТ Северного региона Шаймарданов А.С. | O174: Региональному директору Северного региона Мергенову А.К.
A175: 172 | B175: 46057 | C175: 24 | D175: СФ | E175: СКО | F175: г.Петропавловск | G175: г.Петропавловск | H175: Транспортная безопасность | I175: Автовышка ГАЗ 53 г/н 641YT02 данной автовышки отсутствует дата следующего освидетельствования. ПТО,ЧТО. | J175: Приказ Министра по инвестициям и развитию Республики Казахстан от 30 декабря 2014 года № 359. Зарегистрирован в Министерстве юстиции Республики Казахстан 25 февраля 2015 года № 10332. параграф 2п.49 | K175: 13.02.2026г | L175: исполнено | N175: Инженер 1 категории ОБиОТ Северного региона Шаймарданов А.С. | O175: Региональному директору Северного региона Мергенову А.К.
A176: 173 | B176: 46057 | C176: 24 | D176: СФ | E176: СКО | F176: г.Петропавловск | G176: г.Петропавловск | H176: Транспортная безопасность | I176: Кран манипулятор JAC г/н 029CJ02 данном кране отсутствует дата следующего освидетельствования. ПТО,ЧТО. | J176: Приказ Министра по инвестициям и развитию Республики Казахстан от 30 декабря 2014 года № 359. Зарегистрирован в Министерстве юстиции Республики Казахстан 25 февраля 2015 года № 10332. параграф 2п.49 | K176: 13.02.2026г | L176: исполнено | N176: Инженер 1 категории ОБиОТ Северного региона Шаймарданов А.С. | O176: Региональному директору Северного региона Мергенову А.К.
A177: 174 | B177: 46057 | C177: 24 | D177: СФ | E177: СКО | F177: г.Петропавловск | G177: г.Петропавловск | H177: основные док-ты по БиОТ (приказы распоряжения) | I177: Не назначены по приказу ответственные за эксплуатацию стеллажей в складских помещении. | J177: Требований пункта 8 приказа АО «Казахтелеком» от 13 мая 2024 года №124 Об утверждений Стандарта «Требования к эксплуатации стеллажей». | K177: 13.02.2026г | L177: исполнено | N177: Инженер 1 категории ОБиОТ Северного региона Шаймарданов А.С. | O177: Региональному директору Северного региона Мергенову А.К.
A178: 175 | B178: 46057 | C178: 24 | D178: СФ | E178: СКО | F178: г.Петропавловск | G178: г.Петропавловск | H178: основные док-ты по БиОТ (приказы распоряжения) | I178: Отсутствуют на съемных грузозахватных приспособлениях клеймо или прочно прикрепленная металлическая бирка с указанием номера, грузоподъемности и даты испытания. | J178: Требование пункта 178, параграфа 3, главы 3 Приказ Министра по инвестициям и развитию Республики Казахстан от 30 декабря 2014 года № 359 Об утверждении Правил обеспечения промышленной безопасности при эксплуатации грузоподъемных механизмов. | K178: 13.02.2026г | L178: исполнено | N178: Инженер 1 категории ОБиОТ Северного региона Шаймарданов А.С. | O178: Региональному директору Северного региона Мергенову А.К.
A179: 176 | B179: 46057 | C179: 24 | D179: СФ | E179: СКО | F179: г.Петропавловск | G179: г.Петропавловск | H179: основные док-ты по БиОТ (приказы распоряжения) | I179: Отсутствует программа первичного инструктажа по противопожарной безопасности. | J179: Требование пункта 72 Правила проведения обучения, инструктирования и проверки знаний работников АО «Казахтелеком» по вопросам безопасности и охраны труда, промышленной безопасности, пожарной безопасности, электробезопасности (СТ АО 80429-1/009/– 2024). | K179: 13.02.2026г | L179: исполнено | N179: Инженер 1 категории ОБиОТ Северного региона Шаймарданов А.С. | O179: Региональному директору Северного региона Мергенову А.К.
A180: 177 | B180: 46057 | C180: 24 | D180: СФ | E180: СКО | F180: г.Петропавловск | G180: г.Петропавловск | H180: Транспортная безопасность | I180: Отсутствует перечень плановых работ технического обслуживания автотранспортных средств. | J180: Требование параграфа 4, главы 3 Правила технической эксплуатации автотранспортных средств Приказ Министра по инвестициям и развитию Республики Казахстан от 30 апреля 2015 года № 547 Об утверждении Правил технической эксплуатации автотранспортных средств. | K180: 13.02.2026г | L180: исполнено | N180: Инженер 1 категории ОБиОТ Северного региона Шаймарданов А.С. | O180: Региональному директору Северного региона Мергенову А.К.
A181: 178 | B181: 46057 | C181: 24 | D181: СФ | E181: СКО | F181: г.Петропавловск | G181: г.Петропавловск | H181: Транспортная безопасность | I181: Не обеспечено проведение периодических осмотров строп каждые 10 дней с регистрацией результатов в журнале их учета и осмотра. | J181: Требование пункта 413 Приказ Министра по инвестициям и развитию Республики Казахстан от 30 декабря 2014 года № 359 "Об утверждении Правил обеспечения промышленной безопасности при эксплуатации грузоподъемных механизмов". | K181: 13.02.2026г | L181: исполнено | N181: Инженер 1 категории ОБиОТ Северного региона Шаймарданов А.С. | O181: Региональному директору Северного региона Мергенову А.К.
A182: 179 | B182: 46057 | C182: 24 | D182: СФ | E182: СКО | F182: г.Петропавловск | G182: г.Петропавловск | H182: основные док-ты по БиОТ (приказы распоряжения) | I182: Ведется не коректно журнал учета съемных грузозахватных приспособлений (строп) (ведется лишь журнал учета нерегистрируемых грузоподъемных механизма). | J182: Требование пункта 63 Приказ Министра по инвестициям и развитию Республики Казахстан от 30 декабря 2014 года № 359 "Об утверждении Правил обеспечения промышленной безопасности при эксплуатации грузоподъемных механизмов". | K182: 13.02.2026г | L182: исполнено | N182: Инженер 1 категории ОБиОТ Северного региона Шаймарданов А.С. | O182: Региональному директору Северного региона Мергенову А.К.
A183: 180 | B183: 46057 | C183: 24 | D183: СФ | E183: СКО | F183: г.Петропавловск | G183: г.Петропавловск | H183: Наряд-допуска | I183: Отсутствует журнал учета нарядов-допусков. | J183: Требование пункта 13 приказа Министра труда и социальной защиты населения Республики Казахстан от 28 августа 2020 года № 344 “Об утверждении Правил оформления и применения нарядов-допусков при производстве работ в условиях повышенной опасности”. | K183: 13.02.2026г | L183: исполнено | N183: Инженер 1 категории ОБиОТ Северного региона Шаймарданов А.С. | O183: Региональному директору Северного региона Мергенову А.К.
A184: 181 | B184: 46057 | C184: 24 | D184: СФ | E184: СКО | F184: г.Петропавловск | G184: г.Петропавловск | H184: Промышленная безопасность | I184: В боксах на стеллажах отсутствует информационные таблички с указанием высот уровня хранения и максимальной допустимой нагрузки. | J184: Требований пункта 6 приказа АО «Казахтелеком» от 13 мая 2024 года №124 Об утверждений Стандарта «Требования к эксплуатации стеллажей». | K184: 13.02.2026г | L184: исполнено | N184: Инженер 1 категории ОБиОТ Северного региона Шаймарданов А.С. | O184: Региональному директору Северного региона Мергенову А.К.
A185: 182 | B185: 46057 | C185: 24 | D185: СФ | E185: СКО | F185: г.Петропавловск | G185: г.Петропавловск | H185: Промышленная безопасность | I185: Не проведено техническое освидетельствование стеллажей. | J185: Требований пункта 8 приказа АО «Казахтелеком» от 13 мая 2024 года №124 Об утверждений Стандарта «Требования к эксплуатации стеллажей». | K185: 13.02.2026г | L185: исполнено | N185: Инженер 1 категории ОБиОТ Северного региона Шаймарданов А.С. | O185: Региональному директору Северного региона Мергенову А.К.
A186: 183 | B186: 46058 | C186: 25 | D186: ОДС | E186: Костанайская | F186: Узынкольский район | G186: Узынколь | H186: основные док-ты по БиОТ (приказы распоряжения) | I186: Журнал учета, проверки и испытаний электроинструмента и вспомогательного оборудования к нему Не проведено 11.01.2026г периодическое испытание электроинструмента и вспомогательного оборудования. | J186: Пункт 31 приказа Министра энергетики Республики Казахстан от 16 марта 2015 года №204 “Об утверждений Правил безопасности при работе с инструментами и приспособлениями” | K186: 46063 | L186: исполнено | N186: Ведущий инженер ОБиОТ Северного региона Книга А.В. | O186: Директору Костанайского ДЭСД Искакову С.К.
A187: 184 | B187: 46058 | C187: 25 | D187: ОДС | E187: Костанайская | F187: Узынкольский район | G187: Узынколь | H187: Электробезопасность | I187: В электроинструментах отсутствуют инвентарные номера и бирки о проведении переиодических испытаний | J187: Пункт 39 «Правил безопасности при работе с инструментами и приспособлениями» приказа Министра энергетики Республики Казахстан от 16.03.2015 года №204 | K187: 46063 | L187: исполнено | N187: Ведущий инженер ОБиОТ Северного региона Книга А.В. | O187: Директору Костанайского ДЭСД Искакову С.К.
A188: 185 | B188: 46058 | C188: 25 | D188: ОДС | E188: Костанайская | F188: Узынкольский район | G188: Узынколь | H188: Электробезопасность | I188: Диэлектрические коврики не проходят периодический осмотр. Отсутствует записи о проведении периодического осмотра диэлектрических ковриков в журнале учета и содержание средств защиты. | J188: Пункт 7 Приложения В «Правил по безопасности и охране труда при работе в помещениях с установленным телекоммуникационным оборудованием» (распоряжение ЦА №253 от 31.10.2025г) | K188: 46063 | L188: исполнено | N188: Ведущий инженер ОБиОТ Северного региона Книга А.В. | O188: Директору Костанайского ДЭСД Искакову С.К.
A189: 186 | B189: 46058 | C189: 25 | D189: ОДС | E189: Костанайская | F189: Узынкольский район | G189: Узынколь | H189: Пожарная безопасность | I189: Отсутствуют таблички с указанием категории помещения по взрыво- и пожароопасности, класса зон по ПУЭ на дверях складских помещений | J189: Пункт 17 приказа Министра по ЧС РК № 55 от 21.02.2022 «Об утверждении Правил пожарной безопасности». | K189: 46063 | L189: исполнено | N189: Ведущий инженер ОБиОТ Северного региона Книга А.В. | O189: Директору Костанайского ДЭСД Искакову С.К.
A190: 187 | B190: 46058 | C190: 25 | D190: ОДС | E190: Костанайская | F190: Узынкольский район | G190: Узынколь | H190: Промышленная безопасность | I190: В помещении склада на стеллажах отсутствует информационные таблички с указанием высот уровня хранения и максимальной допустимой нагрузки. | J190: Пункт 6 приказа АО «Казахтелеком» от 13 мая 2024 года №124 Об утверждений Стандарта «Требования к эксплуатации стеллажей». | K190: 46063 | L190: исполнено | N190: Ведущий инженер ОБиОТ Северного региона Книга А.В. | O190: Директору Костанайского ДЭСД Искакову С.К.
A191: 188 | B191: 46058 | C191: 25 | D191: ОДС | E191: Костанайская | F191: Узынкольский район | G191: Узынколь | H191: Промышленная безопасность | I191: Не проведено техническое освидетельствование стеллажей. | J191: Пункт 8 приказа АО «Казахтелеком» от 13 мая 2024 года №124 Об утверждений Стандарта «Требования к эксплуатации стеллажей». | K191: 46063 | L191: исполнено | N191: Ведущий инженер ОБиОТ Северного региона Книга А.В. | O191: Директору Костанайского ДЭСД Искакову С.К.
A192: 189 | B192: 46058 | C192: 25 | D192: ОДС | E192: Костанайская | F192: Узынкольский район | G192: Узынколь | H192: Обучение и инструктажи | I192: СГ ЦТПСР Не обновлен титульный лист Журнала регистрации инструктажа по безопасности и охране труда на рабочем месте. | J192: Приложение В Правил по проведению четырехступенчатого контроля за состоянием Безопасности и охраны труда в филиалах АО «Казахтелеком» Распоряжение № 253 от 31.10.2025 (Приложение 4) | K192: 46063 | L192: исполнено | N192: Ведущий инженер ОБиОТ Северного региона Книга А.В. | O192: Директору Костанайского ДЭСД Искакову С.К.
A193: 190 | B193: 46058 | C193: 25 | D193: ОДС | E193: Костанайская | F193: Узынкольский район | G193: Узынколь | H193: Электробезопасность | I193: Диэлектрические коврики не проходят периодический осмотр. Отсутствует записи о проведении периодического осмотра диэлектрических ковриков в журнале учета и содержание средств защиты. | J193: Пункт 7 Приложения В «Правил по безопасности и охране труда при работе в помещениях с установленным телекоммуникационным оборудованием» (распоряжение ЦА №253 от 31.10.2025г) | K193: 46063 | L193: исполнено | N193: Ведущий инженер ОБиОТ Северного региона Книга А.В. | O193: Директору Костанайского ДЭСД Искакову С.К.
A194: 191 | B194: 46058 | C194: 25 | D194: ОДС | E194: Костанайская | F194: Узынкольский район | G194: Узынколь | H194: Пожарная безопасность | I194: Беспорядочное совместное хранение разнородного материала на складе | J194: Нарушение п.1202 Приказа МЧС РК от 21.02.2022 № 55. | K194: 46063 | L194: исполнено | N194: Ведущий инженер ОБиОТ Северного региона Книга А.В. | O194: Директору Костанайского ДЭСД Искакову С.К.
A195: 192 | B195: 46058 | C195: 25 | D195: ОДС | E195: Костанайская | F195: Узынкольский район | G195: Узынколь | H195: Обучение и инструктажи | I195: ЭПУиК Не обновлен титульный лист журнала регистрации инструктажа по безопасности и охране труда на рабочем месте. | J195: Приложение В правил по проведению четырехступенчатого контроля за состоянием Безопасности и охраны труда в филиалах АО «Казахтелеком» Распоряжение № 253 от 31.10.2025 (Приложение 4) | K195: 46063 | L195: исполнено | N195: Ведущий инженер ОБиОТ Северного региона Книга А.В. | O195: Директору Костанайского ДЭСД Искакову С.К.
A196: 193 | B196: 46058 | C196: 25 | D196: ОДС | E196: Костанайская | F196: Узынкольский район | G196: Узынколь | H196: Промышленная безопасность | I196: Диэлектрические коврики не проходят периодический осмотр. Отсутствует записи о проведении периодического осмотра диэлектрических ковриков в журнале учета и содержание средств защиты. | J196: п.816 Правил обеспечения промышленной безопасности при эксплуатации оборудования, работающего под давлением. | K196: 46063 | L196: исполнено | N196: Ведущий инженер ОБиОТ Северного региона Книга А.В. | O196: Директору Костанайского ДЭСД Искакову С.К.
A197: 194 | B197: 46058 | C197: 25 | D197: ОДС | E197: Костанайская | F197: Узынкольский район | G197: Узынколь | H197: Электробезопасность | I197: Провод питания эл. лампы освещения входа проходит через деревянную раму окна. | J197: п.2098 Правил устройства электроустановок РК . Электроустановки жилых, общественных. адмистративных и бытовых зданий п. 2098 | K197: 46091 | L197: исполнено | N197: Ведущий инженер ОБиОТ Северного региона Книга А.В. | O197: Директору Костанайского ДЭСД Искакову С.К.
... A205: 202 | B205: 46058 | C205: 25 | D205: ОДС | E205: Костанайская | F205: Узынкольский район | G205: Узынколь | H205: Пожарная безопасность | I205: Не достаточно песка в пожарном ящике пожарного щита. | J205: Приложение 3 Правил пожарной безопасности, утвержденных приказом МЧС РК от 21 февраля 2022 года № 55 | K205: 46091 | L205: исполнено | N205: Ведущий инженер ОБиОТ Северного региона Книга А.В. | O205: Директору Костанайского ДЭСД Искакову С.К.
A206: 203 | B206: 46057 | C206: 25 | D206: СФ | E206: СКО | F206: г.Петропавловск | G206: г.Петропавловск | H206: Транспортная безопасность | I206: В гаражах и боксах схема расстановки автотехники и указателями путей движения ТС к эвакуационным выездам не корректна (не совпадает расстановка со схемой). | J206: Требование пункта 1072, параграфа 1, главы 1, раздела 9 Приказ Министра по чрезвычайным ситуациям Республики Казахстан от 21 февраля 2022 года № 55 Об утверждении Правил пожарной безопасности. | K206: 13.02.2026г | L206: исполнено | N206: Инженер 1 категории ОБиОТ Северного региона Шаймарданов А.С. | O206: Региональному директору Северного региона Мергенову А.К.
A207: 204 | B207: 46057 | C207: 25 | D207: СФ | E207: СКО | F207: г.Петропавловск | G207: г.Петропавловск | H207: Транспортная безопасность | I207: В боксах №4 и 5(улице Букетова )полы не очищены от пролитых ГСМ. | J207: Требование пункта 1073 Приказ Министра по чрезвычайным ситуациям Республики Казахстан от 21 февраля 2022 года № 55 Об утверждении Правил пожарной безопасности | K207: 13.02.2026г | L207: исполнено | N207: Инженер 1 категории ОБиОТ Северного региона Шаймарданов А.С. | O207: Региональному директору Северного региона Мергенову А.К.
A208: 205 | B208: 46057 | C208: 25 | D208: СФ | E208: СКО | F208: г.Петропавловск | G208: г.Петропавловск | H208: Пожарная безопасность | I208: В гараже №1 отсутствует информация об ответственных лицах за обеспечение пожарной безопасности, ответственных за санитарное состояние. | J208: Требование пункта 6.6. Правила пожарной безопасности в АО «Казахтелеком» (СТ АО 80429 – 1/038 – 2024). | K208: 13.02.2026г | L208: исполнено | N208: Инженер 1 категории ОБиОТ Северного региона Шаймарданов А.С. | O208: Региональному директору Северного региона Мергенову А.К.
A209: 206 | B209: 46057 | C209: 25 | D209: СФ | E209: СКО | F209: г.Петропавловск | G209: г.Петропавловск | H209: Пожарная безопасность | I209: Во всех гаражах пожарные ящики не укомплектованы песок . | J209: ПРАВИЛА ПОЖАРНОЙ БЕЗОПАСНОСТИ В АО «КАЗАХТЕЛЕКОМ», СТ АО 80429 – 1/038 – 2024, Пункт 11.3 Министерстве юстиции Республики Казахстан 25 февраля 2015 года № 10332. параграф 2п.49 | K209: 13.02.2026г | L209: исполнено | N209: Инженер 1 категории ОБиОТ Северного региона Шаймарданов А.С. | O209: Региональному директору Северного региона Мергенову А.К.
A210: 207 | B210: 46057 | C210: 25 | D210: СФ | E210: СКО | F210: г.Петропавловск | G210: г.Петропавловск | H210: Пожарная безопасность | I210: На воротах гаражей №4 и 5 (улице Букетова ) выцвела табличка с указанием категории пожарной и взрывопожарной опасности здания. | J210: Пункт 17 Правил пожарной безопасности, утвержденных приказом Министра по чрезвычайным ситуациям Республики Казахстан от 21 февраля 2022 года № 55 | K210: 13.02.2026г | L210: исполнено | N210: Инженер 1 категории ОБиОТ Северного региона Шаймарданов А.С. | O210: Региональному директору Северного региона Мергенову А.К.
A211: 208 | B211: 46057 | C211: 25 | D211: СФ | E211: СКО | F211: г.Петропавловск | G211: г.Петропавловск | H211: Промышленная безопасность | I211: В гаражных боксах не все светильники в рабочем состоянии. Освещения не достаточно. | J211: П.1 статьи 181, П.2 статьи 182 Трудового кодекса РК | K211: 13.02.2026г | L211: исполнено | M211: Подана заявка | N211: Инженер 1 категории ОБиОТ Северного региона Шаймарданов А.С. | O211: Региональному директору Северного региона Мергенову А.К.
A212: 209 | B212: 46058 | C212: 26 | D212: СФ | E212: Костанайская | F212: Узынкольский район | G212: Узынколь | H212: Производственная санитария | I212: В кабинете медицинского освидетельствования водителей не предусмотрена кварцевая лампа, отсутствует график кварцевания, график генеральной уборки помещения. | J212: Санитарные правила № 174 от 28.02.2015г. | K212: 28.02.2026г. | L212: просрочено | N212: Ведущий инженер ОБиОТ Северного региона Книга А.В. | O212: Региональному директору Северного региона Мергенову А.К.
A213: 210 | B213: 46058 | C213: 26 | D213: СФ | E213: Костанайская | F213: Узынкольский район | G213: Узынколь | H213: Производственная санитария | I213: Санузел 2 этажа – сломана ручка двери, отсутствует 2 плитки на стене. | J213: П.4 статьи 181 Трудового кодекса РК | K213: 28.02.2026г. | L213: исполнено | N213: Ведущий инженер ОБиОТ Северного региона Книга А.В. | O213: Региональному директору Северного региона Мергенову А.К.
A214: 211 | B214: 46058 | C214: 26 | D214: СФ | E214: Костанайская | F214: Узынкольский район | G214: Узынколь | H214: Производственная санитария | I214: Санузел 3 этажа Не закрепленная напольная плитка, бачок санузла не закрыт крышкой. | J214: П.4 статьи 181 Трудового кодекса РК | K214: 28.02.2026г. | L214: исполнено | N214: Ведущий инженер ОБиОТ Северного региона Книга А.В. | O214: Региональному директору Северного региона Мергенову А.К.
A215: 212 | B215: 46058 | C215: 26 | D215: СФ | E215: Костанайская | F215: Узынкольский район | G215: Узынколь | H215: Производственная санитария | I215: Не герметичная пластиковая труба водоснабжения. | J215: П.4 статьи 181 Трудового кодекса РК | K215: 28.02.2026г. | L215: исполнено | N215: Ведущий инженер ОБиОТ Северного региона Книга А.В. | O215: Региональному директору Северного региона Мергенову А.К.
A216: 213 | B216: 46058 | C216: 26 | D216: СФ | E216: Костанайская | F216: Узынкольский район | G216: Узынколь | H216: Пожарная безопасность | I216: Входная дверь участка ДРБ -отсутствует дверной замок | J216: П.4 статьи 181 Трудового кодекса РК | K216: 28.02.2026г. | L216: исполнено | N216: Ведущий инженер ОБиОТ Северного региона Книга А.В. | O216: Региональному директору Северного региона Мергенову А.К.
A217: 214 | B217: 46058 | C217: 26 | D217: СФ | E217: Костанайская | F217: Узынкольский район | G217: Узынколь | H217: Производственная санитария | I217: Шифер крыши входного козырька поломан, присутствует вероятность падение кусков шифера, льда. | J217: П.4 статьи 181 Трудового кодекса РК | K217: 28.02.2026г. | L217: просрочено | N217: Ведущий инженер ОБиОТ Северного региона Книга А.В. | O217: Региональному директору Северного региона Мергенову А.К.
A218: 215 | B218: 46058 | C218: 26 | D218: СФ | E218: Костанайская | F218: Узынкольский район | G218: Узынколь | H218: Производственная санитария | I218: Пластиковые панели верха козырька поломаны, при осадках влага, снег попадает на ступени крыльца и приводит к образованию наледи. | J218: П.4 статьи 181 Трудового кодекса РК | K218: 28.02.2026г. | L218: просрочено | N218: Ведущий инженер ОБиОТ Северного региона Книга А.В. | O218: Региональному директору Северного региона Мергенову А.К.
A219: 216 | B219: 46058 | C219: 26 | D219: СФ | E219: Костанайская | F219: Узынкольский район | G219: Узынколь | H219: Производственная санитария | I219: Ступени входного крыльца поломаны. | J219: П.4 статьи 181 Трудового кодекса РК | K219: 28.02.2026г. | L219: просрочено | N219: Ведущий инженер ОБиОТ Северного региона Книга А.В. | O219: Региональному директору Северного региона Мергенову А.К.
A220: 217 | B220: 46058 | C220: 26 | D220: СФ | E220: Костанайская | F220: Узынкольский район | G220: Узынколь | H220: Производственная санитария | I220: Не закрепленный линолеум на входе в гостиницу | J220: П.4 статьи 181 Трудового кодекса РК | K220: 28.02.2026г. | L220: просрочено | N220: Ведущий инженер ОБиОТ Северного региона Книга А.В. | O220: Региональному директору Северного региона Мергенову А.К.
A221: 218 | B221: 46058 | C221: 26 | D221: СФ | E221: Костанайская | F221: Узынкольский район | G221: Узынколь | H221: Производственная санитария | I221: Порванный, не закрепленный линолеум на 2,3 этажах. | J221: П.4 статьи 181 Трудового кодекса РК | K221: 28.02.2026г. | L221: просрочено | N221: Ведущий инженер ОБиОТ Северного региона Книга А.В. | O221: Региональному директору Северного региона Мергенову А.К.
A222: 219 | B222: 46058 | C222: 26 | D222: СФ | E222: Костанайская | F222: Узынкольский район | G222: Узынколь | H222: Пожарная безопасность | I222: Пожарный краны на 1-2-3 этажах не подключен к системе водоснабжения. Пожарные рукава отсутствуют | J222: П. 1576, п. 1585 Правила пожарной безопасности, утв. Приказом Министра по чрезвычайным ситуациям Республики Казахстан от 21 февраля 2022 года № 55 | K222: 28.02.2026г. | L222: просрочено | N222: Ведущий инженер ОБиОТ Северного региона Книга А.В. | O222: Региональному директору Северного региона Мергенову А.К.
A223: 220 | B223: 46058 | C223: 26 | D223: СФ | E223: Костанайская | F223: Узынкольский район | G223: Узынколь | H223: Пожарная безопасность | I223: В местах размещения огнетушителей отсутствуют соответствующие указательные знаки. | J223: П. 18 Правила пожарной безопасности, утв. Приказом Министра по чрезвычайным ситуациям Республики Казахстан от 21 февраля 2022 года № 55 | K223: 28.02.2026г. | L223: исполнено | N223: Ведущий инженер ОБиОТ Северного региона Книга А.В. | O223: Региональному директору Северного региона Мергенову А.К.
... A232: 229 | B232: 46058 | C232: 26 | D232: СФ | E232: Костанайская | F232: Узынкольский район | G232: Узынколь | H232: Транспортная безопасность | I232: Автомобиль УАЗ 390995 г/н 366 YP 02. На задних сидениях отсутствуют ремни безопасности и наклейка информирующая 360 | J232: Требование пункта 41 главы 7 Перечень неисправностей и условий, создающих угрозу безопасности дорожного движения и окружающей среде, при которых запрещается эксплуатация транспортных средств, Приложение к Основным положениям по допуску транспортных средств к эксплуатации, Приказ Министра внутренних дел Республики Казахстан от 30 июня 2023 года № 534 | K232: 28.02.2026г. | L232: исполнено | N232: Ведущий инженер ОБиОТ Северного региона Книга А.В. | O232: Региональному директору Северного региона Мергенову А.К.
A233: 230 | B233: 46062 | C233: 27 | D233: ОДС | E233: Костанайская | F233: г.Костанай | G233: г.Костанай | H233: Пожарная безопасность | I233: На окнах здания по Алтынсарина, 105 установлены металлические решетки, препятствующие эвакуации при пожаре | J233: Приказ Министра ЧС РК от 21 февраля 2022 года №55 «Правила пожарной безопасности», пункт 24 подпункт 8 раздел 1 глава 1 | K233: 46080 | L233: исполнено | N233: Инженер 2 категории ОБиОТ Северного региона Нурманов К.А. | O233: Директору Костанайского ДЭСД Искакову С.К.
A234: 231 | B234: 46062 | C234: 27 | D234: ОДС | E234: Костанайская | F234: г.Костанай | G234: г.Костанай | H234: Пожарная безопасность | I234: На табличке категории взрыво- и пожаробезопасности помещения щитовой на 1 этаже неверно указана категория. | J234: п. 17, п. 357 "Правила пожарной безопасности", утвержденные приказом Министра по ЧС РК от 21.02. 2022 г. № 55. | K234: 46080 | L234: исполнено | N234: Инженер 2 категории ОБиОТ Северного региона Нурманов К.А. | O234: Директору Костанайского ДЭСД Искакову С.К.
A235: 232 | B235: 46062 | C235: 27 | D235: ОДС | E235: Костанайская | F235: г.Костанай | G235: г.Костанай | H235: СИЗ | I235: Диэлектрические коврики в помещениях не пронумерованы | J235: Распоряжение №253 от 31.10.2025г. АО «Казахтелеком» ДПБ/П-20-02-05 «Правила по безопасности и охране труда при работе в помещениях с установленным телекоммуникационным оборудованием», п.83, 84, 87. | K235: 46080 | L235: исполнено | N235: Инженер 2 категории ОБиОТ Северного региона Нурманов К.А. | O235: Директору Костанайского ДЭСД Искакову С.К.
A236: 233 | B236: 46062 | C236: 27 | D236: ОДС | E236: Костанайская | F236: г.Костанай | G236: г.Костанай | H236: Наряд-допуска | I236: Не ведется оперативный журнал | J236: пункт 51 Распоряжения АО «Казахтелеком» № 282 от 02.12.2025 Об утверждении стандарта «Правила производства работ в условиях повышенной опасности по нарядам-допускам». | K236: 46080 | L236: исполнено | N236: Инженер 2 категории ОБиОТ Северного региона Нурманов К.А. | O236: Директору Костанайского ДЭСД Искакову С.К.
A237: 234 | B237: 46062 | C237: 27 | D237: ОДС | E237: Костанайская | F237: г.Костанай | G237: г.Костанай | H237: Пожарная безопасность | I237: Не обновлены планы эвакуации | J237: п.12 Правил пожарной безопасности, утв. Приказом Министра по чрезвычайным ситуациям Республики Казахстан от 21 февраля 2022 года № 55 | K237: 46080 | L237: исполнено | N237: Инженер 2 категории ОБиОТ Северного региона Нурманов К.А. | O237: Директору Костанайского ДЭСД Искакову С.К.
A238: 235 | B238: 46069 | C238: 28 | D238: ДКБ | E238: СКО | F238: г.Петропавловск | G238: г.Петропавловск | H238: Электробезопасность | I238: У инженера Кусоинова Б.Е. во время проверки индикатор напряжения имел следы механического повреждения. | J238: СТ АО 80429-1/012-2018; п 15.7 | K238: 46073 | L238: исполнено | N238: Инженер 1 категории ОБиОТ Северного региона Шаймарданов А.С. | O238: Начальнику центра ЦРСТС ДКБ Купбаеву Б.А.
...

Sheet Отчет
A3: п.п. № | B3: Наименование структурного подразделения | C3: Филиал | D3: Населенный пункт | E3: Регион | F3: Январь | K3: Февраль | P3: Март | U3: Апрель | Z3: Май | AE3: Июнь | AJ3: Июль | AO3: Август | AT3: Сентябрь | AY3: Октябрь | BD3: Ноябрь | BI3: Декабрь
F4: План | G4: Факт | H4: Указание (№, дата) | I4: Указание оформил | J4: Акт приостановки | K4: План | L4: Факт | M4: Указание (№, дата) | N4: Указание оформил | O4: Акт приостановки | P4: План | Q4: Факт | R4: Указание (№, дата) | S4: Указание оформил | T4: Акт приостановки | U4: План | V4: Факт | W4: Указание (№, дата) | X4: Указание оформил | Y4: Акт приостановки | Z4: План | AA4: Факт | AB4: Указание (№, дата) | AC4: Указание оформил | AD4: Акт приостановки | AE4: План | AF4: Факт | AG4: Указание (№, дата) | AH4: Указание оформил | AI4: Акт приостановки | AJ4: План | AK4: Факт | AL4: Указание (№, дата) | AM4: Указание оформил | AN4: Акт приостановки | AO4: План | AP4: Факт | AQ4: Указание (№, дата) | AR4: Указание оформил | AS4: Акт приостановки | AT4: План | AU4: Факт | AV4: Указание (№, дата) | AW4: Указание оформил | AX4: Акт приостановки | AY4: План | AZ4: Факт | BA4: Указание (№, дата) | BB4: Указание оформил | BC4: Акт приостановки | BD4: План | BE4: Факт | BF4: Указание (№, дата) | BG4: Указание оформил | BH4: Акт приостановки | BI4: План | BJ4: Факт | BK4: Указание (№, дата) | BL4: Указание оформил | BM4: Акт приостановки
A5: 1 | B5: ЦТО МС ДЭСД | C5: ОДС | D5: г.Костанай | E5: Северный | F5: 1 | G5: 1 | H5: 12 от 22.01.2026 | I5: Нурманов К.А. | K5: 1 | L5: 1 | M5: 35 от 12.02.2026 | N5: Нурманов К.А. | P5: 1 | Q5: 1 | R5: 116 от 30.03.2026 | S5: Нурманов К.А. | U5: 1 | V5: 2 | W5: 130 от 17.04.2026, 155 от 30.04.2026 | X5: Нурманов К.А. | Z5: 1 | AA5: 1 | AB5: № 192 от 29.05.2026 | AC5: Нурманов К.А. | AE5: 1 | AF5: 1 | AG5: №196 от 03.06.2026 | AH5: Вазарцева В.А. | AJ5: 1 | AK5: 1 | AL5: №240 от 03.07.2026 | AM5: Нурманов К.А. | AO5: 1 | AT5: 1 | AY5: 1 | BD5: 1 | BI5: 1
A6: 2 | B6: ЦЭиК ДЭСД | C6: ОДС | D6: г.Костанай | E6: Северный | K6: 1 | L6: 1 | M6: 27 от 09.02.2026 | N6: Нурманов К.А. | U6: 1 | V6: 1 | W6: 153 от 24.04.2026 | X6: Нурманов К.А. | AE6: 1 | AF6: 1 | AG6: №226 от 26.06.2026 | AH6: Нурманов К.А. | AO6: 1 | AY6: 1 | BI6: 1
A7: 3 | B7: ЦТПСР ДЭСД | C7: ОДС | D7: г.Костанай | E7: Северный | F7: 1 | G7: 1 | H7: 17 от 26.01.2026 | I7: Нурманов К.А. | U7: 1 | V7: 1 | W7: 140 от 16.04.2026 | X7: Нурманов К.А. | AJ7: 1 | AK7: 1 | AL7: №269 от 28.07.2026 | AM7: Вазарцева В.А. | AY7: 1
A8: 4 | B8: ТУСМ-8 | C8: ОДС | D8: г.Костанай | E8: Северный | F8: 1 | G8: 1 | H8: 19 от 29.01.2026 | I8: Нурманов К.А. | U8: 1 | V8: 1 | W8: 124 от 09.04.2026 | X8: Нурманов К.А. | AJ8: 1 | AK8: 1 | AL8: №241 от 07.07.2026 | AM8: Нурманов К.А. | AY8: 1
A9: 5 | B9: СТУиП ДЭСД | C9: ОДС | D9: г.Костанай | E9: Северный | U9: 1 | V9: 1 | W9: 122 от 13.04.2026 | X9: Джурина Н.В. | AY9: 1
A10: 6 | B10: СЭиРСТ ДЭСД | C10: ОДС | D10: г.Костанай | E10: Северный | P10: 1 | Q10: 1 | R10: 80 от 12.03.2026 | S10: Джурина Н.В. | AE10: 1 | AF10: 1 | AG10: №225 от 25.06.2026 | AH10: Джурина Н.В. | AO10: 1 | AP10: 1 | AQ10: №278 от 05.08.2026 | AR10: Джурина Н.В. | BD10: 1
A11: 7 | B11: ДЭРТИ | C11: ОДС | D11: г.Костанай | E11: Северный | AT11: 1
A12: 8 | B12: УОД ДЭСД | C12: ОДС | D12: г.Костанай | E12: Северный | AJ12: 1 | AK12: 1 | AL12: №234 от 01.07.2026 | AM12: Вазарцева В.А.
A13: 9 | B13: ЦТО | C13: СФ | D13: г.Костанай | E13: Северный | F13: 1 | G13: 1 | H13: 16 от 26.01.2026 | I13: Нурманов К.А. | K13: 1 | L13: 1 | M13: 36 от 20.02.2026 | N13: Джурина Н.В. | O13: 1 | P13: 1 | Q13: 1 | R13: 85 от 16.03.2026 | S13: Джурина Н.В. | U13: 1 | V13: 1 | W13: 123 от 06.04.2026 | X13: Нурманов К.А. | Z13: 1 | AA13: 1 | AB13: № 178 от 28.05.2026 | AC13: Нурманов К.А. | AE13: 1 | AF13: 1 | AG13: 212 от 15.06.2026 | AH13: Джурина Н.В. | AJ13: 1 | AK13: 1 | AL13: №250 от 20.07.2026 | AM13: Джурина Н.В. | AO13: 1 | AT13: 1 | AY13: 1 | BD13: 1 | BI13: 1
A14: 10 | B14: ЦПХО | C14: СФ | D14: г.Костанай | E14: Северный | F14: 1 | G14: 1 | H14: 18 от 27.01.2026 | I14: Нурманов К.А. | U14: 1 | V14: 1 | W14: 152 от 23.04.2026 | X14: Нурманов К.А. | AJ14: 1 | AK14: 1 | AL14: №262 от 28.07.2026 | AM14: Джурина Н.В. | AY14: 1
A15: 11 | B15: ДИТ | C15: ДИТ | D15: г.Костанай | E15: Северный | Z15: 1 | AA15: 1 | AB15: № 163 от 19.05.2026 | AC15: Вазарцева В.А. | BI15: 1
A16: 12 | B16: ДУП | C16: ДУП | D16: г.Костанай | E16: Северный | Z16: 1 | AA16: 1 | AB16: № 179 от 28.05.2026 | AC16: Вазарцева В.А. | BI16: 1
A17: 13 | B17: ЦРУ ДИР | C17: ДРБ | D17: г.Костанай | E17: Северный | K17: 1 | L17: 1 | M17: 30 от 11.02.2026 | N17: Нурманов К.А. | U17: 1 | V17: 1 | W17: 128 от 10.04.2026 | X17: Нурманов К.А. | AE17: 1 | AF17: 1 | AG17: №214 от 16.06.2026 | AH17: Нурманов К.А. | AO17: 1 | AY17: 1 | BI17: 1
A18: 14 | B18: ПСС, ЦАП | C18: ДРБ | D18: г.Костанай | E18: Северный | F18: 1 | G18: 1 | H18: 20 от 30.01.2026 | I18: Нурманов К.А. | U18: 1 | V18: 1 | W18: 129 от 15.04.2026 | X18: Джрина Н.В. | AJ18: 1 | AK18: 1 | AL18: №235 от 01.07.2026 | AM18: Вазарцева В.А. | AY18: 1
A19: 15 | B19: ЦКП | C19: ДКБ | D19: г.Костанай | E19: Северный | K19: 1 | L19: 1 | M19: 31 от 16.02.2026 | N19: Джурина Н.В. | AT19: 1 | BI19: 1
A20: 16 | B20: УИиТР | C20: ДКБ | D20: г.Костанай | E20: Северный | K20: 1 | L20: 1 | M20: 39 от 20.02.2026 | N20: Нурманов К.А. | U20: 1 | V20: 1 | W20: 154 от 27.04.2026 | X20: Нурманов К.А. | AE20: 1 | AF20: 1 | AG20: №221 от 22.06.2026 | AH20: Вазарцева В.А. | AO20: 1 | AP20: 1 | AQ20: №285 от 17.08.2026 | AR20: Вазарцева В.А. | AY20: 1 | BI20: 1
A21: 17 | B21: ОКиСК | C21: ДТК | D21: г.Костанай | E21: Северный | Z21: 1 | AA21: 1 | AB21: 191 от 28.05.2026 | AC21: Нурманов К.А.
A22: 18 | B22: ГВБ | C22: КУ | D22: г.Костанай | E22: Северный | AT22: 1
A23: 19 | B23: СП | C23: КУ | D23: г.Костанай | E23: Северный | AT23: 1
A24: 20 | B24: ЛТУ, ЦЭиК, ЦТПСР | C24: ОДС | D24: с.Федоровка, Федоровский р-н | E24: Северный | P24: 1 | Q24: 1 | R24: 110 от 31.03.2026 | S24: Нурманов К.А. | AE24: 1 | AF24: 1 | AG24: №209 от 09.06.2026 | AH24: Вазарцева В.А. | AO24: 1 | AP24: 0 | AQ24: СЗ № VAVA-DX2DJ6 от 17.08.2026 | AR24: перенос на сентябрь | BD24: 1
A25: 21 | B25: ГП ЦРК | C25: ДРБ | D25: с.Федоровка, Федоровский р-н | E25: Северный | AE25: 1 | AF25: 1 | AG25: №207 от 08.06.2026 | AH25: Вазарцева В.А. | BD25: 1
A26: 22 | B26: ЦПХО, ЦТО | C26: СФ | D26: с.Федоровка, Федоровский р-н | E26: Северный | P26: 1 | Q26: 1 | R26: 111 от 31.03.2026 | S26: Нурманов К.А. | AE26: 1 | AF26: 1 | AG26: №208 от 08.06.2026 | AH26: Вазарцева В.А. | AO26: 1 | AP26: 0 | AQ26: СЗ № VAVA-DX2DJ6 от 17.08.2026 | AR26: перенос на сентябрь | BD26: 1
A27: 23 | B27: ЛТЦ, ЦЭиК, ЦТПСР | C27: ОДС | D27: п.Карабалык, Карабалыкский р-н | E27: Северный | P27: 1 | Q27: 1 | R27: 112 от 31.03.2026 | S27: Нурманов К.А. | AE27: 1 | AF27: 1 | AG27: №210 от 10.06.2026 | AH27: Нурманов К.А. | AO27: 1 | AP27: 0 | AQ27: СЗ № VAVA-DX2DJ6 от 17.08.2026 | AR27: перенос на сентябрь | BD27: 1
A28: 24 | B28: ГП ЦРК | C28: ДРБ | D28: п.Карабалык, Карабалыкский р-н | E28: Северный | AE28: 1 | AF28: 1 | AG28: №216 от 12.06.2026 | AH28: Нурманов К.А. | BD28: 1
A29: 25 | B29: ЦПХО, ЦТО | C29: СФ | D29: п.Карабалык, Карабалыкский р-н | E29: Северный | P29: 1 | Q29: 1 | R29: 113 от 31.03.2026 | S29: Нурманов К.А. | AE29: 1 | AF29: 1 | AG29: №211 от 11.06.2026 | AH29: Нурманов К.А. | AI29: №10 от 15.06.2026 | AO29: 1 | AP29: 0 | AQ29: СЗ № VAVA-DX2DJ6 от 17.08.2026 | AR29: перенос на сентябрь | BD29: 1
A30: 26 | B30: ЦПХО, ЦТО | C30: СФ | D30: г.Рудный | E30: Северный | K30: 1 | N30: Перенос на март, экзамены | Q30: 1 | R30: 75 от 04.03.2026 | S30: Нурманов К.А. | Z30: 1 | AA30: 1 | AB30: 162 от 05.05.2026 | AC30: Нурманов К.А. | AO30: 1 | AY30: 1
A31: 27 | B31: ГП ЦРК | C31: ДРБ | D31: г.Рудный | E31: Северный | Z31: 1 | AA31: 1 | AB31: 165 от 05.05.2026 | AC31: Нурманов К.А. | AY31: 1
A32: 28 | B32: ЦРУ ДИР | C32: ДРБ | D32: г.Рудный | E32: Северный | Z32: 1 | AA32: 1 | AB32: 164 от 05.05.2026 | AC32: Нурманов К.А. | AY32: 1
A33: 29 | B33: ЛТЦ, ЦЭиК, ЦТПСР | C33: ОДС | D33: г.Рудный | E33: Северный | K33: 1 | N33: Перенос на март, экзамены | Q33: 1 | R33: 74 от 04.03.2026 | S33: Нурманов К.А. | Z33: 1 | AA33: 1 | AB33: 161 от 05.05.2026 | AC33: Нурманов К.А. | AO33: 1 | AY33: 1
A34: 30 | B34: ТУСМ-8 | C34: ОДС | D34: г.Рудный | E34: Северный | K34: 1 | N34: Перенос на март, экзамены | Q34: 1 | R34: 76 от 06.03.2026 | S34: Нурманов К.А. | Z34: 1 | AA34: 1 | AB34: 166 от 06.05.2026 | AC34: Нурманов К.А. | AO34: 1 | AY34: 1
A35: 31 | B35: ЛТУ, ЦЭиК, ЦТПСР | C35: ОДС | D35: с.Айет, р-н им. Б.Майлина | E35: Северный | P35: 1 | Q35: 1 | R35: 114 от 31.03.2026 | S35: Нурманов К.А. | AE35: 1 | AF35: 1 | AG35: №218 от 18.09.2026 | AH35: Нурманов К.А. | AT35: 1 | BD35: 1
A36: 32 | B36: ГП ЦРК | C36: ДРБ | D36: с.Айет, р-н им. Б.Майлина | E36: Северный | AE36: 1 | AF36: 1 | AG36: №219 от 19.06.2026 | AH36: Нурманов К.А. | AT36: 1
A37: 33 | B37: ЦПХО, ЦТО | C37: СФ | D37: с.Айет, р-н им. Б.Майлина | E37: Северный | P37: 1 | Q37: 1 | R37: 115 от 31.03.2026 | S37: Нурманов К.А. | AE37: 1 | AF37: 1 | AG37: №220 от 19.06.2026 | AH37: Нурманов К.А. | AT37: 1 | BD37: 1
A38: 34 | B38: ЦРУ ДИР | C38: ДРБ | D38: г.Аркалык | E38: Северный | F38: 1 | G38: 1 | H38: №1 от 14.01.2026 | I38: Адырбаев Ж.А. | U38: 1 | V38: 1 | W38: №119 от 10.04.2026 | X38: Адырбаев Ж.А. | AJ38: 1 | AK38: 1 | AL38: №244 от 15.07.26г | AM38: Адырбаев Ж.А. | AY38: 1
A39: 35 | B39: ЛТУ, ЦТПСР, ЦЭиК | C39: ОДС | D39: г.Аркалык | E39: Северный | P39: 1 | S39: б/л Адырбаев Ж.А. перенос на апрель | U39: 1 | V39: 1 | W39: №118 от 10.04.2026 | X39: Адырбаев Ж.А. | Z39: 1 | AA39: 1 | AB39: №189 от 29.05.2026г | AC39: Адырбаев Ж.А. | AO39: 1 | BI39: 1
A40: 36 | B40: УТО, ЦПХО | C40: СФ | D40: г.Аркалык | E40: Северный | P40: 1 | Q40: 1 | R40: 61 от 03.03.2026 | S40: Адырбаев Ж.А. | U40: 1 | V40: 1 | W40: №141 от 23.04.2026 | X40: Адырбаев Ж.А. | AJ40: 1 | AK40: 1 | AL40: №269 от 24.07.26г | AM40: Адырбаев Ж.А. | BD40: 1
A41: 37 | B41: ГП ЦРК | C41: ДРБ | D41: г.Аркалык | E41: Северный | F41: 1 | G41: 1 | H41: №8 от 22.01.2026 | I41: Адырбаев Ж.А | Z41: 1 | AA41: 1 | AB41: №190 от 29.05.2026г | AC41: Адырбаев Ж.А. | AJ41: 1 | AK41: 1 | AL41: №243 от 15.07.26г | AM41: Адырбаев Ж.А. | AY41: 1
A42: 38 | B42: УИТР | C42: ДКБ | D42: г.Аркалык | E42: Северный | F42: 1 | G42: 1 | H42: №21 от 30.01.2026 | I42: Адырбаев Ж.А. | AY42: 1
A43: 39 | B43: ТУСМ-8 | C43: ОДС | D43: г.Аркалык | E43: Северный | K43: 1 | L43: 2 | M43: 32 от 18.02.2026/№49 | N43: Адырбаев Ж.А./Нурманов К.А. | U43: 1 | V43: 1 | W43: № 159 от 30.04.2026 | X43: Адырбаев Ж.А. | AO43: 1 | AP43: 1 | AQ43: №281 от 17.08.26г | AR43: Адырбаев Ж.А. | AS43: №15 от 15.08.26г | BI43: 1
A44: 40 | B44: ЛТУ, ЦТПСР, ЦЭиК | C44: ОДС | D44: с.Амангельды, Амангельдинский р-н | E44: Северный | K44: 1 | L44: 1 | M44: 54 от 27.02.2026 | N44: Нурманов К.А. | AE44: 1 | AF44: 1 | AG44: №205 от 15.06.2026г | AH44: Адырбаев Ж.А. | AT44: 1 | BD44: 1
A45: 41 | B45: УТО, ЦПХО | C45: СФ | D45: с.Амангельды, Амангельдинский р-н | E45: Северный | K45: 1 | L45: 1 | M45: 55 от 27.02.2026 | N45: Нурманов К.А. | AE45: 1 | AF45: 1 | AG45: №222 от 22.06.2026г | AH45: Адырбаев Ж.А. | AT45: 1 | BD45: 1
A46: 42 | B46: ГП ЦРК | C46: ДРБ | D46: с.Амангельды, Амангельдинский р-н | E46: Северный | K46: 1 | L46: 1 | M46: 56 от 27.02.2026 | N46: Нурманов К.А. | AF46: 1 | AG46: №224 от 22.06.2026г | AH46: Адырбаев Ж.А. | BD46: 1
A47: 43 | B47: ЛТУ, ЦТПСР, ЦЭиК | C47: ОДС | D47: с.Торгай, Джангельдинский р-н, | E47: Северный | K47: 1 | L47: 1 | M47: 51от 25.02.2026 | N47: Нурманов К.А. | AE47: 1 | AF47: 1 | AG47: №206 от 15.06.2026г | AH47: Адырбаев Ж.А. | AT47: 1 | BD47: 1
A48: 44 | B48: УТО, ЦПХО | C48: СФ | D48: с.Торгай, Джангельдинский р-н, | E48: Северный | K48: 1 | L48: 1 | M48: 52 от 25.02.2026 | N48: Нурманов К.А. | AE48: 1 | AF48: 1 | AG48: №223 от 22.06.2026г | AH48: Адырбаев Ж.А. | AT48: 1 | BD48: 1
A49: 45 | B49: ГП ЦРК | C49: ДРБ | D49: с.Торгай, Джангельдинский р-н, | E49: Северный | K49: 1 | L49: 1 | M49: 53 от 25.02.2026 | N49: Нурманов К.А. | BD49: 1
A50: 46 | B50: ЛТЦ, ЦТПСР, ЦЭиК | C50: ОДС | D50: с.Аулиеколь, Аулиекольский р-н | E50: Северный | P50: 1 | Q50: 1 | R50: № 92 от 30.03.2026 | S50: Книга А.В. | Z50: 1 | AA50: 1 | AB50: № 182 от 29.05.2026 | AC50: Книга А.В. | AO50: 1 | BI50: 1
A51: 47 | B51: УТО, ЦПХО | C51: СФ | D51: с.Аулиеколь, Аулиекольский р-н | E51: Северный | P51: 1 | Q51: 1 | R51: № 93 от 30.03.2026 | S51: Книга А.В. | Z51: 1 | AA51: 1 | AB51: № 183 от 29.05.2026 | AC51: Книга А.В. | AO51: 1 | BI51: 1
A52: 48 | B52: ГП ЦРК | C52: ДРБ | D52: с.Аулиеколь, Аулиекольский р-н | E52: Северный | Z52: 1 | AA52: 1 | AB52: № 184 от 29.05.2026 | AC52: Книга А.В. | BI52: 1
A53: 49 | B53: ТУСМ-8 | C53: ОДС | D53: п.Кушмурун, Аулиекольский р-н | E53: Северный | U53: 1 | V53: 1 | W53: № 212 от 14.04.2026 | X53: Книга А.В. | AE53: 1 | AF53: 1 | AG53: № 204 от 12.06.2026 | AH53: Книга А.В. | AO53: 1 | BI53: 1
A54: 50 | B54: ЛТЦ, ЦТПСР, ЦЭиК | C54: ОДС | D54: п.Карасу, Карасуский р-н | E54: Северный | F54: 1 | G54: 1 | H54: № 6 от 22.01 2026 | I54: Книга А.В. | U54: 1 | V54: 1 | W54: № 142 от 22.04.2026 | X54: Книга А.В. | AE54: 1 | AF54: 1 | AG54: №217 от 22.06.2026 | AH54: Книга А.В. | BD54: 1
A55: 51 | B55: УТО, ЦПХО | C55: СФ | D55: п.Карасу, Карасуский р-н | E55: Северный | F55: 1 | G55: 1 | H55: № 5 от 22.01 2026 | I55: Книга А.В. | U55: 1 | V55: 1 | W55: № 143 от 23.04.2026 | X55: Книга А.В. | AE55: 1 | AF55: 1 | AG55: №213 от 17.06.2026 | AH55: Книга А.В. | BD55: 1
A56: 52 | B56: ГП ЦРК | C56: ДРБ | D56: п.Карасу, Карасуский р-н | E56: Северный | F56: 1 | G56: 1 | H56: № 7 от 23.01 2026 | I56: Книга А.В. | AE56: 1 | AF56: 1 | AG56: №215 от 17.06.2026 | AH56: Книга А.В. | BD56: 1
A57: 53 | B57: ЛУ, ЦТПСР, ЦЭиК | C57: ОДС | D57: c.Октябрьcкое, Карасуский р-н | E57: Северный | P57: 1 | Q57: 1 | R57: № 90 от 29.03.2026 | S57: Книга А.В. | Z57: 1 | AA57: 1 | AB57: № 180 от 29.05.2026 | AC57: Книга А.В. | AO57: 1 | BI57: 1
A58: 54 | B58: УТО, ЦПХО | C58: СФ | D58: c.Октябрьcкое, Карасуский р-н | E58: Северный | P58: 1 | Q58: 1 | R58: № 91 от 29.03.2026 | S58: Книга А.В. | Z58: 1 | AA58: 1 | AB58: № 181 от 29.05.2026 | AC58: Книга А.В. | AO58: 1 | BI58: 1
A59: 55 | B59: ЛТУ, ЦТПСР, ЦЭиК | C59: ОДС | D59: с.Караменды, Наурзумский р-н | E59: Северный | P59: 1 | Q59: 1 | R59: № 98 от 30.03.2026 | S59: Книга А.В. | Z59: 1 | AA59: 1 | AB59: № 185 от 29.05.2026 | AC59: Книга А.В. | AO59: 1 | BI59: 1
A60: 56 | B60: УТО, ЦПХО | C60: СФ | D60: с.Караменды, Наурзумский р-н | E60: Северный | P60: 1 | Q60: 1 | R60: № 97 от 30.03.2026 | S60: Книга А.В. | Z60: 1 | AA60: 1 | AB60: № 186 от 29.05.2026 | AC60: Книга А.В. | AO60: 1 | BI60: 1
A61: 57 | B61: ЛТЦ, ЦТПСР, ЦЭиК | C61: ОДС | D61: п.Сарыколь, Сарыкольский р-н | E61: Северный | P61: 1 | Q61: 1 | R61: № 72 от 14.03.2026 | S61: Книга А.В. | AJ61: 1 | AK61: 1 | AL61: № 257 от28.07.26 | AM61: Книга А.В. | AT61: 1 | BI61: 1
A62: 58 | B62: УТО, ЦПХО | C62: СФ | D62: п.Сарыколь, Сарыкольский р-н | E62: Северный | P62: 1 | Q62: 1 | R62: № 73 от 14.03.2026 | S62: Книга А.В. | AJ62: 1 | AK62: 1 | AL62: № 258 от28.07.26 | AM62: Книга А.В. | AT62: 1 | BI62: 1
A63: 59 | B63: ГП ЦРК | C63: ДРБ | D63: п.Сарыколь, Сарыкольский р-н | E63: Северный | AJ63: 1 | AK63: 1 | AL63: № 259 от28.07.26 | AM63: Книга А.В. | BI63: 1
A64: 60 | B64: ТУСМ-8 | C64: ОДС | D64: п.Сарыколь, Сарыкольский р-н | E64: Северный | P64: 1 | Q64: 1 | R64: № 81 от 17.03.2026 | S64: Книга А.В. | AJ64: 1 | AK64: 1 | AL64: № 270 от29.07.26 | AM64: Книга А.В. | AT64: 1 | BI64: 1
A65: 61 | B65: ЛТУ, ЦТПСР, ЦЭиК | C65: ОДС | D65: с.Узунколь, Узункольский р-н | E65: Северный | K65: 0 | L65: 1 | M65: №25 от 05.02.2026 | N65: Книга А.В. | P65: 1 | Q65: 1 | R65: № 86 от 23.03.2026 | S65: Книга А.В. | AJ65: 1 | AK65: 1 | AL65: № 272 от29.07.26 | AM65: Книга А.В. | AT65: 1 | BI65: 1
A66: 62 | B66: УТО, ЦПХО | C66: СФ | D66: с.Узунколь, Узункольский р-н | E66: Северный | K66: 0 | L66: 1 | M66: №26 от 06.02.2026 | N66: Книга А.В. | O66: 2 | P66: 1 | Q66: 1 | R66: № 87 от 23.03.2026 | S66: Книга А.В. | AJ66: 1 | AK66: 1 | AL66: № 273 от29.07.26 | AM66: Книга А.В. | AT66: 1 | BI66: 1
A67: 63 | B67: ГП ЦРК | C67: ДРБ | D67: с.Узунколь, Узункольский р-н | E67: Северный | AJ67: 1 | AK67: 1 | AL67: № 271 от29.07.26 | AM67: Книга А.В. | BI67: 1
A68: 64 | B68: ЛТУ, ЦТПСР, ЦЭиК | C68: ОДС | D68: с.Силантьевка, Алтынсаринский р-н | E68: Северный | K68: 1 | L68: 1 | M68: № 47 от 27.02.2026 | N68: Книга А.В. | Z68: 1 | AA68: 1 | AB68: № 173 от 26.05.2026 | AC68: Книга А.В. | AO68: 1 | AY68: 1
A69: 65 | B69: УТО, ЦПХО | C69: СФ | D69: с.Силантьевка, Алтынсаринский р-н | E69: Северный | K69: 1 | L69: 1 | M69: № 48 от 27.02.2026 | N69: Книга А.В. | Z69: 1 | AA69: 1 | AB69: № 174 от 26.05.2026 | AC69: Книга А.В. | AO69: 1 | AY69: 1
A70: 66 | B70: ЛТУ, ЦТПСР, ЦЭиК | C70: ОДС | D70: с.Боровское, Мендыкаринский р-н | E70: Северный | P70: 1 | Q70: 1 | R70: № 100 от 30.03.2026 | S70: Книга А.В. | Z70: 1 | AA70: 1 | AB70: № 175 от 26.05.2026 | AC70: Книга А.В. | AO70: 1 | AY70: 1
A71: 67 | B71: УТО, ЦПХО | C71: СФ | D71: с.Боровское, Мендыкаринский р-н | E71: Северный | P71: 1 | Q71: 1 | R71: № 99 от 30.03.2026 | S71: Книга А.В. | Z71: 1 | AA71: 1 | AB71: № 176 от 26.05.2026 | AC71: Книга А.В. | AO71: 1 | AY71: 1
A72: 68 | B72: ГП ЦРК | C72: ДРБ | D72: с.Боровское, Мендыкаринский р-н | E72: Северный | Z72: 1 | AA72: 1 | AB72: № 177 от 26.05.2026 | AC72: Книга А.В. | AY72: 1
A73: 69 | B73: ЛТЦ, ЦТПСР, ЦЭиК | C73: ОДС | D73: г.Житикара, Житикаринский район | E73: Северный | K73: 1 | L73: 1 | M73: № 23 от 02-03.02.2026 | N73: Ляшенко А.Л. | Z73: 1 | AA73: 1 | AB73: № 193 от 28.05.2026 | AC73: Ляшенко А.Л. | AT73: 1 | BI73: 1
A74: 70 | B74: ЦЛКС-82 ТУСМ-8 | C74: ОДС | D74: г.Житикара, Житикаринский район | E74: Северный | K74: 1 | L74: 1 | M74: № 45 от 26.02.2026 | N74: Ляшенко А.Л. | Z74: 1 | AA74: 1 | AB74: № 194 от 29.05.2026 | AC74: Ляшенко А.Л. | AT74: 1 | BI74: 1
A75: 71 | B75: ГП ЦРК, ДИР | C75: ДРБ | D75: г.Житикара, Житикаринский район | E75: Северный | K75: 1 | L75: 1 | M75: № 22 от 02.02.2026 | N75: Ляшенко А.Л. | AT75: 1
A76: 72 | B76: УТО, ЦПХО | C76: СФ | D76: г.Житикара, Житикаринский район | E76: Северный | K76: 1 | L76: 1 | M76: № 46 от 26.02.2026 | N76: Ляшенко А.Л. | Z76: 1 | AA76: 1 | AB76: № 195 от 29.05.2026 | AC76: Ляшенко А.Л. | AT76: 1 | BI76: 1
A77: 73 | B77: ЛТУ, ЦТПСР, ЦЭиК | C77: ОДС | D77: с.Денисовка, Денисовский район | E77: Северный | P77: 1 | Q77: 1 | R77: № 66 от 03.03.2026 | S77: Ляшенко А.Л. | AE77: 1 | AF77: 1 | AG77: № 197 от 8-9.06.2026 | AH77: Ляшенко А.Л. | AO77: 1 | BD77: 1
A78: 74 | B78: ГП ЦРК | C78: ДРБ | D78: с.Денисовка, Денисовский район | E78: Северный | P78: 1 | Q78: 1 | R78: № 65 от 03.03.2026 | S78: Ляшенко А.Л. | BD78: 1
A79: 75 | B79: УТО, ЦПХО | C79: СФ | D79: с.Денисовка, Денисовский район | E79: Северный | P79: 1 | Q79: 1 | R79: № 67 от 03.03.2026 | S79: Ляшенко А.Л. | AE79: 1 | AF79: 1 | AG79: № 198 от 8-9.06.2026 | AH79: Ляшенко А.Л. | AO79: 1 | BD79: 1
A80: 76 | B80: ЛТУ, ЦТПСР, ЦЭиК | C80: ОДС | D80: с.Камысты, Камыстинский район | E80: Северный | P80: 1 | Q80: 1 | R80: № 107 от 27.03.2026 | S80: Ляшенко А.Л. | AE80: 1 | AF80: 1 | AG80: № 236 от 10.06.2026 | AH80: Ляшенко А.Л. | AO80: 1 | BD80: 1
A81: 77 | B81: ГП ЦРК, ДИР | C81: ДРБ | D81: с.Камысты, Камыстинский район | E81: Северный | P81: 1 | Q81: 2 | R81: № 108 от 27.03.2026 № 117 от 27.03.2026 | S81: Ляшенко А.Л. | AF81: 1 | AG81: № 202 от 10.06.2026 | AH81: Ляшенко А.Л. | BD81: 1
A82: 78 | B82: УТО, ЦПХО | C82: СФ | D82: с.Камысты, Камыстинский район | E82: Северный | P82: 1 | Q82: 1 | R82: № 109 от 27.03.2026 | S82: Ляшенко А.Л. | AE82: 1 | AF82: 1 | AG82: № 237 от 10.06.2026 | AH82: Ляшенко А.Л. | AO82: 1 | BD82: 1
A83: 79 | B83: ЛТУ, ЦТПСР, ЦЭиК | C83: ОДС | D83: г.Лисаковск | E83: Северный | P83: 1 | Q83: 1 | R83: № 78 от 03.03.2026 | S83: Ляшенко А.Л. | AE83: 1 | AF83: 1 | AG83: № 238 от 29-30.06.2026 | AH83: Ляшенко А.Л. | AO83: 1 | BD83: 1
A84: 80 | B84: ГП ЦРК | C84: ДРБ | D84: г.Лисаковск | E84: Северный | P84: 1 | Q84: 1 | R84: № 77 от 03.03.2026 | S84: Ляшенко А.Л. | BD84: 1
A85: 81 | B85: УТО, ЦПХО | C85: СФ | D85: г.Лисаковск | E85: Северный | P85: 1 | Q85: 1 | R85: № 79 от 03.03.2026 | S85: Ляшенко А.Л. | AE85: 1 | AF85: 1 | AG85: № 239 от 30.06.2026 | AH85: Ляшенко А.Л. | AO85: 1 | BD85: 1
A86: 82 | B86: ЛТЦ, ЦТПСР, ЦЭиК | C86: ОДС | D86: с.Саумалколь, Айыртауский р-н | E86: Северный | P86: 1 | Q86: 1 | R86: №83 от 06.03.2026 | S86: Поплавский Е.С. | AE86: 1 | AF86: 0 | AG86: СЗ № YSPY-DVADW7 от 22.06.2026г. | AH86: Перенос сроков с июня на июль | AJ86: 0 | AK86: 1 | AL86: №246 от 21.07.2026 | AM86: Поплавский Е.С. | AN86: №13 от 01.07.2026 | AT86: 1 | BI86: 1
A87: 83 | B87: УТО, ЦПХО | C87: СФ | D87: с.Саумалколь, Айыртауский р-н | E87: Северный | P87: 1 | Q87: 1 | R87: №84 от 06.03.2026 | S87: Поплавский Е.С. | AE87: 1 | AF87: 0 | AG87: СЗ № YSPY-DVADW7 от 22.06.2026г. | AH87: Перенос сроков с июня на июль | AJ87: 0 | AK87: 1 | AL87: №247 от 21.07.2026 | AM87: Поплавский Е.С. | AN87: №12 от 01.07.2026 | AT87: 1 | BI87: 1
A88: 84 | B88: ГП ЦРК | C88: ДРБ | D88: с.Саумалколь, Айыртауский р-н | E88: Северный | AE88: 1 | AF88: 0 | AG88: СЗ № YSPY-DVADW7 от 22.06.2026г. | AH88: Перенос сроков с июня на июль | AJ88: 0 | AK88: 1 | AL88: №248 от 21.07.2026 | AM88: Поплавский Е.С. | BI88: 1
A89: 85 | B89: ЛТУ, ЦТПСР, ЦЭиК | C89: ОДС | D89: с.Талшик, Акжарский р-н | E89: Северный | K89: 1 | L89: 1 | M89: №57 от 27.02.2026 | N89: Поплавский Е.С. | U89: 1 | V89: 1 | W89: №137 от 16.04.2026 | X89: Поплавский Е.С. | AJ89: 1 | AK89: 1 | AL89: №274 от 31.07.2026 | AM89: Поплавский Е.С. | AY89: 1
A90: 86 | B90: УТО, ЦПХО | C90: СФ | D90: с.Талшик, Акжарский р-н | E90: Северный | K90: 1 | L90: 1 | M90: №58 от 27.02.2026 | N90: Поплавский Е.С. | U90: 1 | V90: 1 | W90: №138 от 16.04.2026 | X90: Поплавский Е.С. | AJ90: 1 | AK90: 1 | AL90: №275 от 31.07.2026 | AM90: Поплавский Е.С. | AY90: 1
A91: 87 | B91: ГП ЦРК | C91: ДРБ | D91: с.Талшик, Акжарский р-н | E91: Северный | U91: 1 | V91: 1 | W91: №139 от 16.04.2026 | X91: Поплавский Е.С. | AY91: 1
A92: 88 | B92: ЛТУ, ЦТПСР, ЦЭиК | C92: ОДС | D92: с.Смирново, Аккайынский р-н | E92: Северный | P92: 1 | Q92: 1 | R92: №94 от 27.03.2026 | S92: Поплавский Е.С. | AO92: 1 | AP92: 1 | AQ92: №288 от 24.08.2026г. | AR92: Поплавский Е.С. | AS92: №17 от 19.08.2026 | BD92: 1
A93: 89 | B93: УТО, ЦПХО | C93: СФ | D93: с.Смирново, Аккайынский р-н | E93: Северный | P93: 1 | Q93: 1 | R93: №95 от 27.03.2026 | S93: Поплавский Е.С. | AO93: 1 | AP93: 1 | AQ93: №289 от 24.08.2026г. | AR93: Поплавский Е.С. | BD93: 1
A94: 90 | B94: ГП ЦРК | C94: ДРБ | D94: с.Смирново, Аккайынский р-н | E94: Северный | P94: 1 | Q94: 1 | R94: №96 от 27.03.2026 | S94: Поплавский Е.С. | BD94: 1
A95: 91 | B95: ЛТЦ, ЦТПСР, ЦЭиК | C95: ОДС | D95: г.Тайынша, Тайыншинский р-н | E95: Северный | F95: 1 | G95: 1 | H95: №4 от 16.01.2026 | I95: Поплавский Е.С. | U95: 1 | V95: 1 | W95: №150 от 29.04.2026 | X95: Поплавский Е.С. | AE95: 0 | AF95: 1 | AG95: №227 от 30.06.2026 | AH95: Ванин М.М. | AO95: 1 | BD95: 1
A96: 92 | B96: УТО, ЦПХО | C96: СФ | D96: г.Тайынша, Тайыншинский р-н | E96: Северный | F96: 1 | G96: 1 | H96: №3 от 16.01.2026 | I96: Поплавский Е.С. | U96: 1 | V96: 1 | W96: №151 от 29.04.2026 | X96: Поплавский Е.С. | AE96: 0 | AF96: 1 | AG96: №228 от 30.06.2026 | AH96: Ванин М.М. | AO96: 1 | BD96: 1
A97: 93 | B97: ГП ЦРК | C97: ДРБ | D97: г.Тайынша, Тайыншинский р-н | E97: Северный | F97: 1 | G97: 1 | H97: №2 от 15.01.2026 | I97: Поплавский Е.С. | AE97: 0 | AF97: 1 | AG97: №229 от 30.06.2026 | AH97: Ванин М.М. | AO97: 1
A98: 94 | B98: ЛТЦ, ЦТПСР, ЦЭиК | C98: ОДС | D98: с.Новоишимка, р-н Г.Мусрепова | E98: Северный | P98: 1 | Q98: 1 | R98: №88 от 13.03.2026 | S98: Поплавский Е.С. | AE98: 1 | AF98: 0 | AG98: СЗ № YSPY-DVADW7 от 22.06.2026г. | AH98: Перенос сроков с июня на июль | AJ98: 0 | AK98: 1 | AL98: №253 от 27.07.2026 | AM98: Поплавский Е.С. | AT98: 1 | BI98: 1
A99: 95 | B99: УТО, ЦПХО | C99: СФ | D99: с.Новоишимка, р-н Г.Мусрепова | E99: Северный | P99: 1 | Q99: 1 | R99: №89 от 13.03.2026 | S99: Поплавский Е.С. | AE99: 1 | AF99: 0 | AG99: СЗ № YSPY-DVADW7 от 22.06.2026г. | AH99: Перенос сроков с июня на июль | AJ99: 0 | AK99: 1 | AL99: №254 от 27.07.2026 | AM99: Поплавский Е.С. | AT99: 1 | BI99: 1
A100: 96 | B100: ГП ЦРК | C100: ДРБ | D100: с.Новоишимка, р-н Г.Мусрепова | E100: Северный | AE100: 1 | AF100: 0 | AG100: СЗ № YSPY-DVADW7 от 22.06.2026г. | AH100: Перенос сроков с июня на июль | AJ100: 0 | AK100: 1 | AL100: №255 от 23.07.2026 | AM100: Поплавский Е.С. | BI100: 1
A101: 97 | B101: ЛТУ, ЦТПСР, ЦЭиК | C101: ОДС | D101: с.Кишкенеколь, Уалихановский р-н | E101: Северный | K101: 1 | L101: 1 | M101: №59 от 27.02.2026 | N101: Поплавский Е.С. | U101: 1 | V101: 1 | W101: №134 от 14.04.2026 | X101: Поплавский Е.С. | AJ101: 1 | AK101: 1 | AL101: №276 от 29.07.2026 | AM101: Поплавский Е.С. | AY101: 1
A102: 98 | B102: УТО, ЦПХО | C102: СФ | D102: с.Кишкенеколь, Уалихановский р-н | E102: Северный | K102: 1 | L102: 1 | M102: №60 от 27.02.2026 | N102: Поплавский Е.С. | U102: 1 | V102: 1 | W102: №135 от 14.04.2026 | X102: Поплавский Е.С. | AJ102: 1 | AK102: 1 | AL102: №277 от 29.07.2026 | AM102: Поплавский Е.С. | AY102: 1
...

Sheet Лист2

Sheet Лист3

Sheet Total
B1: Отчет по устранению замечаний по проверкам Отдела БиОТ
B2: Филиалы | C2: Период | G2: Примечание
B3: 2025
C4: итого | D4: на контроле | E4: исполнено | F4: просрочено
C5: =SUM(D5:F5) -> 3207 | D5: =SUM(D6:D16) -> 358 | E5: =SUM(E6:E16) -> 2220 | F5: =SUM(F6:F16) -> 629
A6: 1 | B6: ДРБ | C6: =SUM(D6:F6) -> 242 | D6: =COUNTIFS('Описание'!D1:D6927, "ДРБ", 'Описание'!L1:L6927, "на контроле") -> 2 | E6: =COUNTIFS('Описание'!D1:D6927, "ДРБ", 'Описание'!L1:L6927, "исполнено") -> 190 | F6: =COUNTIFS('Описание'!D1:D6927, "ДРБ", 'Описание'!L1:L6927, "просрочено") -> 50
A7: 2 | B7: КУ | C7: =SUM(D7:F7) -> 8 | D7: =COUNTIFS('Описание'!D1:D6928, "КУ", 'Описание'!L1:L6928, "на контроле") -> 0 | E7: =COUNTIFS('Описание'!D1:D6928, "КУ", 'Описание'!L1:L6928, "исполнено") -> 0 | F7: =COUNTIFS('Описание'!D1:D6927, "КУ", 'Описание'!L1:L6927, "просрочено") -> 8
A8: 3 | B8: ДИТ | C8: =SUM(D8:F8) -> 12 | D8: =COUNTIFS('Описание'!D1:D6929, "ДИТ", 'Описание'!L1:L6929, "на контроле") -> 0 | E8: =COUNTIFS('Описание'!D1:D6929, "ДИТ", 'Описание'!L1:L6929, "исполнено") -> 12 | F8: =COUNTIFS('Описание'!D1:D6929, "ДИТ", 'Описание'!L1:L6929, "просрочено") -> 0
A9: 4 | B9: ДКБ | C9: =SUM(D9:F9) -> 86 | D9: =COUNTIFS('Описание'!D1:D6930, "ДКБ", 'Описание'!L1:L6930, "на контроле") -> 7 | E9: =COUNTIFS('Описание'!D1:D6930, "ДКБ", 'Описание'!L1:L6930, "исполнено") -> 74 | F9: =COUNTIFS('Описание'!D1:D6930, "ДКБ", 'Описание'!L1:L6930, "просрочено") -> 5
A10: 5 | B10: ДЦБ | C10: =SUM(D10:F10) -> 7 | D10: =COUNTIFS('Описание'!D1:D6931, "ДЦБ", 'Описание'!L1:L6931, "на контроле") -> 6 | E10: =COUNTIFS('Описание'!D1:D6931, "ДЦБ", 'Описание'!L1:L6931, "исполнено") -> 1 | F10: =COUNTIFS('Описание'!D1:D6931, "ДЦБ", 'Описание'!L1:L6931, "просрочено") -> 0
A11: 6 | B11: ЦА | C11: =SUM(D11:F11) -> 0 | D11: =COUNTIFS('Описание'!D1:D6932, "ЦА", 'Описание'!L1:L6932, "на контроле") -> 0 | E11: =COUNTIFS('Описание'!D1:D6932, "ЦА", 'Описание'!L1:L6932, "исполнено") -> 0 | F11: =COUNTIFS('Описание'!D1:D6932, "ЦА", 'Описание'!L1:L6932, "просрочено") -> 0
A12: 7 | B12: ДПБ | C12: =SUM(D12:F12) -> 0 | D12: =COUNTIFS('Описание'!D1:D6933, "ДПБ", 'Описание'!L1:L6933, "на контроле") -> 0 | E12: =COUNTIFS('Описание'!D1:D6933, "ДПБ", 'Описание'!L1:L6933, "исполнено") -> 0 | F12: =COUNTIFS('Описание'!D1:D6933, "ДПБ", 'Описание'!L1:L6933, "просрочено") -> 0
A13: 8 | B13: ОДС | C13: =SUM(D13:F13) -> 1627 | D13: =COUNTIFS('Описание'!D1:D6934, "ОДС", 'Описание'!L1:L6934, "на контроле") -> 162 | E13: =COUNTIFS('Описание'!D1:D6934, "ОДС", 'Описание'!L1:L6934, "исполнено") -> 1378 | F13: =COUNTIFS('Описание'!D1:D6934, "ОДС", 'Описание'!L1:L6934, "просрочено") -> 87
A14: 9 | B14: ДУП | C14: =SUM(D14:F14) -> 26 | D14: =COUNTIFS('Описание'!D1:D6935, "ДУП", 'Описание'!L1:L6935, "на контроле") -> 3 | E14: =COUNTIFS('Описание'!D1:D6935, "ДУП", 'Описание'!L1:L6935, "исполнено") -> 10 | F14: =COUNTIFS('Описание'!D1:D6935, "ДУП", 'Описание'!L1:L6935, "просрочено") -> 13
A15: 10 | B15: ДТК | C15: =SUM(D15:F15) -> 9 | D15: =COUNTIFS('Описание'!D1:D6936, "ДТК", 'Описание'!L1:L6936, "на контроле") -> 0 | E15: =COUNTIFS('Описание'!D1:D6936, "ДТК", 'Описание'!L1:L6936, "исполнено") -> 2 | F15: =COUNTIFS('Описание'!D1:D6936, "ДТК", 'Описание'!L1:L6936, "просрочено") -> 7
A16: 11 | B16: СФ | C16: =SUM(D16:F16) -> 1190 | D16: =COUNTIFS('Описание'!D1:D6937, "СФ", 'Описание'!L1:L6937, "на контроле") -> 178 | E16: =COUNTIFS('Описание'!D1:D6937, "СФ", 'Описание'!L1:L6937, "исполнено") -> 553 | F16: =COUNTIFS('Описание'!D1:D6937, "СФ", 'Описание'!L1:L6937, "просрочено") -> 459

Sheet Указание
C3: Кому: | D3: =IFERROR(__xludf.DUMMYFUNCTION("UNIQUE(FILTER('Описание'!O:O, 'Описание'!C:C=C5))"),"Региональному менеджеру ДРБ ДИР Савину С.Л.") -> Региональному менеджеру ДРБ ДИР Савину С.Л.
H4: В ПОЛЕ "УКАЗАНИЯ №" - ВСТАВЬТЕ номер
B5: УКАЗАНИЕ № | C5: 119
A7: Отдела безопасности и охраны труда Северного региона ДПБ филиала АО «Казахтелеком»
B9: от | C9: {=IFERROR(INDEX('Описание'!B:B, MATCH('Указание'!C5, 'Описание'!C:C, 0)), "")} -> 46122
B11: В соответствии с подпунктом 3) пункта 4 статьи 202 Трудового кодекса Республики Казахстан от 23 ноября 2015 года требую устранить следующие нарушения требований безопасности и охраны труда: | H11: ВСЕ ОСТАЛЬНЫЕ ПОЛЯ ТРЕБУЮЩИЕ РЕДАКТИРОВАНИЯ - НЕ ЗАПОЛНЯТЬ
A13: № п/п | B13: Выявленные нарушения и требования по их устранению | C13: Основание (законодательство) | D13: Сроки исполнения | E13: Примечания
A14: =IFERROR(__xludf.DUMMYFUNCTION("UNIQUE(FILTER('Описание'!G:G, 'Описание'!C:C=C5))"),"г.Аркалык") -> г.Аркалык
A15: =ROW(A16)-15 -> 1 | B15: =IFERROR(__xludf.DUMMYFUNCTION("UNIQUE(FILTER('Описание'!I:I, 'Описание'!C:C=C5))"),"Журнал регистрации инструктажа по пожарной безопасности не обновлен титульный лист") -> Журнал регистрации инструктажа по пожарной безопасности не обновлен титульный лист | C15: =IFERROR(__xludf.DUMMYFUNCTION("(FILTER('Описание'!J:J, 'Описание'!C:C=C5))"),"Приложение 1 к «КТ/ДП-08-04-01 Документированная процедура. «Управление документированной информацией», утвержденной приказом Председателя Правления АО «Казахтелеком» от 02.02.2026г № 9 ") -> Приложение 1 к «КТ/ДП-08-04-01 Документированная процедура. «Управление документированной информацией», утвержденной приказом Председателя Правления АО «Казахтелеком» от 02.02.2026г № 9 | D15: =IFERROR(__xludf.DUMMYFUNCTION("FILTER('Описание'!K:K, 'Описание'!C:C=C5)"),"20.04.2026г") -> 20.04.2026г | E15: =IFERROR(__xludf.DUMMYFUNCTION("UNIQUE(FILTER('Описание'!M:M, 'Описание'!C:C=C5))"),"")
A16: =ROW(A17)-15 -> 2 | B16: =IFERROR(__xludf.DUMMYFUNCTION("""COMPUTED_VALUE"""),"Журнал регистрации инструктажа на рабочем месте не обновлен титульный лист") -> Журнал регистрации инструктажа на рабочем месте не обновлен титульный лист | C16: =IFERROR(__xludf.DUMMYFUNCTION("""COMPUTED_VALUE"""),"Приложение 1 к «КТ/ДП-08-04-01 Документированная процедура. «Управление документированной информацией», утвержденной приказом Председателя Правления АО «Казахтелеком» от 02.02.2026г № 9 ") -> Приложение 1 к «КТ/ДП-08-04-01 Документированная процедура. «Управление документированной информацией», утвержденной приказом Председателя Правления АО «Казахтелеком» от 02.02.2026г № 9 | D16: =IFERROR(__xludf.DUMMYFUNCTION("""COMPUTED_VALUE"""),"20.04.2026г") -> 20.04.2026г | I16: ДАННЫЕ ВНОСИТЬ В ЛИСТЕ "ОПИСАНИЕ"
A17: =ROW(A18)-15 -> 3 | B17: =IFERROR(__xludf.DUMMYFUNCTION("""COMPUTED_VALUE"""),"У эл.монтера Кашкымбаева К. на инструменте с изолирующими рукоятками отсутствует бирка о проведении испытания") -> У эл.монтера Кашкымбаева К. на инструменте с изолирующими рукоятками отсутствует бирка о проведении испытания | C17: =IFERROR(__xludf.DUMMYFUNCTION("""COMPUTED_VALUE"""),"п.86 Правил по безопасности и охране труда при работе в помещениях с установленным телекоммуникационным оборудованием Распоряжение № 253 от 31.10.2025 (Приложение 3)") -> п.86 Правил по безопасности и охране труда при работе в помещениях с установленным телекоммуникационным оборудованием Распоряжение № 253 от 31.10.2025 (Приложение 3) | D17: =IFERROR(__xludf.DUMMYFUNCTION("""COMPUTED_VALUE"""),"20.04.2026г") -> 20.04.2026г
A18: =ROW(A19)-15 -> 4 | B18: =IFERROR(__xludf.DUMMYFUNCTION("""COMPUTED_VALUE"""),"Отсутствует табличка с указанием категории помещения и не указан ответственный работник") -> Отсутствует табличка с указанием категории помещения и не указан ответственный работник | C18: =IFERROR(__xludf.DUMMYFUNCTION("""COMPUTED_VALUE"""),"П.12 Правила пожарной безопасности, утв. Приказом Министра по чрезвычайным ситуациям Республики Казахстан от 21 февраля 2022 года № 55.") -> П.12 Правила пожарной безопасности, утв. Приказом Министра по чрезвычайным ситуациям Республики Казахстан от 21 февраля 2022 года № 55. | D18: =IFERROR(__xludf.DUMMYFUNCTION("""COMPUTED_VALUE"""),"20.04.2026г") -> 20.04.2026г
A19: =ROW(A20)-15 -> 5
A20: =ROW(A21)-15 -> 6
A21: =ROW(A22)-15 -> 7
A22: =ROW(A23)-15 -> 8
A23: =ROW(A24)-15 -> 9
A24: =ROW(A25)-15 -> 10
B26: О выполнении указания по истечении 3 дней после указанных в нем сроков
B28: представить письменное сообщение с приложением фото в ОБиОТ региона (работнику который выдал Указание)
B30: В соответствии с пунктом 4 статьи 202 ТК РК указания по БиОТ обязательны к исполнению работниками Общества
B32: Указание выдал | C32: {=IFERROR(INDEX('Описание'!N:N, MATCH('Указание'!C5, 'Описание'!C:C, 0)), "")} -> Инженер ОБиОТ Северного региона Адырбаев Ж.А.
D33: (подпись) (Ф.И.О.)
B35: Указание получил | C35: {=IFERROR(INDEX('Описание'!O:O, MATCH('Указание'!C5, 'Описание'!C:C, 0)), "")} -> Региональному менеджеру ДРБ ДИР Савину С.Л.
D37: (подпись) (Ф.И.О)

Sheet справочник
B1: Филиал | D1: Статус исполнения | F1: Категория нарушения
B2: ДРБ | D2: на контроле | F2: Пожарная безопасность
B3: КУ | D3: исполнено | F3: Промышленная безопасность
B4: ДИТ | D4: просрочено | F4: Электробезопасность
B5: ДКБ | F5: Транспортная безопасность
B6: ДЦБ | F6: СИЗ
B7: ЦА | F7: Наряд-допуска
B8: ДПБ | F8: Производственная санитария
B9: ОДС | F9: Обучение и инструктажи
B10: ДУП | F10: основные док-ты по БиОТ (приказы распоряжения)
B11: ДТК
B12: СФ
B14: АР | D14: Районы
C15: 1 | D15: г.Алматы
C16: 2 | D16: г.Конаев
C17: 3 | D17: г.Талдыкорган
C18: 4 | D18: г.Текели
C19: 5 | D19: Енбекшиказахский район
C20: 6 | D20: Карасайский район
C21: 7 | D21: Кегенский район
C22: 8 | D22: Балхашский район
C23: 9 | D23: Талгарский район
C24: 10 | D24: Жамбылский район
C25: 11 | D25: Илийский район
C26: 12 | D26: Раимбекский район
... C35: 21 | D35: Коксуйский район
B38: ВР | D38: Районы
C39: 1 | D39: г.Усть-Каменогорск | F39: Начальник Отдела БиОТ Северного региона Сапрыкин А.А.
C40: 2 | D40: г.Семей | F40: Ведущий инженер ОБиОТ Северного региона Ванин М.М.
C41: 3 | D41: г.Павлодар | F41: Ведущий инженер ОБиОТ Северного региона Джурина Н.В.
C42: 4 | D42: г.Экибастуз | F42: Ведущий инженер ОБиОТ Северного региона Книга А.В.
C43: 5 | D43: г.Аксу | F43: Инженер 2 категории ОБиОТ Северного региона Платонова Е.В.
C44: 6 | D44: г.Риддер | F44: Инженер 1 категории ОБиОТ Северного региона Ляшенко А.Л.
C45: 7 | D45: Алтайский район | F45: Инженер 1 категории ОБиОТ Северного региона Поплавский Е.С.
C46: 8 | D46: Глубоковский район | F46: Инженер 1 категории ОБиОТ Северного региона Шаймарданов А.С.
C47: 9 | D47: Зайсанский район | F47: Инженер ОБиОТ Северного региона Адырбаев Ж.А.
C48: 10 | D48: Катон-Карагайский район | F48: Инженер 2 категории ОБиОТ Северного региона Нурманов К.А.
C49: 11 | D49: Куршимский район | F49: Инженер 1 категории ОБиОТ Северного региона Вазарцева В.А.
C50: 12 | D50: Самарский район
C51: 13 | D51: Уланский район
C52: 14 | D52: Шемонаихинский район
C53: 15 | D53: Улкен Нарынский район
C54: 16 | D54: Абайский район
C55: 17 | D55: Аксуатский район
C56: 18 | D56: Аягозский район
C57: 19 | D57: Бескарагайский район
C58: 20 | D58: Бородулихинский район
C59: 21 | D59: Жарминский район
C60: 22 | D60: Кокпектинский район
C61: 23 | D61: Урджарский район
... C71: 33 | D71: Успенский район
B73: ЗР | D73: Районы
D74: г.Актобе
D75: Алгинский район
D76: Айтекебийский район
D77: Байганинский район
D78: Иргизский район
D79: Каргалинский район
D80: Мартукский район
D81: Мугалжарский район
D82: Темирский район
D83: Уилский район
D84: Хобдинский район
D85: Хромтауский район
... D114: Тупкараганский район
B117: СР | D117: Районы
D118: г.Петропавловск
D119: Айыртауский район
D120: Акжарский район
D121: Аккайынский район
D122: Есильский район
D123: Жамбылский район
D124: район Магжана Жумабаева
D125: Кызылжарский район
D126: Мамлютский район
D127: район им. Габита Мусрепова
D128: Тайыншинский район
D129: Тимирязевский район
... D151: Фёдоровский район
