Workbook

Sheet Описание
A1: УКАЗАНИЯ о принятии мер по устранению выявленных нарушений по безопасности и охране труда
A3: № | B3: Дата | C3: № указания | D3: Филиал | E3: Область | F3: Город/Район | G3: Объект с адресом | H3: Категория нарушения | I3: Описание выявленных нарушений и требования по их устранению | J3: Ссылка на законодательство | K3: Срок исполнения | L3: Статус исполнения | M3: Примечание | N3: кто выдал | O3: кому выдано | P3: Столбец 1
A4: 1 | B4: 46036 | C4: 1 | D4: ДРБ | E4: Костанайская | F4: г.Аркалык | G4: г.Аркалык | H4: Обучение и инструктажи | I4: Журнал регистрации инструктажа по пожарной безопасности не проведен повторный инструктаж за 1 квартад | J4: п.81 Правила проведения обучения, инструктирования и проверки знаний работников АО «Казахтелеком» по вопросам безопасности и охраны труда Распоряжение № 253 от 31.10.2025 Приложение 7 | K4: 20.01.2026г | L4: исполнено | N4: Инженер ОБиОТ Северного региона Адырбаев Ж.А. | O4: Региональному мененджеру ДРБ ДИР Савину С.Л.
A5: 2 | B5: 46036 | C5: 1 | D5: ДРБ | E5: Костанайская | F5: г.Аркалык | G5: г.Аркалык | H5: Обучение и инструктажи | I5: Журнал регистрации инструктажа на рабочем месте не проведен повторный инструктаж за 1 квартад | J5: п.51 Правила проведения обучения, инструктирования и проверки знаний работников АО «Казахтелеком» по вопросам безопасности и охраны труда Распоряжение № 253 от 31.10.2025 Приложение 7 | K5: 20.01.2026г | L5: исполнено | N5: Инженер ОБиОТ Северного региона Адырбаев Ж.А. | O5: Региональному мененджеру ДРБ ДИР Савину С.Л.
A6: 3 | B6: 46036 | C6: 1 | D6: ДРБ | E6: Костанайская | F6: г.Аркалык | G6: г.Аркалык | H6: Промышленная безопасность | I6: В помещении склада ЦРУ кабель находится на полу | J6: Правила пожарной безопасности АО "Казахтелеком" СТ АО 80429-1/038, Раздел 7 п.7.3 п.п.17 | K6: 20.01.2026г | L6: исполнено | N6: Инженер ОБиОТ Северного региона Адырбаев Ж.А. | O6: Региональному мененджеру ДРБ ДИР Савину С.Л.
A7: 4 | B7: 46036 | C7: 1 | D7: ДРБ | E7: Костанайская | F7: г.Аркалык | G7: г.Аркалык | H7: Производственная санитария | I7: В помещении склада требуется ремонт (трещины на стенах, с потолка осыпается штукатурка) | J7: п3,п.17 ст.22 ТК РК | K7: 20.01.2026г | L7: просрочено | N7: Инженер ОБиОТ Северного региона Адырбаев Ж.А. | O7: Региональному мененджеру ДРБ ДИР Савину С.Л.
A8: 5 | B8: 46036 | C8: 1 | D8: ДРБ | E8: Костанайская | F8: г.Аркалык | G8: г.Аркалык | H8: Пожарная безопасность | I8: Отсутствует табличка с указанием категории помещения и не указан ответственный работник | J8: П12 Правила пожарной безопасности, утв.Приказом министра по ЧС РК от 21.02.2022г №55 | K8: 20.01.2026г | L8: исполнено | N8: Инженер ОБиОТ Северного региона Адырбаев Ж.А. | O8: Региональному мененджеру ДРБ ДИР Савину С.Л.
A9: 6 | B9: 46037 | C9: 2 | D9: ДРБ | E9: СКО | F9: Тайыншинский район | G9: г.Тайынша | H9: Электробезопасность | I9: В зале обслуживания населения крышка штепсельной розетки напряжением 220В не закреплена | J9: Устранено в ходе проверки | K9: 46037 | L9: исполнено | N9: Инженер 1 категории ОБиОТ Северного региона Поплавский Е.С. | O9: Коммерческому директору В2С сегмента Северного региона Ляпуновой А.В.
A10: 7 | B10: 46038 | C10: 3 | D10: СФ | E10: СКО | F10: Тайыншинский район | G10: г.Тайынша | H10: Пожарная безопасность | I10: В административном здании ЛТЦ, цокольном этаже планы эвакуации при пожаре не актуальны | J10: Пункт 6 Правил пожарной безопасности, утвержденных приказом МЧС РК от 21 февраля 2022 года № 55 | K10: 46082 | L10: исполнено | N10: Инженер 1 категории ОБиОТ Северного региона Поплавский Е.С. | O10: Региональному директору СФ Северного региона Мергенову А.К.
A11: 8 | B11: 46038 | C11: 3 | D11: СФ | E11: СКО | F11: Тайыншинский район | G11: г.Тайынша | H11: Пожарная безопасность | I11: Пожарный щит на территории ЛТЦ: в ящике отсутствует песок | J11: Пункт 16.11 ПРАВИЛ ПОЖАРНОЙ БЕЗОПАСНОСТИ В АО «КАЗАХТЕЛЕКОМ», СТ АО 80429 – 1/038 – 2024 | K11: 46082 | L11: исполнено | N11: Инженер 1 категории ОБиОТ Северного региона Поплавский Е.С. | O11: Региональному директору СФ Северного региона Мергенову А.К.
A12: 9 | B12: 46038 | C12: 3 | D12: СФ | E12: СКО | F12: Тайыншинский район | G12: г.Тайынша | H12: Промышленная безопасность | I12: В гаражном боксе №2-3 обваливается потолок, срочно требуется ремонт | J12: подпункт 1), пункт 2, ст.182 ТК РК | K12: 46082 | L12: просрочено | M12: Повторно | N12: Инженер 1 категории ОБиОТ Северного региона Поплавский Е.С. | O12: Региональному директору СФ Северного региона Мергенову А.К.
A13: 10 | B13: 46038 | C13: 3 | D13: СФ | E13: СКО | F13: Тайыншинский район | G13: г.Тайынша | H13: Пожарная безопасность | I13: В гаражном боксе №2-3 не работает пожарно-охранная сигнализация, отсутствует датчик | J13: Пункт 6 Правил пожарной безопасности, утвержденных приказом МЧС РК от 21 февраля 2022 года № 55 | K13: 46082 | L13: просрочено | N13: Инженер 1 категории ОБиОТ Северного региона Поплавский Е.С. | O13: Региональному директору СФ Северного региона Мергенову А.К.
A14: 11 | B14: 46038 | C14: 3 | D14: СФ | E14: СКО | F14: Тайыншинский район | G14: г.Тайынша | H14: Электробезопасность | I14: В гаражном боксе №2-3 штепсельная розетка не закреплена к стене | J14: Подпункт 1), пункт 2, ст.182 ТК РК | K14: 46054 | L14: исполнено | N14: Инженер 1 категории ОБиОТ Северного региона Поплавский Е.С. | O14: Региональному директору СФ Северного региона Мергенову А.К.
A15: 12 | B15: 46038 | C15: 3 | D15: СФ | E15: СКО | F15: Тайыншинский район | G15: г.Тайынша | H15: Транспортная безопасность | I15: Транспортные средства не оснащены наклейками «360°» | J15: Распоряжение №288 от 03.12.2025 Стандарт по обеспечению безопасной эксплуатации транспортных средств АО "Казахтелеком" ДПБ/СТ -20-02-02, Приложение 7. | K15: 46082 | L15: исполнено | N15: Инженер 1 категории ОБиОТ Северного региона Поплавский Е.С. | O15: Региональному директору СФ Северного региона Мергенову А.К.
A16: 13 | B16: 46038 | C16: 3 | D16: СФ | E16: СКО | F16: Тайыншинский район | G16: г.Тайынша | H16: Охрана здоровья и гигиена ра рабочем месте | I16: В душевых отсутствуют резиновые либо пластиковые коврики, полки, крючки для банных принадлежностей | J16: Пункт 6.8 Требований к санитарно-гигиеническим помещениям в филиалах АО "Казахтелеком" | K16: 46082 | L16: исполнено | N16: Инженер 1 категории ОБиОТ Северного региона Поплавский Е.С. | O16: Региональному директору СФ Северного региона Мергенову А.К.
A17: 14 | B17: 46038 | C17: 3 | D17: СФ | E17: СКО | F17: Тайыншинский район | G17: г.Тайынша | H17: Производственная санитария | I17: Не производится откачка септика | J17: Подпункт 4), пункт 2, ст.182 ТК РК | K17: 46082 | L17: исполнено | N17: Инженер 1 категории ОБиОТ Северного региона Поплавский Е.С. | O17: Региональному директору СФ Северного региона Мергенову А.К.
A18: 15 | B18: 46038 | C18: 4 | D18: ОДС | E18: СКО | F18: Тайыншинский район | G18: г.Тайынша | H18: Производственная санитария | I18: Дизельная: не проводится профилактика в помещении и на оборудовании | J18: Пункт 11.1 Правил по БиОТ в помещениях с установленным телекоммуникационным оборудованием СТ АО 80429 – 1/034 – 2024 | K18: 46054 | L18: исполнено | N18: Инженер 1 категории ОБиОТ Северного региона Поплавский Е.С. | O18: Директору СК ДЭСД Елисееву С.Г.
A19: 16 | B19: 46038 | C19: 4 | D19: ОДС | E19: СКО | F19: Тайыншинский район | G19: г.Тайынша | H19: Промышленная безопасность | I19: Дизельная: не работает аварийное освещение | J19: Распоряжение №253 от 31.10.2025г.(приложение 3) Правила по безопасности и охране труда при работе в помещениях с установленным телекоммуникационным оборудованием. Пункт 189 | K19: 46054 | L19: исполнено | N19: Инженер 1 категории ОБиОТ Северного региона Поплавский Е.С. | O19: Директору СК ДЭСД Елисееву С.Г.
A20: 17 | B20: 46038 | C20: 4 | D20: ОДС | E20: СКО | F20: Тайыншинский район | G20: г.Тайынша | H20: Электробезопасность | I20: В помещении старой дизельной оголены и не упорядочены электрические провода и кабели. Электрический щиток не закрыт | J20: Распоряжение №253 от 31.10.2025г.(приложение 3) Правила по безопасности и охране труда при работе в помещениях с установленным телекоммуникационным оборудованием. Пункты 46, 47 | K20: 46082 | L20: просрочено | N20: Инженер 1 категории ОБиОТ Северного региона Поплавский Е.С. | O20: Директору СК ДЭСД Елисееву С.Г.
A21: 18 | B21: 46038 | C21: 4 | D21: ОДС | E21: СКО | F21: Тайыншинский район | G21: г.Тайынша | H21: Электробезопасность | I21: В КСУ перед ВКО напряжением выше 42 В переменного тока отсутствует резиновый диэлектрический коврик | J21: Распоряжение №253 от 31.10.2025г.(приложение 3) Правила по безопасности и охране труда при работе в помещениях с установленным телекоммуникационным оборудованием. Пункт 55 | K21: 46054 | L21: исполнено | N21: Инженер 1 категории ОБиОТ Северного региона Поплавский Е.С. | O21: Директору СК ДЭСД Елисееву С.Г.
A22: 19 | B22: 46038 | C22: 4 | D22: ОДС | E22: СКО | F22: Тайыншинский район | G22: г.Тайынша | H22: Производственная санитария | I22: В помещении монтерской комнаты не работает сушильный шкаф для одежды и обуви | J22: СТ АО 80429 – 1/019 –2024 Требования к санитарно-гигиеническим помещениям в филиалах АО «Казахтелеком», пункт 6.3 | K22: 46054 | L22: просрочено | N22: Инженер 1 категории ОБиОТ Северного региона Поплавский Е.С. | O22: Директору СК ДЭСД Елисееву С.Г.
A23: 20 | B23: 46038 | C23: 4 | D23: ОДС | E23: СКО | F23: Тайыншинский район | G23: г.Тайынша | H23: СИЗ | I23: Вновь принятые электромонтеры ЛСЭ Седлецкий Г.В., Петрухин А.Н. не обеспечены ручным инструментом | J23: Распоряжение №200 от 03.09.2025г.(приложение 1) Правила по безопасности и охране труда при работе на воздушных линиях связи. Пункт 4 | K23: 46082 | L23: исполнено | N23: Инженер 1 категории ОБиОТ Северного региона Поплавский Е.С. | O23: Директору СК ДЭСД Елисееву С.Г.
A24: 21 | B24: 46038 | C24: 4 | D24: ОДС | E24: СКО | F24: Тайыншинский район | G24: г.Тайынша | H24: СИЗ | I24: На момент проверки у электромонтера ЛСЭ Оспан Н.К. не рабочий индикатор напряжения | J24: Распоряжение №200 от 03.09.2025г.(приложение 1) Правила по безопасности и охране труда при работе на воздушных линиях связи. Пункт 11, подпункт 3 | K24: 46038 | L24: исполнено | N24: Инженер 1 категории ОБиОТ Северного региона Поплавский Е.С. | O24: Директору СК ДЭСД Елисееву С.Г.
... A40: 37 | B40: 46044 | C40: 5 | D40: СФ | E40: Костанайская | F40: Карасуский район | G40: Карасу | H40: Производственная санитария | I40: Не производиться откачка септика здания ЛТЦ | J40: П.1 статьи 181, П.2 статьи 182 Трудового кодекса РК | K40: 46068 | L40: исполнено | N40: Ведущий инженер ОБиОТ Северного региона Книга А.В. | O40: Региональному директору СР СФ Мергенову А.К.
A41: 38 | B41: 46044 | C41: 6 | D41: ОДС | E41: Костанайская | F41: Карасуский район | G41: Карасу | H41: Промышленная безопасность | I41: На момент проверки у электромонтера ЛТЦ Авдощенко В.В- не читаемая подпись в удостоверии по БиОТ, не затянут серп , затуплены шипы на монтерских когтях | J41: Правила по проведению четырехступенчатого контроля за состоянием Безопасности и охраны труда в филиалах АО «Казахтелеком» Распоряжение № 253 от 31.10.2025 п 5.2.5 | K41: 30.01.2026г | L41: исполнено | N41: Ведущий инженер ОБиОТ Северного региона Книга А.В. | O41: Директору Костанайского ДЭСД Искакову С.К.
A42: 39 | B42: 46044 | C42: 6 | D42: ОДС | E42: Костанайская | F42: Карасуский район | G42: Карасу | H42: Промышленная безопасность | I42: На момент проверки у кабельщика – спайщика Мосиенко М.Н. – поломана площадка на монтерских когтях | J42: Правила по проведению четырехступенчатого контроля за состоянием Безопасности и охраны труда в филиалах АО «Казахтелеком» Распоряжение № 253 от 31.10.2025 п 5.2.6 | K42: 30.01.2026г | L42: исполнено | N42: Ведущий инженер ОБиОТ Северного региона Книга А.В. | O42: Директору Костанайского ДЭСД Искакову С.К.
A43: 40 | B43: 46044 | C43: 6 | D43: ОДС | E43: Костанайская | F43: Карасуский район | G43: Карасу | H43: Промышленная безопасность | I43: На момент проверки у кабельщика – спайщика Самсонова А. Ю. изношены фиксирующие ремни на монтерских когтях | J43: Правила по проведению четырехступенчатого контроля за состоянием Безопасности и охраны труда в филиалах АО «Казахтелеком» Распоряжение № 253 от 31.10.2025 п 5.2.7 | K43: 30.01.2026г | L43: исполнено | N43: Ведущий инженер ОБиОТ Северного региона Книга А.В. | O43: Директору Костанайского ДЭСД Искакову С.К.
A44: 41 | B44: 46044 | C44: 6 | D44: ОДС | E44: Костанайская | F44: Карасуский район | G44: Карасу | H44: Обучение и инструктажи | I44: ЦЭиК Журнал регистрации инструктажа по БиОТ на рабочем месте - не правильно указан год проведения год при проведении повторного инструктажа за 1 квартал 2026г. | J44: Правила проведения обучения, инструктирования и проверки знаний работников АО «Казахтелеком» по вопросам безопасности и охраны труда Распоряжение № 253 от 31.10.2025 Приложение 7 | K44: 30.01.2026г | L44: исполнено | N44: Ведущий инженер ОБиОТ Северного региона Книга А.В. | O44: Директору Костанайского ДЭСД Искакову С.К.
A45: 42 | B45: 46044 | C45: 6 | D45: ОДС | E45: Костанайская | F45: Карасуский район | G45: Карасу | H45: Электробезопасность | I45: Журнал учета, проверки и испытаний электроинструмента и вспомогательного оборудования к нему – не заведен | J45: Приказ Министра энергетики Республики Казахстан от 16 марта 2015 года № 204. Зарегистрирован в Министерстве юстиции Республики Казахстан 23 апреля 2015 года № 10789 Приложение 1 | K45: 30.01.2026г | L45: исполнено | N45: Ведущий инженер ОБиОТ Северного региона Книга А.В. | O45: Директору Костанайского ДЭСД Искакову С.К.
A46: 43 | B46: 46044 | C46: 6 | D46: ОДС | E46: Костанайская | F46: Карасуский район | G46: Карасу | H46: Пожарная безопасность | I46: Расположение огнетушителей, не соответствует Плану эвакуации 1-2этажей | J46: Приказ Министра по чрезвычайным ситуациям Республики Казахстан от 21 февраля 2022 года № 55 приложение 2 | K46: 30.01.2026г | L46: исполнено | N46: Ведущий инженер ОБиОТ Северного региона Книга А.В. | O46: Директору Костанайского ДЭСД Искакову С.К.
A47: 44 | B47: 46045 | C47: 7 | D47: ДРБ | E47: Костанайская | F47: Карасуский район | G47: Карасу | H47: Обучение и инструктажи | I47: Журнал регистрации инструктажа по БиОТ на рабочем месте - не указана дата проведения повторного инструктажа за 1 квартал 2026г. | J47: Правила проведения обучения, инструктирования и проверки знаний работников АО «Казахтелеком» по вопросам безопасности и охраны труда Распоряжение № 253 от 31.10.2025 Приложение 7 | K47: 10.02.2026г | L47: исполнено | N47: Ведущий инженер ОБиОТ Северного региона Книга А.В. | O47: Коммерческому Директору В2С сегмента СР Ляпуновой А.В.
A48: 45 | B48: 46045 | C48: 7 | D48: ДРБ | E48: Костанайская | F48: Карасуский район | G48: Карасу | H48: Пожарная безопасность | I48: На складе отсутствует табличка с указанием категории помещения и не указан ответственный работник | J48: П.12 Правила пожарной безопасности, утв. Приказом Министра по чрезвычайным ситуациям Республики Казахстан от 21 февраля 2022 года № 55. | K48: 10.02.2026г | L48: исполнено | N48: Ведущий инженер ОБиОТ Северного региона Книга А.В. | O48: Коммерческому Директору В2С сегмента СР Ляпуновой А.В.
A49: 46 | B49: 46045 | C49: 7 | D49: ДРБ | E49: Костанайская | F49: Карасуский район | G49: Карасу | H49: Промышленная безопасность | I49: Установленный в складе стеллаж не предназначен для хранения кабеля, проводов и материалов. | J49: П. 7 Требования к эксплуатации стеллажей СТ АО 80429-1/043-2024. п. 21 Правила пожарной безопасности, утв. Приказом Министра по чрезвычайным ситуациям Республики Казахстан от 21 февраля 2022 года № 55 | K49: 10.02.2026г | L49: исполнено | N49: Ведущий инженер ОБиОТ Северного региона Книга А.В. | O49: Коммерческому Директору В2С сегмента СР Ляпуновой А.В.
A50: 47 | B50: 46044 | C50: 8 | D50: ДРБ | E50: Костанайская | F50: г.Аркалык | G50: г.Аркалык | H50: Обучение и инструктажи | I50: Журнал регистрации инструктажа по пожарной безопасности не проведен повторный инструктаж за 1 квартад | J50: п.81 Правила проведения обучения, инструктирования и проверки знаний работников АО «Казахтелеком» по вопросам безопасности и охраны труда Распоряжение № 253 от 31.10.2025 Приложение 7 | K50: 30.01.2026г | L50: исполнено | N50: Инженер ОБиОТ Северного региона Адырбаев Ж.А. | O50: Коммерческому Директору В2С сегмента СР Ляпуновой А.В.
A51: 48 | B51: 46044 | C51: 8 | D51: ДРБ | E51: Костанайская | F51: г.Аркалык | G51: г.Аркалык | H51: основные док-ты по БиОТ (приказы распоряжения) | I51: Журнал регистрации инструктажа на рабочем месте не проведен повторный инструктаж за 1 квартад | J51: п.51 Правила проведения обучения, инструктирования и проверки знаний работников АО «Казахтелеком» по вопросам безопасности и охраны труда Распоряжение № 253 от 31.10.2025 Приложение 7 | K51: 30.01.2026г | L51: исполнено | N51: Инженер ОБиОТ Северного региона Адырбаев Ж.А. | O51: Коммерческому Директору В2С сегмента СР Ляпуновой А.В.
A52: 49 | B52: 46044 | C52: 8 | D52: ДРБ | E52: Костанайская | F52: г.Аркалык | G52: г.Аркалык | H52: Пожарная безопасность | I52: ОУ не прошли ежегодную проверку (взвешивание и осмотр) | J52: П.18 Глава 1 Правила пожарной безопасности №55 от 21.02.2022 Пункт 6.1.2,8.2СТ РК 1487-2006 | K52: 30.01.2026г | L52: исполнено | N52: Инженер ОБиОТ Северного региона Адырбаев Ж.А. | O52: Коммерческому Директору В2С сегмента СР Ляпуновой А.В.
A53: 50 | B53: 46045 | C53: 9 | D53: ОДС | E53: СКО | F53: г.Петропавловск | G53: г.Петропавловск | H53: Пожарная безопасность | I53: Истек срок действия сертификата по ПТМ у руководителя. | J53: п.73.Правила проведения обучения, инструктирования и проверки знаний работников АО «Казахтелеком» по вопросам безопасности и охраны труда, промышленной безопасности, пожарной безопасности, электробезопасности СТ АО 80429-1/009/– 2024. | K53: 46059 | L53: исполнено | N53: Инженер 1 категории ОБиОТ Северного региона Шаймарданов А.С. | O53: Директору СК ДЭСД Елисееву С.Г.
A54: 51 | B54: 46045 | C54: 9 | D54: ОДС | E54: СКО | F54: г.Петропавловск | G54: г.Петропавловск | H54: Обучение и инструктажи | I54: Работники службы СТПиУ не ознакомлен под роспись с инструкциями по БиОТ в листе ознакомления на бумажном носителе. | J54: Приказ № 39 от 20.02.2024 СТ АО 80429 – 1/029 – 2024 Сборник инструкций по безопасности и охране труда по видам работ в подразделениях филиалов АО «Казахтелеком. СТ АО 80429 – 1/030 – 2024 Сборник инструкций по безопасности и охране труда по профессиям подразделений филиалов АО «Казахтелеком. | K54: 46059 | L54: исполнено | N54: Инженер 1 категории ОБиОТ Северного региона Шаймарданов А.С. | O54: Директору СК ДЭСД Елисееву С.Г.
A55: 52 | B55: 46045 | C55: 10 | D55: ДИТ | E55: СКО | F55: г.Петропавловск | G55: г.Петропавловск | H55: основные док-ты по БиОТ (приказы распоряжения) | I55: Во второй ступени журнала четырехступенчатого контроля отсутствует росписи членов комиссии. от 22.10.2025г. от 26.11.2025г. | J55: Правила по проведению четырехступенчатого контроля за состоянием БиОТ в филиалах АО «Казахтелеком», Распоряжение № 253 от 31.10.2025г., | K55: 46052 | L55: исполнено | N55: Инженер 1 категории ОБиОТ Северного региона Шаймарданов А.С. | O55: Начальнику отдела Киргизбаеву А.И.
A56: 53 | B56: 46045 | C56: 11 | D56: ДУП | E56: СКО | F56: г.Петропавловск | G56: г.Петропавловск | H56: Обучение и инструктажи | I56: Журнал регистрации инструктажа по безопасности и охране труда на рабочем месте не прошнурован, не скреплен печатью/подписью | J56: п.64 Правил проведения обучения, инструктирования и проверки знаний работников АО «Казахтелеком» по вопросам безопасности и охраны труда, промышленной безопасности, пожарной безопасности, электробезопасности СТ АО 80429-1/009/– 2024 | K56: 46059 | L56: исполнено | N56: Инженер 1 категории ОБиОТ Северного региона Шаймарданов А.С. | O56: Директору по строительству инфраструктуры ДУП Шотыкову Н.А.
...

Sheet Отчет
A3: п.п. № | B3: Наименование структурного подразделения | C3: Филиал | D3: Населенный пункт | E3: Регион | F3: Январь | K3: Февраль | P3: Март | U3: Апрель | Z3: Май | AE3: Июнь | AJ3: Июль | AO3: Август | AT3: Сентябрь | AY3: Октябрь | BD3: Ноябрь | BI3: Декабрь
F4: План | G4: Факт | H4: Указание (№, дата) | I4: Указание оформил | J4: Акт приостановки | K4: План | L4: Факт | M4: Указание (№, дата) | N4: Указание оформил | O4: Акт приостановки | P4: План | Q4: Факт | R4: Указание (№, дата) | S4: Указание оформил | T4: Акт приостановки | U4: План | V4: Факт | W4: Указание (№, дата) | X4: Указание оформил | Y4: Акт приостановки | Z4: План | AA4: Факт | AB4: Указание (№, дата) | AC4: Указание оформил | AD4: Акт приостановки | AE4: План | AF4: Факт | AG4: Указание (№, дата) | AH4: Указание оформил | AI4: Акт приостановки | AJ4: План | AK4: Факт | AL4: Указание (№, дата) | AM4: Указание оформил | AN4: Акт приостановки | AO4: План | AP4: Факт | AQ4: Указание (№, дата) | AR4: Указание оформил | AS4: Акт приостановки | AT4: План | AU4: Факт | AV4: Указание (№, дата) | AW4: Указание оформил | AX4: Акт приостановки | AY4: План | AZ4: Факт | BA4: Указание (№, дата) | BB4: Указание оформил | BC4: Акт приостановки | BD4: План | BE4: Факт | BF4: Указание (№, дата) | BG4: Указание оформил | BH4: Акт приостановки | BI4: План | BJ4: Факт | BK4: Указание (№, дата) | BL4: Указание оформил | BM4: Акт приостановки
A5: 1 | B5: ЦТО МС ДЭСД | C5: ОДС | D5: г.Костанай | E5: Северный | F5: 1 | G5: 1 | H5: 12 от 22.01.2026 | I5: Нурманов К.А. | K5: 1 | L5: 1 | M5: 35 от 12.02.2026 | N5: Нурманов К.А. | P5: 1 | Q5: 1 | R5: 116 от 30.03.2026 | S5: Нурманов К.А. | U5: 1 | V5: 2 | W5: 130 от 17.04.2026, 155 от 30.04.2026 | X5: Нурманов К.А. | Z5: 1 | AA5: 1 | AB5: № 192 от 29.05.2026 | AC5: Нурманов К.А. | AE5: 1 | AF5: 1 | AG5: №196 от 03.06.2026 | AH5: Вазарцева В.А. | AJ5: 1 | AK5: 1 | AL5: №240 от 03.07.2026 | AM5: Нурманов К.А. | AO5: 1 | AT5: 1 | AY5: 1 | BD5: 1 | BI5: 1
A6: 2 | B6: ЦЭиК ДЭСД | C6: ОДС | D6: г.Костанай | E6: Северный | K6: 1 | L6: 1 | M6: 27 от 09.02.2026 | N6: Нурманов К.А. | U6: 1 | V6: 1 | W6: 153 от 24.04.2026 | X6: Нурманов К.А. | AE6: 1 | AF6: 1 | AG6: №226 от 26.06.2026 | AH6: Нурманов К.А. | AO6: 1 | AY6: 1 | BI6: 1
A7: 3 | B7: ЦТПСР ДЭСД | C7: ОДС | D7: г.Костанай | E7: Северный | F7: 1 | G7: 1 | H7: 17 от 26.01.2026 | I7: Нурманов К.А. | U7: 1 | V7: 1 | W7: 140 от 16.04.2026 | X7: Нурманов К.А. | AJ7: 1 | AK7: 1 | AL7: №269 от 28.07.2026 | AM7: Вазарцева В.А. | AY7: 1
A8: 4 | B8: ТУСМ-8 | C8: ОДС | D8: г.Костанай | E8: Северный | F8: 1 | G8: 1 | H8: 19 от 29.01.2026 | I8: Нурманов К.А. | U8: 1 | V8: 1 | W8: 124 от 09.04.2026 | X8: Нурманов К.А. | AJ8: 1 | AK8: 1 | AL8: №241 от 07.07.2026 | AM8: Нурманов К.А. | AY8: 1
A9: 5 | B9: СТУиП ДЭСД | C9: ОДС | D9: г.Костанай | E9: Северный | U9: 1 | V9: 1 | W9: 122 от 13.04.2026 | X9: Джурина Н.В. | AY9: 1
A10: 6 | B10: СЭиРСТ ДЭСД | C10: ОДС | D10: г.Костанай | E10: Северный | P10: 1 | Q10: 1 | R10: 80 от 12.03.2026 | S10: Джурина Н.В. | AE10: 1 | AF10: 1 | AG10: №225 от 25.06.2026 | AH10: Джурина Н.В. | AO10: 1 | AP10: 1 | AQ10: №278 от 05.08.2026 | AR10: Джурина Н.В. | BD10: 1
A11: 7 | B11: ДЭРТИ | C11: ОДС | D11: г.Костанай | E11: Северный | AT11: 1
A12: 8 | B12: УОД ДЭСД | C12: ОДС | D12: г.Костанай | E12: Северный | AJ12: 1 | AK12: 1 | AL12: №234 от 01.07.2026 | AM12: Вазарцева В.А.
A13: 9 | B13: ЦТО | C13: СФ | D13: г.Костанай | E13: Северный | F13: 1 | G13: 1 | H13: 16 от 26.01.2026 | I13: Нурманов К.А. | K13: 1 | L13: 1 | M13: 36 от 20.02.2026 | N13: Джурина Н.В. | O13: 1 | P13: 1 | Q13: 1 | R13: 85 от 16.03.2026 | S13: Джурина Н.В. | U13: 1 | V13: 1 | W13: 123 от 06.04.2026 | X13: Нурманов К.А. | Z13: 1 | AA13: 1 | AB13: № 178 от 28.05.2026 | AC13: Нурманов К.А. | AE13: 1 | AF13: 1 | AG13: 212 от 15.06.2026 | AH13: Джурина Н.В. | AJ13: 1 | AK13: 1 | AL13: №250 от 20.07.2026 | AM13: Джурина Н.В. | AO13: 1 | AT13: 1 | AY13: 1 | BD13: 1 | BI13: 1
A14: 10 | B14: ЦПХО | C14: СФ | D14: г.Костанай | E14: Северный | F14: 1 | G14: 1 | H14: 18 от 27.01.2026 | I14: Нурманов К.А. | U14: 1 | V14: 1 | W14: 152 от 23.04.2026 | X14: Нурманов К.А. | AJ14: 1 | AK14: 1 | AL14: №262 от 28.07.2026 | AM14: Джурина Н.В. | AY14: 1
A15: 11 | B15: ДИТ | C15: ДИТ | D15: г.Костанай | E15: Северный | Z15: 1 | AA15: 1 | AB15: № 163 от 19.05.2026 | AC15: Вазарцева В.А. | BI15: 1
A16: 12 | B16: ДУП | C16: ДУП | D16: г.Костанай | E16: Северный | Z16: 1 | AA16: 1 | AB16: № 179 от 28.05.2026 | AC16: Вазарцева В.А. | BI16: 1
A17: 13 | B17: ЦРУ ДИР | C17: ДРБ | D17: г.Костанай | E17: Северный | K17: 1 | L17: 1 | M17: 30 от 11.02.2026 | N17: Нурманов К.А. | U17: 1 | V17: 1 | W17: 128 от 10.04.2026 | X17: Нурманов К.А. | AE17: 1 | AF17: 1 | AG17: №214 от 16.06.2026 | AH17: Нурманов К.А. | AO17: 1 | AY17: 1 | BI17: 1
A18: 14 | B18: ПСС, ЦАП | C18: ДРБ | D18: г.Костанай | E18: Северный | F18: 1 | G18: 1 | H18: 20 от 30.01.2026 | I18: Нурманов К.А. | U18: 1 | V18: 1 | W18: 129 от 15.04.2026 | X18: Джрина Н.В. | AJ18: 1 | AK18: 1 | AL18: №235 от 01.07.2026 | AM18: Вазарцева В.А. | AY18: 1
A19: 15 | B19: ЦКП | C19: ДКБ | D19: г.Костанай | E19: Северный | K19: 1 | L19: 1 | M19: 31 от 16.02.2026 | N19: Джурина Н.В. | AT19: 1 | BI19: 1
A20: 16 | B20: УИиТР | C20: ДКБ | D20: г.Костанай | E20: Северный | K20: 1 | L20: 1 | M20: 39 от 20.02.2026 | N20: Нурманов К.А. | U20: 1 | V20: 1 | W20: 154 от 27.04.2026 | X20: Нурманов К.А. | AE20: 1 | AF20: 1 | AG20: №221 от 22.06.2026 | AH20: Вазарцева В.А. | AO20: 1 | AP20: 1 | AQ20: №285 от 17.08.2026 | AR20: Вазарцева В.А. | AY20: 1 | BI20: 1
A21: 17 | B21: ОКиСК | C21: ДТК | D21: г.Костанай | E21: Северный | Z21: 1 | AA21: 1 | AB21: 191 от 28.05.2026 | AC21: Нурманов К.А.
A22: 18 | B22: ГВБ | C22: КУ | D22: г.Костанай | E22: Северный | AT22: 1
A23: 19 | B23: СП | C23: КУ | D23: г.Костанай | E23: Северный | AT23: 1
A24: 20 | B24: ЛТУ, ЦЭиК, ЦТПСР | C24: ОДС | D24: с.Федоровка, Федоровский р-н | E24: Северный | P24: 1 | Q24: 1 | R24: 110 от 31.03.2026 | S24: Нурманов К.А. | AE24: 1 | AF24: 1 | AG24: №209 от 09.06.2026 | AH24: Вазарцева В.А. | AO24: 1 | AP24: 0 | AQ24: СЗ № VAVA-DX2DJ6 от 17.08.2026 | AR24: перенос на сентябрь | BD24: 1
A25: 21 | B25: ГП ЦРК | C25: ДРБ | D25: с.Федоровка, Федоровский р-н | E25: Северный | AE25: 1 | AF25: 1 | AG25: №207 от 08.06.2026 | AH25: Вазарцева В.А. | BD25: 1
A26: 22 | B26: ЦПХО, ЦТО | C26: СФ | D26: с.Федоровка, Федоровский р-н | E26: Северный | P26: 1 | Q26: 1 | R26: 111 от 31.03.2026 | S26: Нурманов К.А. | AE26: 1 | AF26: 1 | AG26: №208 от 08.06.2026 | AH26: Вазарцева В.А. | AO26: 1 | AP26: 0 | AQ26: СЗ № VAVA-DX2DJ6 от 17.08.2026 | AR26: перенос на сентябрь | BD26: 1
A27: 23 | B27: ЛТЦ, ЦЭиК, ЦТПСР | C27: ОДС | D27: п.Карабалык, Карабалыкский р-н | E27: Северный | P27: 1 | Q27: 1 | R27: 112 от 31.03.2026 | S27: Нурманов К.А. | AE27: 1 | AF27: 1 | AG27: №210 от 10.06.2026 | AH27: Нурманов К.А. | AO27: 1 | AP27: 0 | AQ27: СЗ № VAVA-DX2DJ6 от 17.08.2026 | AR27: перенос на сентябрь | BD27: 1
A28: 24 | B28: ГП ЦРК | C28: ДРБ | D28: п.Карабалык, Карабалыкский р-н | E28: Северный | AE28: 1 | AF28: 1 | AG28: №216 от 12.06.2026 | AH28: Нурманов К.А. | BD28: 1
A29: 25 | B29: ЦПХО, ЦТО | C29: СФ | D29: п.Карабалык, Карабалыкский р-н | E29: Северный | P29: 1 | Q29: 1 | R29: 113 от 31.03.2026 | S29: Нурманов К.А. | AE29: 1 | AF29: 1 | AG29: №211 от 11.06.2026 | AH29: Нурманов К.А. | AI29: №10 от 15.06.2026 | AO29: 1 | AP29: 0 | AQ29: СЗ № VAVA-DX2DJ6 от 17.08.2026 | AR29: перенос на сентябрь | BD29: 1
A30: 26 | B30: ЦПХО, ЦТО | C30: СФ | D30: г.Рудный | E30: Северный | K30: 1 | N30: Перенос на март, экзамены | Q30: 1 | R30: 75 от 04.03.2026 | S30: Нурманов К.А. | Z30: 1 | AA30: 1 | AB30: 162 от 05.05.2026 | AC30: Нурманов К.А. | AO30: 1 | AY30: 1
A31: 27 | B31: ГП ЦРК | C31: ДРБ | D31: г.Рудный | E31: Северный | Z31: 1 | AA31: 1 | AB31: 165 от 05.05.2026 | AC31: Нурманов К.А. | AY31: 1
A32: 28 | B32: ЦРУ ДИР | C32: ДРБ | D32: г.Рудный | E32: Северный | Z32: 1 | AA32: 1 | AB32: 164 от 05.05.2026 | AC32: Нурманов К.А. | AY32: 1
A33: 29 | B33: ЛТЦ, ЦЭиК, ЦТПСР | C33: ОДС | D33: г.Рудный | E33: Северный | K33: 1 | N33: Перенос на март, экзамены | Q33: 1 | R33: 74 от 04.03.2026 | S33: Нурманов К.А. | Z33: 1 | AA33: 1 | AB33: 161 от 05.05.2026 | AC33: Нурманов К.А. | AO33: 1 | AY33: 1
A34: 30 | B34: ТУСМ-8 | C34: ОДС | D34: г.Рудный | E34: Северный | K34: 1 | N34: Перенос на март, экзамены | Q34: 1 | R34: 76 от 06.03.2026 | S34: Нурманов К.А. | Z34: 1 | AA34: 1 | AB34: 166 от 06.05.2026 | AC34: Нурманов К.А. | AO34: 1 | AY34: 1
A35: 31 | B35: ЛТУ, ЦЭиК, ЦТПСР | C35: ОДС | D35: с.Айет, р-н им. Б.Майлина | E35: Северный | P35: 1 | Q35: 1 | R35: 114 от 31.03.2026 | S35: Нурманов К.А. | AE35: 1 | AF35: 1 | AG35: №218 от 18.09.2026 | AH35: Нурманов К.А. | AT35: 1 | BD35: 1
A36: 32 | B36: ГП ЦРК | C36: ДРБ | D36: с.Айет, р-н им. Б.Майлина | E36: Северный | AE36: 1 | AF36: 1 | AG36: №219 от 19.06.2026 | AH36: Нурманов К.А. | AT36: 1
A37: 33 | B37: ЦПХО, ЦТО | C37: СФ | D37: с.Айет, р-н им. Б.Майлина | E37: Северный | P37: 1 | Q37: 1 | R37: 115 от 31.03.2026 | S37: Нурманов К.А. | AE37: 1 | AF37: 1 | AG37: №220 от 19.06.2026 | AH37: Нурманов К.А. | AT37: 1 | BD37: 1
A38: 34 | B38: ЦРУ ДИР | C38: ДРБ | D38: г.Аркалык | E38: Северный | F38: 1 | G38: 1 | H38: №1 от 14.01.2026 | I38: Адырбаев Ж.А. | U38: 1 | V38: 1 | W38: №119 от 10.04.2026 | X38: Адырбаев Ж.А. | AJ38: 1 | AK38: 1 | AL38: №244 от 15.07.26г | AM38: Адырбаев Ж.А. | AY38: 1
A39: 35 | B39: ЛТУ, ЦТПСР, ЦЭиК | C39: ОДС | D39: г.Аркалык | E39: Северный | P39: 1 | S39: б/л Адырбаев Ж.А. перенос на апрель | U39: 1 | V39: 1 | W39: №118 от 10.04.2026 | X39: Адырбаев Ж.А. | Z39: 1 | AA39: 1 | AB39: №189 от 29.05.2026г | AC39: Адырбаев Ж.А. | AO39: 1 | BI39: 1
A40: 36 | B40: УТО, ЦПХО | C40: СФ | D40: г.Аркалык | E40: Северный | P40: 1 | Q40: 1 | R40: 61 от 03.03.2026 | S40: Адырбаев Ж.А. | U40: 1 | V40: 1 | W40: №141 от 23.04.2026 | X40: Адырбаев Ж.А. | AJ40: 1 | AK40: 1 | AL40: №269 от 24.07.26г | AM40: Адырбаев Ж.А. | BD40: 1
A41: 37 | B41: ГП ЦРК | C41: ДРБ | D41: г.Аркалык | E41: Северный | F41: 1 | G41: 1 | H41: №8 от 22.01.2026 | I41: Адырбаев Ж.А | Z41: 1 | AA41: 1 | AB41: №190 от 29.05.2026г | AC41: Адырбаев Ж.А. | AJ41: 1 | AK41: 1 | AL41: №243 от 15.07.26г | AM41: Адырбаев Ж.А. | AY41: 1
A42: 38 | B42: УИТР | C42: ДКБ | D42: г.Аркалык | E42: Северный | F42: 1 | G42: 1 | H42: №21 от 30.01.2026 | I42: Адырбаев Ж.А. | AY42: 1
...

Sheet Лист2

Sheet Лист3

Sheet Total
B1: Отчет по устранению замечаний по проверкам Отдела БиОТ
B2: Филиалы | C2: Период | G2: Примечание
B3: 2025
C4: итого | D4: на контроле | E4: исполнено | F4: просрочено
C5: =SUM(D5:F5) -> 3207 | D5: =SUM(D6:D16) -> 358 | E5: =SUM(E6:E16) -> 2220 | F5: =SUM(F6:F16) -> 629
A6: 1 | B6: ДРБ | C6: =SUM(D6:F6) -> 242 | D6: =COUNTIFS('Описание'!D1:D6927, "ДРБ", 'Описание'!L1:L6927, "на контроле") -> 2 | E6: =COUNTIFS('Описание'!D1:D6927, "ДРБ", 'Описание'!L1:L6927, "исполнено") -> 190 | F6: =COUNTIFS('Описание'!D1:D6927, "ДРБ", 'Описание'!L1:L6927, "просрочено") -> 50
A7: 2 | B7: КУ | C7: =SUM(D7:F7) -> 8 | D7: =COUNTIFS('Описание'!D1:D6928, "КУ", 'Описание'!L1:L6928, "на контроле") -> 0 | E7: =COUNTIFS('Описание'!D1:D6928, "КУ", 'Описание'!L1:L6928, "исполнено") -> 0 | F7: =COUNTIFS('Описание'!D1:D6927, "КУ", 'Описание'!L1:L6927, "просрочено") -> 8
A8: 3 | B8: ДИТ | C8: =SUM(D8:F8) -> 12 | D8: =COUNTIFS('Описание'!D1:D6929, "ДИТ", 'Описание'!L1:L6929, "на контроле") -> 0 | E8: =COUNTIFS('Описание'!D1:D6929, "ДИТ", 'Описание'!L1:L6929, "исполнено") -> 12 | F8: =COUNTIFS('Описание'!D1:D6929, "ДИТ", 'Описание'!L1:L6929, "просрочено") -> 0
A9: 4 | B9: ДКБ | C9: =SUM(D9:F9) -> 86 | D9: =COUNTIFS('Описание'!D1:D6930, "ДКБ", 'Описание'!L1:L6930, "на контроле") -> 7 | E9: =COUNTIFS('Описание'!D1:D6930, "ДКБ", 'Описание'!L1:L6930, "исполнено") -> 74 | F9: =COUNTIFS('Описание'!D1:D6930, "ДКБ", 'Описание'!L1:L6930, "просрочено") -> 5
A10: 5 | B10: ДЦБ | C10: =SUM(D10:F10) -> 7 | D10: =COUNTIFS('Описание'!D1:D6931, "ДЦБ", 'Описание'!L1:L6931, "на контроле") -> 6 | E10: =COUNTIFS('Описание'!D1:D6931, "ДЦБ", 'Описание'!L1:L6931, "исполнено") -> 1 | F10: =COUNTIFS('Описание'!D1:D6931, "ДЦБ", 'Описание'!L1:L6931, "просрочено") -> 0
A11: 6 | B11: ЦА | C11: =SUM(D11:F11) -> 0 | D11: =COUNTIFS('Описание'!D1:D6932, "ЦА", 'Описание'!L1:L6932, "на контроле") -> 0 | E11: =COUNTIFS('Описание'!D1:D6932, "ЦА", 'Описание'!L1:L6932, "исполнено") -> 0 | F11: =COUNTIFS('Описание'!D1:D6932, "ЦА", 'Описание'!L1:L6932, "просрочено") -> 0
A12: 7 | B12: ДПБ | C12: =SUM(D12:F12) -> 0 | D12: =COUNTIFS('Описание'!D1:D6933, "ДПБ", 'Описание'!L1:L6933, "на контроле") -> 0 | E12: =COUNTIFS('Описание'!D1:D6933, "ДПБ", 'Описание'!L1:L6933, "исполнено") -> 0 | F12: =COUNTIFS('Описание'!D1:D6933, "ДПБ", 'Описание'!L1:L6933, "просрочено") -> 0
A13: 8 | B13: ОДС | C13: =SUM(D13:F13) -> 1627 | D13: =COUNTIFS('Описание'!D1:D6934, "ОДС", 'Описание'!L1:L6934, "на контроле") -> 162 | E13: =COUNTIFS('Описание'!D1:D6934, "ОДС", 'Описание'!L1:L6934, "исполнено") -> 1378 | F13: =COUNTIFS('Описание'!D1:D6934, "ОДС", 'Описание'!L1:L6934, "просрочено") -> 87
A14: 9 | B14: ДУП | C14: =SUM(D14:F14) -> 26 | D14: =COUNTIFS('Описание'!D1:D6935, "ДУП", 'Описание'!L1:L6935, "на контроле") -> 3 | E14: =COUNTIFS('Описание'!D1:D6935, "ДУП", 'Описание'!L1:L6935, "исполнено") -> 10 | F14: =COUNTIFS('Описание'!D1:D6935, "ДУП", 'Описание'!L1:L6935, "просрочено") -> 13
A15: 10 | B15: ДТК | C15: =SUM(D15:F15) -> 9 | D15: =COUNTIFS('Описание'!D1:D6936, "ДТК", 'Описание'!L1:L6936, "на контроле") -> 0 | E15: =COUNTIFS('Описание'!D1:D6936, "ДТК", 'Описание'!L1:L6936, "исполнено") -> 2 | F15: =COUNTIFS('Описание'!D1:D6936, "ДТК", 'Описание'!L1:L6936, "просрочено") -> 7
A16: 11 | B16: СФ | C16: =SUM(D16:F16) -> 1190 | D16: =COUNTIFS('Описание'!D1:D6937, "СФ", 'Описание'!L1:L6937, "на контроле") -> 178 | E16: =COUNTIFS('Описание'!D1:D6937, "СФ", 'Описание'!L1:L6937, "исполнено") -> 553 | F16: =COUNTIFS('Описание'!D1:D6937, "СФ", 'Описание'!L1:L6937, "просрочено") -> 459

Sheet Указание
C3: Кому: | D3: =IFERROR(__xludf.DUMMYFUNCTION("UNIQUE(FILTER('Описание'!O:O, 'Описание'!C:C=C5))"),"Региональному менеджеру ДРБ ДИР Савину С.Л.") -> Региональному менеджеру ДРБ ДИР Савину С.Л.
H4: В ПОЛЕ "УКАЗАНИЯ №" - ВСТАВЬТЕ номер
B5: УКАЗАНИЕ № | C5: 119
A7: Отдела безопасности и охраны труда Северного региона ДПБ филиала АО «Казахтелеком»
B9: от | C9: {=IFERROR(INDEX('Описание'!B:B, MATCH('Указание'!C5, 'Описание'!C:C, 0)), "")} -> 46122
B11: В соответствии с подпунктом 3) пункта 4 статьи 202 Трудового кодекса Республики Казахстан от 23 ноября 2015 года требую устранить следующие нарушения требований безопасности и охраны труда: | H11: ВСЕ ОСТАЛЬНЫЕ ПОЛЯ ТРЕБУЮЩИЕ РЕДАКТИРОВАНИЯ - НЕ ЗАПОЛНЯТЬ
A13: № п/п | B13: Выявленные нарушения и требования по их устранению | C13: Основание (законодательство) | D13: Сроки исполнения | E13: Примечания
A14: =IFERROR(__xludf.DUMMYFUNCTION("UNIQUE(FILTER('Описание'!G:G, 'Описание'!C:C=C5))"),"г.Аркалык") -> г.Аркалык
A15: =ROW(A16)-15 -> 1 | B15: =IFERROR(__xludf.DUMMYFUNCTION("UNIQUE(FILTER('Описание'!I:I, 'Описание'!C:C=C5))"),"Журнал регистрации инструктажа по пожарной безопасности не обновлен титульный лист") -> Журнал регистрации инструктажа по пожарной безопасности не обновлен титульный лист | C15: =IFERROR(__xludf.DUMMYFUNCTION("(FILTER('Описание'!J:J, 'Описание'!C:C=C5))"),"Приложение 1 к «КТ/ДП-08-04-01 Документированная процедура. «Управление документированной информацией», утвержденной приказом Председателя Правления АО «Казахтелеком» от 02.02.2026г № 9 ") -> Приложение 1 к «КТ/ДП-08-04-01 Документированная процедура. «Управление документированной информацией», утвержденной приказом Председателя Правления АО «Казахтелеком» от 02.02.2026г № 9 | D15: =IFERROR(__xludf.DUMMYFUNCTION("FILTER('Описание'!K:K, 'Описание'!C:C=C5)"),"20.04.2026г") -> 20.04.2026г | E15: =IFERROR(__xludf.DUMMYFUNCTION("UNIQUE(FILTER('Описание'!M:M, 'Описание'!C:C=C5))"),"")
A16: =ROW(A17)-15 -> 2 | B16: =IFERROR(__xludf.DUMMYFUNCTION("""COMPUTED_VALUE"""),"Журнал регистрации инструктажа на рабочем месте не обновлен титульный лист") -> Журнал регистрации инструктажа на рабочем месте не обновлен титульный лист | C16: =IFERROR(__xludf.DUMMYFUNCTION("""COMPUTED_VALUE"""),"Приложение 1 к «КТ/ДП-08-04-01 Документированная процедура. «Управление документированной информацией», утвержденной приказом Председателя Правления АО «Казахтелеком» от 02.02.2026г № 9 ") -> Приложение 1 к «КТ/ДП-08-04-01 Документированная процедура. «Управление документированной информацией», утвержденной приказом Председателя Правления АО «Казахтелеком» от 02.02.2026г № 9 | D16: =IFERROR(__xludf.DUMMYFUNCTION("""COMPUTED_VALUE"""),"20.04.2026г") -> 20.04.2026г | I16: ДАННЫЕ ВНОСИТЬ В ЛИСТЕ "ОПИСАНИЕ"
A17: =ROW(A18)-15 -> 3 | B17: =IFERROR(__xludf.DUMMYFUNCTION("""COMPUTED_VALUE"""),"У эл.монтера Кашкымбаева К. на инструменте с изолирующими рукоятками отсутствует бирка о проведении испытания") -> У эл.монтера Кашкымбаева К. на инструменте с изолирующими рукоятками отсутствует бирка о проведении испытания | C17: =IFERROR(__xludf.DUMMYFUNCTION("""COMPUTED_VALUE"""),"п.86 Правил по безопасности и охране труда при работе в помещениях с установленным телекоммуникационным оборудованием Распоряжение № 253 от 31.10.2025 (Приложение 3)") -> п.86 Правил по безопасности и охране труда при работе в помещениях с установленным телекоммуникационным оборудованием Распоряжение № 253 от 31.10.2025 (Приложение 3) | D17: =IFERROR(__xludf.DUMMYFUNCTION("""COMPUTED_VALUE"""),"20.04.2026г") -> 20.04.2026г
A18: =ROW(A19)-15 -> 4 | B18: =IFERROR(__xludf.DUMMYFUNCTION("""COMPUTED_VALUE"""),"Отсутствует табличка с указанием категории помещения и не указан ответственный работник") -> Отсутствует табличка с указанием категории помещения и не указан ответственный работник | C18: =IFERROR(__xludf.DUMMYFUNCTION("""COMPUTED_VALUE"""),"П.12 Правила пожарной безопасности, утв. Приказом Министра по чрезвычайным ситуациям Республики Казахстан от 21 февраля 2022 года № 55.") -> П.12 Правила пожарной безопасности, утв. Приказом Министра по чрезвычайным ситуациям Республики Казахстан от 21 февраля 2022 года № 55. | D18: =IFERROR(__xludf.DUMMYFUNCTION("""COMPUTED_VALUE"""),"20.04.2026г") -> 20.04.2026г
A19: =ROW(A20)-15 -> 5
A20: =ROW(A21)-15 -> 6
A21: =ROW(A22)-15 -> 7
A22: =ROW(A23)-15 -> 8
A23: =ROW(A24)-15 -> 9
A24: =ROW(A25)-15 -> 10
B26: О выполнении указания по истечении 3 дней после указанных в нем сроков
B28: представить письменное сообщение с приложением фото в ОБиОТ региона (работнику который выдал Указание)
B30: В соответствии с пунктом 4 статьи 202 ТК РК указания по БиОТ обязательны к исполнению работниками Общества
B32: Указание выдал | C32: {=IFERROR(INDEX('Описание'!N:N, MATCH('Указание'!C5, 'Описание'!C:C, 0)), "")} -> Инженер ОБиОТ Северного региона Адырбаев Ж.А.
D33: (подпись) (Ф.И.О.)
B35: Указание получил | C35: {=IFERROR(INDEX('Описание'!O:O, MATCH('Указание'!C5, 'Описание'!C:C, 0)), "")} -> Региональному менеджеру ДРБ ДИР Савину С.Л.
D37: (подпись) (Ф.И.О)

Sheet справочник
B1: Филиал | D1: Статус исполнения | F1: Категория нарушения
B2: ДРБ | D2: на контроле | F2: Пожарная безопасность
B3: КУ | D3: исполнено | F3: Промышленная безопасность
B4: ДИТ | D4: просрочено | F4: Электробезопасность
B5: ДКБ | F5: Транспортная безопасность
B6: ДЦБ | F6: СИЗ
B7: ЦА | F7: Наряд-допуска
B8: ДПБ | F8: Производственная санитария
B9: ОДС | F9: Обучение и инструктажи
B10: ДУП | F10: основные док-ты по БиОТ (приказы распоряжения)
B11: ДТК
B12: СФ
B14: АР | D14: Районы
C15: 1 | D15: г.Алматы
C16: 2 | D16: г.Конаев
C17: 3 | D17: г.Талдыкорган
C18: 4 | D18: г.Текели
C19: 5 | D19: Енбекшиказахский район
C20: 6 | D20: Карасайский район
C21: 7 | D21: Кегенский район
C22: 8 | D22: Балхашский район
C23: 9 | D23: Талгарский район
C24: 10 | D24: Жамбылский район
C25: 11 | D25: Илийский район
C26: 12 | D26: Раимбекский район
... C35: 21 | D35: Коксуйский район
B38: ВР | D38: Районы
C39: 1 | D39: г.Усть-Каменогорск | F39: Начальник Отдела БиОТ Северного региона Сапрыкин А.А.
C40: 2 | D40: г.Семей | F40: Ведущий инженер ОБиОТ Северного региона Ванин М.М.
C41: 3 | D41: г.Павлодар | F41: Ведущий инженер ОБиОТ Северного региона Джурина Н.В.
C42: 4 | D42: г.Экибастуз | F42: Ведущий инженер ОБиОТ Северного региона Книга А.В.
C43: 5 | D43: г.Аксу | F43: Инженер 2 категории ОБиОТ Северного региона Платонова Е.В.
C44: 6 | D44: г.Риддер | F44: Инженер 1 категории ОБиОТ Северного региона Ляшенко А.Л.
C45: 7 | D45: Алтайский район | F45: Инженер 1 категории ОБиОТ Северного региона Поплавский Е.С.
C46: 8 | D46: Глубоковский район | F46: Инженер 1 категории ОБиОТ Северного региона Шаймарданов А.С.
C47: 9 | D47: Зайсанский район | F47: Инженер ОБиОТ Северного региона Адырбаев Ж.А.
C48: 10 | D48: Катон-Карагайский район | F48: Инженер 2 категории ОБиОТ Северного региона Нурманов К.А.
C49: 11 | D49: Куршимский район | F49: Инженер 1 категории ОБиОТ Северного региона Вазарцева В.А.
C50: 12 | D50: Самарский район
C51: 13 | D51: Уланский район
...
