Workbook
Name \: [1]КОМандировка!#REF!
Name \0: #REF!
Name \a: #REF!
Name \B: #REF!
Name \C: #REF!
Name \E: #REF!
Name \I: #REF!
Name \m: #REF!
Name \n: #REF!
Name \o: #REF!
Name \P: #REF!
Name \R: #REF!
Name \Y: #REF!
Name \Z: #REF!
Name ______A16491: #REF!
Name ______A66000: #REF!
Name ______B16491: #REF!
Name ______CST11: #REF!
Name ______CST12: #REF!
Name ______CST13: #REF!
Name ______CST14: #REF!
Name ______CST15: #REF!
Name ______CST21: #REF!
Name ______CST22: #REF!
Name ______CST23: #REF!
Name ______CST24: #REF!
Name ______CST25: #REF!
Name ______dat110: #REF!
Name ______dat120: #REF!
Name ______dat210: #REF!
Name ______dat220: #REF!
Name ______dat310: #REF!
Name ______dat320: #REF!
Name ______dat410: #REF!
Name ______dat420: #REF!
Name ______FXA1: #REF!
Name ______FXA11: #REF!
Name ______FXA2: #REF!
Name ______FXA21: #REF!
Name ______IRR1: #REF!
Name ______KRD1: #REF!
Name ______KRD2: #REF!
Name ______LIS1: #REF!
Name ______NPV1: #REF!
Name ______PR11: #REF!
Name ______PR12: #REF!
Name ______PR13: #REF!
Name ______PR14: #REF!
Name ______PR21: #REF!
Name ______PR22: #REF!
Name ______PR23: #REF!
Name ______PR24: #REF!
Name ______qq1: #REF!
Name ______SAL1: #REF!
Name ______SAL2: #REF!
Name ______SAL3: #REF!
Name ______SAL4: #REF!
Name ______tab1: #REF!
Name ______tab10: #REF!
Name ______tab11: #REF!

Sheet Инструкция
B1: ОСНОВНЫЕ ПРАВИЛА
B2: НЕЛЬЗЯ менять структуру файла (не добавлять/удалять ни столбцы ни строки ни ячейки, не трогать формулы) | C2: Если найдете ошибку в формуле, пжл сообщите об этом письменно
B3: Можно добавить строки только в листы: * ПНР "Другие производственные расходы (расшифровать)" ниже строки 18 * ДОАР "Прочие потери и другие расходы (расшифровать)" строки 71 * РР_Другие "Другие" ниже строки 12 * Расшифровка по доходам * Сервисные контракты * Расчет по амортизации (для АО) со строки 19
B4: Никто ни за какой дивизион ничего планировать НЕ БУДЕТ. Поэтому если у вас есть факт, но вы не запланировали план, то это ваша ошибка
B5: По всем Централизованным расходам, доводимым до вас для включения в свои бюджеты - ОБЯЗАТЕЛЬНО: 1) требуете расчеты и расшифровки от владельца 2) проверяете сами расчеты
B6: Обратите внимание - по столбцу ''C'' можно фильтровать строки по "з" - это будут строки в которые необходимо вносить данные в строки с буквой "ф" НЕЛЬЗЯ ничего вносить и менять формулы
A7: Шаг | B7: Что необходимо сделать: | C7: Комментарий
A8: 1 | B8: Внести данные по факту - 2026 год помесячно, 2025 год за год. Факт вносим и по всем расшифровкам ПНР (прочие накладные расходы), ДОАР (другие общие административные расходы), Другие (в расходах по реализации), Прочие финансовые доходы и расходы и Прочие доходы и расходы от неосновной деятельности. Внесенные данные должны соответствовать финансовой отчетности.
A9: 2 | B9: Оценку оставшихся месяцев 2026 года, делаем помесячно
A10: 3 | B10: Формируем план - 2027 год помесячно, 2028-2031 по годам
A11: 4 | B11: ОБЯЗАТЕЛЬНО заполняем листы ПНР, ДОАР, РР_Другие, Неосн.д_Прочие доходы и Неосн.д_Прочие расходы. Неосновную деятельность планировать ОБЯЗАТЕЛЬНО, если у вас был по ней факт в течение 2025-2026 гг. Никаких других/прочих больше чем на 1% от суммы всей статьи, не должно быть | C11: Всю техподдержку оборудования и ПО закидываем в статью "Сервисные контракты", иначе все директивно будет удалено из ПНР и ДОАР
A12: 5 | B12: ОБЯЗАТЕЛЬНО заполняем лист "Расшифровка по доходам". * Суть - показать основные драйверы примененные к расчету плановой суммы. * Факт заполнять тоже обязательно. * Статью 1.29. Прочие услуги - обязательно разложить на драйверы * Просто так умножить на 10% - нельзя делать. Указываете в строке например "Прирост цены" ставите 10% и умножаете на эту строку * ИТОГО разложенная в разрезе статей и по драверам сумма, должна сходится с суммой доходов по статьям и месяцам в ОБ.
A13: 6 | B13: ОБЯЗАТЕЛЬНО заполняем лист "Сервисные контракты" если они у вас есть. В случае наличия расходов на статье, но без расшифровки в листе "Сервисные контракты", они потенциально подлежат директивному сокращению
A14: 7 | B14: Филиалам АО обязательно заполнять лист "Расчет по амортизации (для АО)"
A15: 8 | B15: Все расходы и доходы должны отражаться согласно своей сути, а не про принципу "там где расходы реально должны быть - нельзя показывать такой рост, поэтому закинем в ПНР или ДОАР"
A16: 9 | B16: Вы не можете планировать расходы по статье, если у вас нет факта по ним. Либо даете отдельным листом в данном файле обоснование появления данной статьи у вас, иначе она может быть сокращена
A17: 10 | B17: Обязательно смотрим линию тренда по месяцам с 2026 по 2027; и по годам с 2025 по 2031. Все скачки/перепады должны быть объяснены. | C17: Если есть скачки или падения, нелогичный рост или падение - обязательно вносите комментарии в столцы AI и AJ на листе "Форма ОБ"
A18: 11 | B18: Обязательно сверяем весь факт (как по статье, так и по расшифровкам) с финансовой отчетностью
A19: 12 | B19: МОБИЛЬНЫМ ОПЕРАТОРАМ обязательно заполняем лист "Объемные показатели Моб.опер"
A20: 13
A21: 14
A22: 15

Sheet Форма ОБ 10092026
A1: тыс. тенге | B1: Сервисная фабрика | AE1: Одобренные ЦА 10092026
A9: № п/п | B9: Наименование показателей | C9: "з" - значения "ф" - формула | D9: 2026 | E9: =$D$9 -> 2026 | F9: =$D$9 -> 2026 | G9: =$D$9 -> 2026 | H9: =$D$9 -> 2026 | I9: =$D$9 -> 2026 | J9: =$D$9 -> 2026 | K9: =$D$9 -> 2026 | L9: =$D$9 -> 2026 | ... O9: =$D$9 -> 2026 | P9: 2027 | Q9: =$P$9 -> 2027 | R9: =$P$9 -> 2027 | S9: =$P$9 -> 2027 | T9: =$P$9 -> 2027 | U9: =$P$9 -> 2027 | V9: =$P$9 -> 2027 | W9: =$P$9 -> 2027 | X9: =$P$9 -> 2027 | ... AA9: =$P$9 -> 2027 | AB9: =AC9-1 -> 2025 | AC9: =$D$9 -> 2026 | AD9: =$P$9 -> 2027 | AE9: =$P$9 -> 2027 | AF9: 2027 план к 2026 г оцнека | AG9: 2027 план к 2026 г оцнека | AH9: =AD9+1 -> 2028 | AI9: =AH9+1 -> 2029 | AJ9: =AI9+1 -> 2030 | AK9: =AJ9+1 -> 2031 | AM9: Комментарии к помесячному тренду янв2026-дек2027 | AN9: Комментарии к годовому тренду 2025-2031 | AO9: ДУУиО (08/092026) | AP9: ДУУиО (10/092026)
D10: факт | E10: факт | F10: факт | G10: факт | H10: факт | I10: факт | J10: факт | K10: оценка | L10: оценка | M10: оценка | N10: оценка | O10: оценка | P10: план | Q10: план | R10: план | S10: план | T10: план | U10: план | V10: план | W10: план | X10: план | Y10: план | Z10: план | AA10: план | AB10: факт | AC10: оценка | AD10: план | AE10: план | AH10: план | AI10: план | AJ10: план | AK10: план
D11: январь | E11: февраль | F11: март | G11: апрель | H11: май | I11: июнь | J11: июль | K11: август | L11: сентябрь | M11: октябрь | N11: ноябрь | O11: декабрь | P11: январь | Q11: февраль | R11: март | S11: апрель | T11: май | U11: июнь | V11: июль | W11: август | X11: сентябрь | Y11: октябрь | Z11: ноябрь | AA11: декабрь | AB11: год | AC11: год | AD11: год | AE11: год | AH11: год | AI11: год | AJ11: год | AK11: год
A12: I. | B12: Доход от реализации услуг: | C12: ф | D12: =SUM(D13,D20,D21,D31,D40,D44,D47,D52,D82,D83,D89,D95,D114,D126,D127,D128,D129,D130,D131,D132,D137,D144,D145,D146,D147,D148,D149,D150,D151) -> 0 | E12: =SUM(E13,E20,E21,E31,E40,E44,E47,E52,E82,E83,E89,E95,E114,E126,E127,E128,E129,E130,E131,E132,E137,E144,E145,E146,E147,E148,E149,E150,E151) -> 0 | F12: =SUM(F13,F20,F21,F31,F40,F44,F47,F52,F82,F83,F89,F95,F114,F126,F127,F128,F129,F130,F131,F132,F137,F144,F145,F146,F147,F148,F149,F150,F151) -> 290000 | G12: =SUM(G13,G20,G21,G31,G40,G44,G47,G52,G82,G83,G89,G95,G114,G126,G127,G128,G129,G130,G131,G132,G137,G144,G145,G146,G147,G148,G149,G150,G151) -> 114934 | H12: =SUM(H13,H20,H21,H31,H40,H44,H47,H52,H82,H83,H89,H95,H114,H126,H127,H128,H129,H130,H131,H132,H137,H144,H145,H146,H147,H148,H149,H150,H151) -> 260833 | I12: =SUM(I13,I20,I21,I31,I40,I44,I47,I52,I82,I83,I89,I95,I114,I126,I127,I128,I129,I130,I131,I132,I137,I144,I145,I146,I147,I148,I149,I150,I151) -> 188491 | J12: =SUM(J13,J20,J21,J31,J40,J44,J47,J52,J82,J83,J89,J95,J114,J126,J127,J128,J129,J130,J131,J132,J137,J144,J145,J146,J147,J148,J149,J150,J151) -> 145007 | K12: =SUM(K13,K20,K21,K31,K40,K44,K47,K52,K82,K83,K89,K95,K114,K126,K127,K128,K129,K130,K131,K132,K137,K144,K145,K146,K147,K148,K149,K150,K151) -> 159243 | ... AD12: =SUM(AD13,AD20,AD21,AD31,AD40,AD44,AD47,AD52,AD82,AD83,AD89,AD95,AD114,AD126,AD127,AD128,AD129,AD130,AD131,AD132,AD137,AD144,AD145,AD146,AD147,AD148,AD149,AD150,AD151) -> 1674644 | AE12: =AD12 -> 1674644 | AF12: =AD12/AC12 -> 0.97102371 | AG12: =AE12/AC12 -> 0.97102371 | AH12: =SUM(AH13,AH20,AH21,AH31,AH40,AH44,AH47,AH52,AH82,AH83,AH89,AH95,AH114,AH126,AH127,AH128,AH129,AH130,AH131,AH132,AH137,AH144,AH145,AH146,AH147,AH148,AH149,AH150,AH151) -> 1674644 | AI12: =SUM(AI13,AI20,AI21,AI31,AI40,AI44,AI47,AI52,AI82,AI83,AI89,AI95,AI114,AI126,AI127,AI128,AI129,AI130,AI131,AI132,AI137,AI144,AI145,AI146,AI147,AI148,AI149,AI150,AI151) -> 1674644 | AJ12: =SUM(AJ13,AJ20,AJ21,AJ31,AJ40,AJ44,AJ47,AJ52,AJ82,AJ83,AJ89,AJ95,AJ114,AJ126,AJ127,AJ128,AJ129,AJ130,AJ131,AJ132,AJ137,AJ144,AJ145,AJ146,AJ147,AJ148,AJ149,AJ150,AJ151) -> 1674644 | AK12: =SUM(AK13,AK20,AK21,AK31,AK40,AK44,AK47,AK52,AK82,AK83,AK89,AK95,AK114,AK126,AK127,AK128,AK129,AK130,AK131,AK132,AK137,AK144,AK145,AK146,AK147,AK148,AK149,AK150,AK151) -> 1674644 | AQ12: =AE12-AD12 -> 0
A13: 1.1 | B13: Междугородная, международная телефонная связь: | C13: ф | D13: =SUM(D14,D19) -> 0 | E13: =SUM(E14,E19) -> 0 | F13: =SUM(F14,F19) -> 0 | G13: =SUM(G14,G19) -> 0 | H13: =SUM(H14,H19) -> 0 | I13: =SUM(I14,I19) -> 0 | J13: =SUM(J14,J19) -> 0 | K13: =SUM(K14,K19) -> 0 | ... AD13: =SUM(AD14,AD19) -> 0 | AF13: =AD13/AC13 -> #DIV/0! | AG13: =AE13/AD13 -> #DIV/0! | AH13: =SUM(AH14,AH19) -> 0 | AI13: =SUM(AI14,AI19) -> 0 | AJ13: =SUM(AJ14,AJ19) -> 0 | AK13: =SUM(AK14,AK19) -> 0 | AQ13: =AE13-AD13 -> 0
A14: 1.1.1 | B14: за разговоры (исходящие): | C14: ф | D14: =SUM(D15,D16) -> 0 | E14: =SUM(E15,E16) -> 0 | F14: =SUM(F15,F16) -> 0 | G14: =SUM(G15,G16) -> 0 | H14: =SUM(H15,H16) -> 0 | I14: =SUM(I15,I16) -> 0 | J14: =SUM(J15,J16) -> 0 | K14: =SUM(K15,K16) -> 0 | ... AD14: =SUM(AD15,AD16) -> 0 | AF14: =AD14/AC14 -> #DIV/0! | AG14: =AE14/AD14 -> #DIV/0! | AH14: =SUM(AH15,AH16) -> 0 | AI14: =SUM(AI15,AI16) -> 0 | AJ14: =SUM(AJ15,AJ16) -> 0 | AK14: =SUM(AK15,AK16) -> 0 | AQ14: =AE14-AD14 -> 0
A15: 1.1.1.1 | B15: - междугородные | C15: з | AC15: =SUM(D15:O15) -> 0 | AD15: =SUM(P15:AA15) -> 0 | AF15: =AD15/AC15 -> #DIV/0! | AG15: =AE15/AD15 -> #DIV/0! | AQ15: =AE15-AD15 -> 0
A16: 1.1.1.2 | B16: - международные: | C16: ф | D16: =SUM(D17,D18) -> 0 | E16: =SUM(E17,E18) -> 0 | F16: =SUM(F17,F18) -> 0 | G16: =SUM(G17,G18) -> 0 | H16: =SUM(H17,H18) -> 0 | I16: =SUM(I17,I18) -> 0 | J16: =SUM(J17,J18) -> 0 | K16: =SUM(K17,K18) -> 0 | ... AD16: =SUM(AD17,AD18) -> 0 | AF16: =AD16/AC16 -> #DIV/0! | AG16: =AE16/AD16 -> #DIV/0! | AH16: =SUM(AH17,AH18) -> 0 | AI16: =SUM(AI17,AI18) -> 0 | AJ16: =SUM(AJ17,AJ18) -> 0 | AK16: =SUM(AK17,AK18) -> 0 | AQ16: =AE16-AD16 -> 0
A17: 1.1.1.2.1 | B17: - СНГ | C17: з | AC17: =SUM(D17:O17) -> 0 | AD17: =SUM(P17:AA17) -> 0 | AF17: =AD17/AC17 -> #DIV/0! | AG17: =AE17/AD17 -> #DIV/0! | AQ17: =AE17-AD17 -> 0
A18: 1.1.1.2.2 | B18: - ДЗ | C18: з | AC18: =SUM(D18:O18) -> 0 | AD18: =SUM(P18:AA18) -> 0 | AF18: =AD18/AC18 -> #DIV/0! | AG18: =AE18/AD18 -> #DIV/0! | AQ18: =AE18-AD18 -> 0
A19: 1.1.2 | B19: прочие | C19: з | AC19: =SUM(D19:O19) -> 0 | AD19: =SUM(P19:AA19) -> 0 | AF19: =AD19/AC19 -> #DIV/0! | AG19: =AE19/AD19 -> #DIV/0! | AQ19: =AE19-AD19 -> 0
A20: 1.2 | B20: Доходы за разговоры с абонентами сторонних операторов, включая операторов сотовой связи | C20: з | AC20: =SUM(D20:O20) -> 0 | AD20: =SUM(P20:AA20) -> 0 | AF20: =AD20/AC20 -> #DIV/0! | AG20: =AE20/AD20 -> #DIV/0! | AQ20: =AE20-AD20 -> 0
A21: 1.3 | B21: Доходы по соглашениям с международными операторами: | C21: ф | D21: =SUM(D22,D25,D29) -> 0 | E21: =SUM(E22,E25,E29) -> 0 | F21: =SUM(F22,F25,F29) -> 0 | G21: =SUM(G22,G25,G29) -> 0 | H21: =SUM(H22,H25,H29) -> 0 | I21: =SUM(I22,I25,I29) -> 0 | J21: =SUM(J22,J25,J29) -> 0 | K21: =SUM(K22,K25,K29) -> 0 | ... AD21: =SUM(AD22,AD25,AD29) -> 0 | AF21: =AD21/AC21 -> #DIV/0! | AG21: =AE21/AD21 -> #DIV/0! | AH21: =SUM(AH22,AH25,AH29) -> 0 | AI21: =SUM(AI22,AI25,AI29) -> 0 | AJ21: =SUM(AJ22,AJ25,AJ29) -> 0 | AK21: =SUM(AK22,AK25,AK29) -> 0 | AQ21: =AE21-AD21 -> 0
A22: 1.3.1 | B22: за входящий трафик: | C22: ф | D22: =SUM(D23:D24) -> 0 | E22: =SUM(E23:E24) -> 0 | F22: =SUM(F23:F24) -> 0 | G22: =SUM(G23:G24) -> 0 | H22: =SUM(H23:H24) -> 0 | I22: =SUM(I23:I24) -> 0 | J22: =SUM(J23:J24) -> 0 | K22: =SUM(K23:K24) -> 0 | ... AD22: =SUM(AD23:AD24) -> 0 | AF22: =AD22/AC22 -> #DIV/0! | AG22: =AE22/AD22 -> #DIV/0! | AH22: =SUM(AH23:AH24) -> 0 | AI22: =SUM(AI23:AI24) -> 0 | AJ22: =SUM(AJ23:AJ24) -> 0 | AK22: =SUM(AK23:AK24) -> 0 | AQ22: =AE22-AD22 -> 0
A23: 1.3.1.1 | B23: - СНГ | C23: з | AC23: =SUM(D23:O23) -> 0 | AD23: =SUM(P23:AA23) -> 0 | AF23: =AD23/AC23 -> #DIV/0! | AG23: =AE23/AD23 -> #DIV/0! | AQ23: =AE23-AD23 -> 0
A24: 1.3.1.2 | B24: - ДЗ | C24: з | AC24: =SUM(D24:O24) -> 0 | AD24: =SUM(P24:AA24) -> 0 | AF24: =AD24/AC24 -> #DIV/0! | AG24: =AE24/AD24 -> #DIV/0! | AQ24: =AE24-AD24 -> 0
A25: 1.3.2 | B25: за транзит: | C25: ф | D25: =SUM(D26:D28) -> 0 | E25: =SUM(E26:E28) -> 0 | F25: =SUM(F26:F28) -> 0 | G25: =SUM(G26:G28) -> 0 | H25: =SUM(H26:H28) -> 0 | I25: =SUM(I26:I28) -> 0 | J25: =SUM(J26:J28) -> 0 | K25: =SUM(K26:K28) -> 0 | ... AD25: =SUM(AD26:AD28) -> 0 | AF25: =AD25/AC25 -> #DIV/0! | AG25: =AE25/AD25 -> #DIV/0! | AH25: =SUM(AH26:AH28) -> 0 | AI25: =SUM(AI26:AI28) -> 0 | AJ25: =SUM(AJ26:AJ28) -> 0 | AK25: =SUM(AK26:AK28) -> 0 | AQ25: =AE25-AD25 -> 0
A26: 1.3.2.1 | B26: - за некоммутируемый транзит | C26: з | AC26: =SUM(D26:O26) -> 0 | AD26: =SUM(P26:AA26) -> 0 | AF26: =AD26/AC26 -> #DIV/0! | AG26: =AE26/AD26 -> #DIV/0! | AQ26: =AE26-AD26 -> 0
A27: 1.3.2.2 | B27: - за интернет-транзит | C27: з | AC27: =SUM(D27:O27) -> 0 | AD27: =SUM(P27:AA27) -> 0 | AF27: =AD27/AC27 -> #DIV/0! | AG27: =AE27/AD27 -> #DIV/0! | AQ27: =AE27-AD27 -> 0
A28: 1.3.2.3 | B28: - за IPLC | C28: з | AC28: =SUM(D28:O28) -> 0 | AD28: =SUM(P28:AA28) -> 0 | AF28: =AD28/AC28 -> #DIV/0! | AG28: =AE28/AD28 -> #DIV/0! | AQ28: =AE28-AD28 -> 0
A29: 1.3.3 | B29: за телеграфный/телексный трафик | C29: з | AC29: =SUM(D29:O29) -> 0 | AD29: =SUM(P29:AA29) -> 0 | AF29: =AD29/AC29 -> #DIV/0! | AG29: =AE29/AD29 -> #DIV/0! | AQ29: =AE29-AD29 -> 0
B30: Справочно (дисбаланс по пропуску международного трафика) | C30: з | AC30: =SUM(D30:O30) -> 0 | AD30: =SUM(P30:AA30) -> 0 | AF30: =AD30/AC30 -> #DIV/0! | AG30: =AE30/AD30 -> #DIV/0! | AQ30: =AE30-AD30 -> 0
A31: 1.4 | B31: Доходы по соглашениям с операторами связи, подключенными к сети АО Казахтелеком: | C31: ф | D31: =SUM(D32,D38) -> 0 | E31: =SUM(E32,E38) -> 0 | F31: =SUM(F32,F38) -> 143109 | G31: =SUM(G32,G38) -> 55659 | H31: =SUM(H32,H38) -> 191099 | I31: =SUM(I32,I38) -> 139684 | J31: =SUM(J32,J38) -> 87300 | K31: =SUM(K32,K38) -> 47208 | ... AD31: =SUM(AD32,AD38) -> 1164857 | AF31: =AD31/AC31 -> 1.4121413 | AG31: =AE31/AD31 -> 0 | AH31: =SUM(AH32,AH38) -> 1164857 | AI31: =SUM(AI32,AI38) -> 1164857 | AJ31: =SUM(AJ32,AJ38) -> 1164857 | AK31: =SUM(AK32,AK38) -> 1164857 | AQ31: =AE31-AD31 -> -1164857
A32: 1.4.1 | B32: пропуск телефонного трафика: | C32: ф | D32: =SUM(D33,D34,D37) -> 0 | E32: =SUM(E33,E34,E37) -> 0 | F32: =SUM(F33,F34,F37) -> 0 | G32: =SUM(G33,G34,G37) -> 0 | H32: =SUM(H33,H34,H37) -> 0 | I32: =SUM(I33,I34,I37) -> 0 | J32: =SUM(J33,J34,J37) -> 0 | K32: =SUM(K33,K34,K37) -> 0 | ... AD32: =SUM(AD33,AD34,AD37) -> 0 | AF32: =AD32/AC32 -> #DIV/0! | AG32: =AE32/AD32 -> #DIV/0! | AH32: =SUM(AH33,AH34,AH37) -> 0 | AI32: =SUM(AI33,AI34,AI37) -> 0 | AJ32: =SUM(AJ33,AJ34,AJ37) -> 0 | AK32: =SUM(AK33,AK34,AK37) -> 0 | AQ32: =AE32-AD32 -> 0
A33: 1.4.1.1 | B33: - местного | C33: з | AC33: =SUM(D33:O33) -> 0 | AD33: =SUM(P33:AA33) -> 0 | AF33: =AD33/AC33 -> #DIV/0! | AG33: =AE33/AD33 -> #DIV/0! | AQ33: =AE33-AD33 -> 0
A34: 1.4.1.2 | B34: - междугородного: | C34: ф | D34: =SUM(D35:D36) -> 0 | E34: =SUM(E35:E36) -> 0 | F34: =SUM(F35:F36) -> 0 | G34: =SUM(G35:G36) -> 0 | H34: =SUM(H35:H36) -> 0 | I34: =SUM(I35:I36) -> 0 | J34: =SUM(J35:J36) -> 0 | K34: =SUM(K35:K36) -> 0 | ... AD34: =SUM(AD35:AD36) -> 0 | AF34: =AD34/AC34 -> #DIV/0! | AG34: =AE34/AD34 -> #DIV/0! | AH34: =SUM(AH35:AH36) -> 0 | AI34: =SUM(AI35:AI36) -> 0 | AJ34: =SUM(AJ35:AJ36) -> 0 | AK34: =SUM(AK35:AK36) -> 0 | AQ34: =AE34-AD34 -> 0
A35: 1.4.1.2.1 | B35: входящий телефонный трафик | C35: з | AC35: =SUM(D35:O35) -> 0 | AD35: =SUM(P35:AA35) -> 0 | AF35: =AD35/AC35 -> #DIV/0! | AG35: =AE35/AD35 -> #DIV/0! | AQ35: =AE35-AD35 -> 0
A36: 1.4.1.2.2 | B36: транзит телефонного трафика | C36: з | AC36: =SUM(D36:O36) -> 0 | AD36: =SUM(P36:AA36) -> 0 | AF36: =AD36/AC36 -> #DIV/0! | AG36: =AE36/AD36 -> #DIV/0! | AQ36: =AE36-AD36 -> 0
A37: 1.4.1.3 | B37: - международного | C37: з | AC37: =SUM(D37:O37) -> 0 | AD37: =SUM(P37:AA37) -> 0 | AF37: =AD37/AC37 -> #DIV/0! | AG37: =AE37/AD37 -> #DIV/0! | AQ37: =AE37-AD37 -> 0
A38: 1.4.2 | B38: прочие | C38: з | F38: 143109 | G38: 55659 | H38: 191099 | I38: 139684 | J38: 87300 | K38: 47208 | L38: 40206 | M38: 40208 | N38: 40207 | O38: 40207 | P38: 9064 | Q38: 50952 | R38: 97071 | S38: 107534 | T38: 127587 | U38: 144101 | V38: 143191 | W38: 97071 | X38: 97072 | Y38: 97071 | Z38: 97072 | AA38: 97071 | AC38: =SUM(D38:O38) -> 824887 | AD38: =SUM(P38:AA38) -> 1164857 | AF38: =AD38/AC38 -> 1.4121413 | AG38: =AE38/AD38 -> 0 | AH38: =AD38 -> 1164857 | AI38: =AH38 -> 1164857 | AJ38: =AI38 -> 1164857 | AK38: =AJ38 -> 1164857 | AQ38: =AE38-AD38 -> -1164857
B39: Справочно (дисбаланс по пропуску междугородного трафика) | C39: з | AC39: =SUM(D39:O39) -> 0 | AD39: =SUM(P39:AA39) -> 0 | AF39: =AD39/AC39 -> #DIV/0! | AG39: =AE39/AD39 -> #DIV/0! | AQ39: =AE39-AD39 -> 0
A40: 1.5 | B40: Доходы от сдачи в аренду каналов транспортной сети: | C40: ф | D40: =SUM(D41,D42,D43) -> 0 | E40: =SUM(E41,E42,E43) -> 0 | F40: =SUM(F41,F42,F43) -> 0 | G40: =SUM(G41,G42,G43) -> 0 | H40: =SUM(H41,H42,H43) -> 0 | I40: =SUM(I41,I42,I43) -> 0 | J40: =SUM(J41,J42,J43) -> 0 | K40: =SUM(K41,K42,K43) -> 0 | ... AD40: =SUM(AD41,AD42,AD43) -> 0 | AF40: =AD40/AC40 -> #DIV/0! | AG40: =AE40/AD40 -> #DIV/0! | AH40: =SUM(AH41,AH42,AH43) -> 0 | AI40: =SUM(AI41,AI42,AI43) -> 0 | AJ40: =SUM(AJ41,AJ42,AJ43) -> 0 | AK40: =SUM(AK41,AK42,AK43) -> 0 | AQ40: =AE40-AD40 -> 0
A41: 1.5.1 | B41: операторам связи | C41: з | AC41: =SUM(D41:O41) -> 0 | AD41: =SUM(P41:AA41) -> 0 | AF41: =AD41/AC41 -> #DIV/0! | AG41: =AE41/AD41 -> #DIV/0! | AQ41: =AE41-AD41 -> 0
A42: 1.5.2 | B42: другим пользователям | C42: з | AC42: =SUM(D42:O42) -> 0 | AD42: =SUM(P42:AA42) -> 0 | AF42: =AD42/AC42 -> #DIV/0! | AG42: =AE42/AD42 -> #DIV/0! | AQ42: =AE42-AD42 -> 0
A43: 1.5.3 | B43: от услуг LTE/GSM | C43: з | AC43: =SUM(D43:O43) -> 0 | AD43: =SUM(P43:AA43) -> 0 | AF43: =AD43/AC43 -> #DIV/0! | AG43: =AE43/AD43 -> #DIV/0! | AQ43: =AE43-AD43 -> 0
A44: 1.6 | B44: Доходы при предоставлении услуг сети передачи данных операторам связи: | C44: ф | D44: =SUM(D45,D46) -> 0 | E44: =SUM(E45,E46) -> 0 | F44: =SUM(F45,F46) -> 0 | G44: =SUM(G45,G46) -> 0 | H44: =SUM(H45,H46) -> 0 | I44: =SUM(I45,I46) -> 0 | J44: =SUM(J45,J46) -> 0 | K44: =SUM(K45,K46) -> 0 | ... AD44: =SUM(AD45,AD46) -> 0 | AF44: =AD44/AC44 -> #DIV/0! | AG44: =AE44/AD44 -> #DIV/0! | AH44: =SUM(AH45,AH46) -> 0 | AI44: =SUM(AI45,AI46) -> 0 | AJ44: =SUM(AJ45,AJ46) -> 0 | AK44: =SUM(AK45,AK46) -> 0 | AQ44: =AE44-AD44 -> 0
A45: 1.6.1 | B45: интернет, выделенное подключение операторам связи | C45: з | AC45: =SUM(D45:O45) -> 0 | AD45: =SUM(P45:AA45) -> 0 | AF45: =AD45/AC45 -> #DIV/0! | AG45: =AE45/AD45 -> #DIV/0! | AQ45: =AE45-AD45 -> 0
A46: 1.6.2 | B46: IP VPN операторам связи | C46: з | AC46: =SUM(D46:O46) -> 0 | AD46: =SUM(P46:AA46) -> 0 | AF46: =AD46/AC46 -> #DIV/0! | AG46: =AE46/AD46 -> #DIV/0! | AQ46: =AE46-AD46 -> 0
A47: 1.7 | B47: Телеграфная связь: | C47: ф | D47: =SUM(D48,D49,D50,D51) -> 0 | E47: =SUM(E48,E49,E50,E51) -> 0 | F47: =SUM(F48,F49,F50,F51) -> 0 | G47: =SUM(G48,G49,G50,G51) -> 0 | H47: =SUM(H48,H49,H50,H51) -> 0 | I47: =SUM(I48,I49,I50,I51) -> 0 | J47: =SUM(J48,J49,J50,J51) -> 0 | K47: =SUM(K48,K49,K50,K51) -> 0 | ... AD47: =SUM(AD48,AD49,AD50,AD51) -> 0 | AF47: =AD47/AC47 -> #DIV/0! | AG47: =AE47/AD47 -> #DIV/0! | AH47: =SUM(AH48,AH49,AH50,AH51) -> 0 | AI47: =SUM(AI48,AI49,AI50,AI51) -> 0 | AJ47: =SUM(AJ48,AJ49,AJ50,AJ51) -> 0 | AK47: =SUM(AK48,AK49,AK50,AK51) -> 0 | AQ47: =AE47-AD47 -> 0
...

Sheet АХО комменты
A4: № п/п | B4: Наименование показателей | C4: 2022 год утвержденный по СФ | D4: 2023 год утвержденный по СФ | E4: 2024 год утвержденный по СФ | F4: 2025 год утвержденный по СФ | G4: 2025 год уточненный по СФ | H4: 2025 год факт по СФ | I4: 2026 год утвержденный по СФ | J4: 2026 год уточненный по СФ | K4: 2026 год факт 1 пг по СФ | L4: 2027 плановые потребности по СФ | M4: Январь | N4: Февраль | O4: Март | P4: Апрель | Q4: Май | R4: Июнь | S4: Июль | T4: Август | U4: Сентябрь | V4: Октябрь | W4: Ноябрь | X4: Декабрь | Y4: Изменение ОБ 2027 (вариант 1) | Z4: Проект 2027 (с изменением вариант 1) | AA4: до 7% роста от уточненного плана 2026 | AB4: Отклонение Проекта 2027 от роста свыше 7% | AC4: Изменение ОБ 2027 (вариант 2) | AD4: Проект 2027 (с изменением вариант 2) | AE4: Отклонение Проекта 2027 вариант 2 от первоначального | AF4: Отклонение Проекта 2027 вариант 2 от уточн 2026 | AG4: Изменение ОБ 2027 (вариант 3) | AH4: Проект 2027 (с изменением вариант 2) | AI4: Отклонение Проекта 2027 вариант 2 от первоначального | AJ4: Отклонение Проекта 2027 вариант 2 от уточн 2026 | AK4: Комментарии
B5: Административно-хозяйственный отдел | C5: =C8+C11+#REF!+C34+C48+C49+C51+C52+C53+C6+C32+C7+C33+C12+C37 -> #REF! | D5: =D8+D11+#REF!+D34+D48+D49+D51+D52+D53+D6+D32+D7+D33+D12+D37 -> #REF! | E5: =E8+E11+#REF!+E34+E48+E49+E51+E52+E53+E6+E32+E7+E33+E12+E37 -> #REF! | F5: =F8+F11+#REF!+F34+F48+F49+F51+F52+F53+F6+F32+F7+F33+F12+F37 -> #REF! | G5: =G8+G11+#REF!+G34+G48+G49+G51+G52+G53+G6+G32+G7+G33+G12+G37 -> #REF! | H5: =H8+H11+#REF!+H34+H48+H49+H51+H52+H53+H6+H32+H7+H33+H12+H37 -> #REF! | I5: =I8+I11+#REF!+I34+I48+I49+I51+I52+I53+I6+I32+I7+I33+I12+I37 -> #REF! | AC5: =AC8+AC11+#REF!+AC34+AC48+AC49+AC51+AC52+AC53+AC6+AC32+AC7+AC33+AC12+AC37 -> #REF! | AD5: =AD8+AD11+#REF!+AD34+AD48+AD49+AD51+AD52+AD53+AD6+AD32+AD7+AD33+AD12+AD37 -> #REF! | AE5: =AE8+AE11+#REF!+AE34+AE48+AE49+AE51+AE52+AE53+AE6+AE32+AE7+AE33+AE12+AE37 -> #REF! | AF5: =AF8+AF11+#REF!+AF34+AF48+AF49+AF51+AF52+AF53+AF6+AF32+AF7+AF33+AF12+AF37 -> #REF! | AG5: =AG8+AG11+#REF!+AG34+AG48+AG49+AG51+AG52+AG53+AG6+AG32+AG7+AG33+AG12+AG37 -> #REF! | AH5: =AH8+AH11+#REF!+AH34+AH48+AH49+AH51+AH52+AH53+AH6+AH32+AH7+AH33+AH12+AH37 -> #REF! | AI5: =AI8+AI11+#REF!+AI34+AI48+AI49+AI51+AI52+AI53+AI6+AI32+AI7+AI33+AI12+AI37 -> #REF! | AJ5: =AJ8+AJ11+#REF!+AJ34+AJ48+AJ49+AJ51+AJ52+AJ53+AJ6+AJ32+AJ7+AJ33+AJ12+AJ37 -> #REF!
A6: 2.1.3. | B6: Запчасти для информационных технологий (МФУ) | C6: 0 | D6: 15500 | E6: 17385 | F6: 17385 | G6: 4778 | I6: 0 | L6: =SUM(M6:X6) -> 0 | Z6: =L6+Y6 -> 0 | AA6: =J6*1.07 -> 0 | AB6: =Z6-AA6 -> 0 | AD6: =Z6+AC6 -> 0 | AE6: =AD6-L6 -> 0 | AF6: =AD6-J6 -> 0 | AH6: =AD6+AG6 -> 0 | AI6: =AH6-L6 -> 0 | AJ6: =AH6-J6 -> 0
A7: 2.1.3. | B7: Запчасти для информационных технологий (ИТ) | C7: 38271 | D7: 0 | E7: 10950 | F7: 10950 | G7: 17521 | H7: 15906 | I7: 135103 | J7: 1242 | K7: 1320 | L7: =SUM(M7:X7) -> 12012 | M7: 0 | N7: 0 | O7: 0 | P7: 0 | Q7: 0 | R7: 1716 | S7: 1716 | T7: 1716 | U7: 1716 | V7: 1716 | W7: 1716 | X7: 1716 | Z7: =L7+Y7 -> 12012 | AA7: =J7*1.07 -> 1328.94 | AB7: =Z7-AA7 -> 10683.06 | AD7: =Z7+AC7 -> 12012 | AE7: =AD7-L7 -> 0 | AF7: =AD7-J7 -> 10770 | AH7: =AD7+AG7 -> 12012 | AI7: =AH7-L7 -> 0 | AJ7: =AH7-J7 -> 10770 | AK7: Плановые потребности 2026г были скорректированы на потребность аренда МФУ. Плановая потребность 2026 года 149 млн.
A8: 2.4.8 | B8: Обслуживание и ремонт технических средств | C8: =C9+C10 -> 38453 | D8: =D9+D10 -> 17392 | E8: =E9+E10 -> 27962 | F8: =F9+F10 -> 22915 | G8: =G9+G10 -> 22915 | H8: =H9+H10 -> 22399 | I8: =I9+I10 -> 123195 | J8: =J9+J10 -> 123195 | K8: =K9+K10 -> 2266 | L8: =SUM(M8:X8) -> 221994 | M8: =M9+M10 -> 427 | N8: =N9+N10 -> 428 | O8: =O9+O10 -> 535 | P8: =P9+P10 -> 16084 | Q8: =Q9+Q10 -> 24056 | R8: =R9+R10 -> 36963 | S8: =S9+S10 -> 27258 | T8: =T9+T10 -> 24214 | ... AJ8: =AJ9+AJ10 -> 98799
B9: ТО и ремонт систем вентиляции и кондиц. | C9: 20995 | I9: 75156 | J9: 75156 | K9: 0 | L9: =SUM(M9:X9) -> 86212 | M9: 427 | N9: 428 | O9: 535 | P9: 938 | Q9: 8965 | R9: 21872 | S9: 12167 | T9: 9123 | U9: 9021 | V9: 8191 | W9: 7241 | X9: 7304 | Z9: =L9+Y9 -> 86212 | AA9: =J9*1.07 -> 80416.92 | AB9: =Z9-AA9 -> 5795.08 | AD9: =Z9+AC9 -> 86212 | AE9: =AD9-L9 -> 0 | AF9: =AD9-J9 -> 11056 | AH9: =AD9+AG9 -> 86212 | AI9: =AH9-L9 -> 0 | AJ9: =AH9-J9 -> 11056 | AK9: Формирование бюджета с учетом добавления новых объектов в г.Астана и г.Шымкент, увеличение общего планирования услуг (производств+адм) на 6 %. (Шымкент- Казбек би 15, Астана- Алаш 20). Также в октябре мес 2026 запланировано заключение дополнительного соглашения по г.Алматы на сумму 4500 тыс тг.
B10: Обслуживание и ремонт оргтехники | C10: 17458 | D10: 17392 | E10: 27962 | F10: 22915 | G10: 22915 | H10: 22399 | I10: 48039 | J10: 48039 | K10: 2266 | L10: =SUM(M10:X10) -> 135782 | M10: 0 | N10: 0 | O10: 0 | P10: 15146 | Q10: 15091 | R10: 15091 | S10: 15091 | T10: 15091 | U10: 15091 | V10: 15091 | W10: 15091 | X10: 14999 | Z10: =L10+Y10 -> 135782 | AA10: =J10*1.07 -> 51401.73 | AB10: =Z10-AA10 -> 84380.27 | AD10: =Z10+AC10 -> 135782 | AE10: =AD10-L10 -> 0 | AF10: =AD10-J10 -> 87743 | AH10: =AD10+AG10 -> 135782 | AI10: =AH10-L10 -> 0 | AJ10: =AH10-J10 -> 87743 | AK10: Пранируется заключение договора на 2027 на обслуживание орг техники куда будет включена услуга по замене расходных материаллов, запчастей, проведение модернизации ПК и орг техники (картриджи, жусткие диски, процессоры и тд) Увелечение за счет статьи запасные части для ИТ (100 млн)
A11: 2.4.10 | B11: Аренда основных средств производственного назначения (МФУ) | C11: 35491 | D11: 249841 | E11: 257726 | F11: 257737 | G11: 243937 | H11: 15212 | I11: 0 | J11: 173463 | K11: 0 | L11: =SUM(M11:X11) -> 543308 | M11: 45280 | N11: 45280 | O11: 45280 | P11: 45280 | Q11: 45280 | R11: 45280 | S11: 45280 | T11: 45280 | U11: 45280 | V11: 45280 | W11: 45278 | X11: 45230 | Z11: =L11+Y11 -> 543308 | AA11: =J11*1.07 -> 185605.41 | AB11: =Z11-AA11 -> 357702.59 | AD11: =Z11+AC11 -> 543308 | AE11: =AD11-L11 -> 0 | AF11: =AD11-J11 -> 369845 | AH11: =AD11+AG11 -> 543308 | AI11: =AH11-L11 -> 0 | AJ11: =AH11-J11 -> 369845 | AK11: Проект 2027 года : Кол-во МФУ 368, по цене 75915 тг, общая сумма 339 404 тыс тг Кол-во сип телефонов- 792, цена- 1912 тг, сумма 17288 тыс тг Кол-во моноблоко- 792, цена- 37780, сумма 359 061 тыс тг Кол-во ноутбуков- 250, цена- 37 780 тг, общая сумма 1130340 тыс тг. Цены за услуги аренды предусмотрены согласно предоставленным КП от поставщика услуг за 2026 год. Кол-во сотрудников дислоцированных в городах республ и обл значения 853 чел.
A12: 2.4.11 | B12: Коммунальные услуги | C12: =SUM(C13:C31) -> 579847 | D12: =SUM(D13:D31) -> 718826 | E12: =SUM(E13:E31) -> 807576 | F12: =SUM(F13:F31) -> 854421 | G12: =SUM(G13:G31) -> 1151078 | H12: =SUM(H13:H31) -> 1004047 | I12: =SUM(I13:I31) -> 1233446 | J12: =SUM(J13:J31) -> 1265804 | ... AJ12: =SUM(AJ13:AJ31) -> 56939
B13: Газ | C13: 16262 | D13: 9215 | E13: 34788 | F13: 36527 | G13: 54026 | H13: 47433 | I13: 54884 | J13: 53071 | K13: 38761 | L13: =SUM(M13:X13) -> 90153 | M13: 12868 | N13: 12853 | O13: 12833 | P13: 12829 | Q13: 0 | R13: 0 | S13: 0 | T13: 0 | U13: 0 | V13: 12889 | W13: 12925 | X13: 12956 | Y13: -2665 | Z13: =L13+Y13 -> 87488 | AA13: =J13*1.07 -> 56785.97 | AB13: =Z13-AA13 -> 30702.03 | AD13: =Z13+AC13 -> 87488 | AE13: =AD13-L13 -> -2665 | AF13: =AD13-J13 -> 34417 | AH13: =AD13+AG13 -> 87488 | AI13: =AH13-L13 -> -2665 | AJ13: =AH13-J13 -> 34417 | AK13: Проведен анализ. Фактический рост тарифа на услуги газа в сравнение 2025-2026 годов составляет 47%. Планирование бюджета на основании потребностей и предоставленных документов от регионов (ЭСФ, уведомления). При планировании учтен аналогичный рост тарифов на 2027 год.
B14: Водоснабжение, водоотведение | C14: 110945 | D14: 119072 | E14: 147171 | F14: 154530 | G14: =59378+114784 -> 174162 | H14: 137029 | I14: 181689 | J14: =96609+115524 -> 212133 | K14: 76088 | L14: =SUM(M14:X14) -> 230002 | M14: 19134 | N14: 19136 | O14: 19159 | P14: 19087 | Q14: 19199 | R14: 19264 | S14: 19113 | T14: 19159 | U14: 19235 | V14: 19144 | W14: 19185 | X14: 19187 | Z14: =L14+Y14 -> 230002 | AA14: =J14*1.07 -> 226982.31 | AB14: =Z14-AA14 -> 3019.69 | AD14: =Z14+AC14 -> 230002 | AE14: =AD14-L14 -> 0 | AF14: =AD14-J14 -> 17869 | AH14: =AD14+AG14 -> 230002 | AI14: =AH14-L14 -> 0 | AJ14: =AH14-J14 -> 17869 | AK14: Проведен анализ. Фактический рост тарифа на услуги водоснабжения и водоотведения в сравнение 2025-2026 годов составляет 29%. Планирование бюджета на основании потребностей и предоставленных документов от регионов (ЭСФ, уведомления).
B15: Ком. расходы при аренде недвижимости | C15: 11245 | D15: 4800 | E15: 11521 | F15: 12096 | G15: 15831 | H15: 9331 | I15: 18682 | J15: 22284 | K15: 7843 | L15: =SUM(M15:X15) -> 23636 | M15: 2801 | N15: 2809 | O15: 2820 | P15: 2824 | Q15: 783 | R15: 774 | S15: 772 | T15: 775 | U15: 774 | V15: 2830 | W15: 2837 | X15: 2837 | Z15: =L15+Y15 -> 23636 | AA15: =J15*1.07-208 -> 23635.88 | AB15: =Z15-AA15 -> 0.12 | AD15: =Z15+AC15 -> 23636 | AE15: =AD15-L15 -> 0 | AF15: =AD15-J15 -> 1352 | AH15: =AD15+AG15 -> 23636 | AI15: =AH15-L15 -> 0 | AJ15: =AH15-J15 -> 1352
B16: Теплоэнергия | C16: 433039 | D16: 557820 | E16: 609292 | F16: 646223 | G16: 870251 | H16: 831863 | I16: 753107 | J16: 783371 | K16: 587559 | L16: =SUM(M16:X16) -> 975511 | M16: 151941 | N16: 146311 | O16: 139189 | P16: 125893 | Q16: 0 | R16: 0 | S16: 0 | T16: 0 | U16: 0 | V16: 126606 | W16: 137337 | X16: 148234 | Z16: =L16+Y16 -> 975511 | AA16: =J16*1.07 -> 838206.97 | AB16: =Z16-AA16 -> 137304.03 | AD16: =Z16+AC16 -> 975511 | AE16: =AD16-L16 -> 0 | AF16: =AD16-J16 -> 192140 | AH16: =AD16+AG16 -> 975511 | AI16: =AH16-L16 -> 0 | AJ16: =AH16-J16 -> 192140 | AK16: Проведен анализ. Фактический рост тарифа на услуги теплоснабжение в сравнение 2025-2026 годов составляет 25%. Планирование бюджета на основании потребностей и предоставленных документов от регионов (ЭСФ, уведомления).
B17: Услуги КСК | C17: 8174 | D17: 27548 | E17: 4804 | F17: 5045 | G17: 5282 | H17: 4655 | I17: 7242 | J17: 5707 | K17: 903 | L17: =SUM(M17:X17) -> 8399 | M17: 688 | N17: 692 | O17: 692 | P17: 687 | Q17: 687 | R17: 694 | S17: 703 | T17: 708 | U17: 707 | V17: 712 | W17: 714 | X17: 715 | Y17: -2293 | Z17: =L17+Y17 -> 6106 | AA17: =J17*1.07 -> 6106.49 | AB17: =Z17-AA17 -> -0.49 | AD17: =Z17+AC17 -> 6106 | AE17: =AD17-L17 -> -2293 | AF17: =AD17-J17 -> 399 | AH17: =AD17+AG17 -> 6106 | AI17: =AH17-L17 -> -2293 | AJ17: =AH17-J17 -> 399
B18: Перенос возмещения ком.услуг | H18: -50221 | K18: -35026 | L18: =SUM(M18:X18) -> 0 | Z18: =L18+Y18 -> 0 | AA18: =J18*1.07 -> 0 | AB18: =Z18-AA18 -> 0 | AD18: =Z18+AC18 -> 0 | AE18: =AD18-L18 -> 0 | AF18: =AD18-J18 -> 0 | AH18: =AD18+AG18 -> 0 | AI18: =AH18-L18 -> 0 | AJ18: =AH18-J18 -> 0
B19: Вывоз мусора | C19: 0 | D19: 0 | E19: 0 | F19: 0 | G19: 17495 | H19: 13493 | I19: 105125 | J19: 92560 | K19: 28865 | L19: =SUM(M19:X19) -> 0 | Z19: =L19+Y19 -> 0 | AA19: =J19*1.07-99039 -> 0.2 | AB19: =Z19-AA19 -> -0.2 | AD19: =Z19+AC19 -> 0 | AE19: =AD19-L19 -> 0 | AF19: =AD19-J19 -> -92560 | AH19: =AD19+AG19 -> 0 | AI19: =AH19-L19 -> 0 | AJ19: =AH19-J19 -> -92560
B20: Откачка септика | C20: 182 | D20: 182 | E20: 0 | F20: 0 | G20: 601 | H20: 531 | I20: 0 | L20: =SUM(M20:X20) -> 0 | Z20: =L20+Y20 -> 0 | AA20: =J20*1.07 -> 0 | AB20: =Z20-AA20 -> 0 | AD20: =Z20+AC20 -> 0 | AE20: =AD20-L20 -> 0 | AF20: =AD20-J20 -> 0 | AH20: =AD20+AG20 -> 0 | AI20: =AH20-L20 -> 0 | AJ20: =AH20-J20 -> 0
B21: Дезинсекция, дератизация | G21: 12779 | H21: 9933 | I21: 66244 | J21: 57031 | K21: 15977 | L21: =SUM(M21:X21) -> 0 | Z21: =L21+Y21 -> 0 | AA21: =J21*1.07-61023 -> 0.17 | AB21: =Z21-AA21 -> -0.17 | AD21: =Z21+AC21 -> 0 | AE21: =AD21-L21 -> 0 | AF21: =AD21-J21 -> -57031 | AH21: =AD21+AG21 -> 0 | AI21: =AH21-L21 -> 0 | AJ21: =AH21-J21 -> -57031
B22: Анализ воды | D22: 189 | I22: 0 | L22: =SUM(M22:X22) -> 0 | Z22: =L22+Y22 -> 0 | AA22: =J22*1.07 -> 0 | AB22: =Z22-AA22 -> 0 | AD22: =Z22+AC22 -> 0 | AE22: =AD22-L22 -> 0 | AF22: =AD22-J22 -> 0 | AH22: =AD22+AG22 -> 0 | AI22: =AH22-L22 -> 0 | AJ22: =AH22-J22 -> 0
B23: Поверка средств измерений и счетчиков | I23: 550 | J23: 470 | L23: =SUM(M23:X23) -> 0 | Z23: =L23+Y23 -> 0 | AA23: =J23*1.07-503 -> -0.1 | AB23: =Z23-AA23 -> 0.1 | AD23: =Z23+AC23 -> 0 | AE23: =AD23-L23 -> 0 | AF23: =AD23-J23 -> -470 | AH23: =AD23+AG23 -> 0 | AI23: =AH23-L23 -> 0 | AJ23: =AH23-J23 -> -470
B24: Ком услуги (промывка, опресовка, обследование) | I24: 0 | L24: =SUM(M24:X24) -> 0 | Z24: =L24+Y24 -> 0 | AA24: =J24*1.07 -> 0 | AB24: =Z24-AA24 -> 0 | AD24: =Z24+AC24 -> 0 | AE24: =AD24-L24 -> 0 | AF24: =AD24-J24 -> 0 | AH24: =AD24+AG24 -> 0 | AI24: =AH24-L24 -> 0 | AJ24: =AH24-J24 -> 0
B25: Сервисное обслуживание теплосчетчиков | I25: 21147 | J25: 19047 | K25: 5658 | L25: =SUM(M25:X25) -> 0 | Z25: =L25+Y25 -> 0 | AA25: =J25*1.07-20380 -> 0.29 | AB25: =Z25-AA25 -> -0.29 | AD25: =Z25+AC25 -> 0 | AE25: =AD25-L25 -> 0 | AF25: =AD25-J25 -> -19047 | AH25: =AD25+AG25 -> 0 | AI25: =AH25-L25 -> 0 | AJ25: =AH25-J25 -> -19047
B26: ТО и ремонт приборов учета тепла | I26: 18708 | J26: 17512 | K26: =4955+281 -> 5236 | L26: =SUM(M26:X26) -> 0 | Z26: =L26+Y26 -> 0 | AA26: =J26*1.07-18738 -> -0.16 | AB26: =Z26-AA26 -> 0.16 | AD26: =Z26+AC26 -> 0 | AE26: =AD26-L26 -> 0 | AF26: =AD26-J26 -> -17512 | AH26: =AD26+AG26 -> 0 | AI26: =AH26-L26 -> 0 | AJ26: =AH26-J26 -> -17512
B27: Услуги по газификации | I27: 0 | L27: =SUM(M27:X27) -> 0 | Z27: =L27+Y27 -> 0 | AA27: =J27*1.07 -> 0 | AB27: =Z27-AA27 -> 0 | AD27: =Z27+AC27 -> 0 | AE27: =AD27-L27 -> 0 | AF27: =AD27-J27 -> 0 | AH27: =AD27+AG27 -> 0 | AI27: =AH27-L27 -> 0 | AJ27: =AH27-J27 -> 0
B28: Услуги по захоронению отходов | G28: 651 | I28: 0 | L28: =SUM(M28:X28) -> 0 | Z28: =L28+Y28 -> 0 | AA28: =J28*1.07 -> 0 | AB28: =Z28-AA28 -> 0 | AD28: =Z28+AC28 -> 0 | AE28: =AD28-L28 -> 0 | AF28: =AD28-J28 -> 0 | AH28: =AD28+AG28 -> 0 | AI28: =AH28-L28 -> 0 | AJ28: =AH28-J28 -> 0
B29: Услуги по калибровке емкостей | I29: 0 | L29: =SUM(M29:X29) -> 0 | Z29: =L29+Y29 -> 0 | AA29: =J29*1.07 -> 0 | AB29: =Z29-AA29 -> 0 | AD29: =Z29+AC29 -> 0 | AE29: =AD29-L29 -> 0 | AF29: =AD29-J29 -> 0 | AH29: =AD29+AG29 -> 0 | AI29: =AH29-L29 -> 0 | AJ29: =AH29-J29 -> 0
B30: Услуги по опломбированию приборов учета | I30: 6068 | J30: 2618 | K30: =6+177 -> 183 | L30: =SUM(M30:X30) -> 0 | Z30: =L30+Y30 -> 0 | AA30: =J30*1.07-2801 -> 0.26 | AB30: =Z30-AA30 -> -0.26 | AD30: =Z30+AC30 -> 0 | AE30: =AD30-L30 -> 0 | AF30: =AD30-J30 -> -2618 | AH30: =AD30+AG30 -> 0 | AI30: =AH30-L30 -> 0 | AJ30: =AH30-J30 -> -2618
B31: Услуги экспертного обследования тепловых установок | I31: 0 | L31: =SUM(M31:X31) -> 0 | Z31: =L31+Y31 -> 0 | AA31: =J31*1.07 -> 0 | AB31: =Z31-AA31 -> 0 | AD31: =Z31+AC31 -> 0 | AE31: =AD31-L31 -> 0 | AF31: =AD31-J31 -> 0 | AH31: =AD31+AG31 -> 0 | AI31: =AH31-L31 -> 0 | AJ31: =AH31-J31 -> 0
A32: 4.1.1. | B32: Запчасти для информационных технологий (МФУ) | C32: 0 | D32: 4500 | E32: 5130 | F32: 5130 | G32: 1671 | H32: 47 | I32: 0 | L32: =SUM(M32:X32) -> 0 | Z32: =L32+Y32 -> 0 | AA32: =J32*1.07 -> 0 | AB32: =Z32-AA32 -> 0 | AD32: =Z32+AC32 -> 0 | AE32: =AD32-L32 -> 0 | AF32: =AD32-J32 -> 0 | AH32: =AD32+AG32 -> 0 | AI32: =AH32-L32 -> 0 | AJ32: =AH32-J32 -> 0
A33: 4.1.1. | B33: Запчасти для информационных технологий (ИТ) | C33: 27614 | D33: 0 | E33: 10285 | F33: 10285 | G33: 10273 | H33: 10597 | I33: 14571 | J33: 291 | K33: 0 | L33: =SUM(M33:X33) -> 8482 | M33: 0 | N33: 0 | O33: 0 | P33: 0 | Q33: 0 | R33: 1212 | S33: 1212 | T33: 1212 | U33: 1212 | V33: 1212 | W33: 1212 | X33: 1210 | Z33: =L33+Y33 -> 8482 | AA33: =J33*1.07 -> 311.37 | AB33: =Z33-AA33 -> 8170.63 | AD33: =Z33+AC33 -> 8482 | AE33: =AD33-L33 -> 0 | AF33: =AD33-J33 -> 8191 | AH33: =AD33+AG33 -> 8482 | AI33: =AH33-L33 -> 0 | AJ33: =AH33-J33 -> 8191 | AK33: Плановые потребности 2026г были скорректированы на аренду МФУ, план 2026 был 149 мил
A34: 4.1.8 | B34: Обслуживание и ремонт технических средств | C34: =C35+C36 -> 19680 | D34: =D35+D36 -> 15476 | E34: =E35+E36 -> 13755 | F34: =F35+F36 -> 16739 | G34: =G35+G36 -> 16739 | H34: =H35+H36 -> 7595 | I34: =I35+I36 -> 18961 | J34: =J35+J36 -> 18641 | K34: =K35+K36 -> 1810 | L34: =SUM(M34:X34) -> 25738 | M34: =M35+M36 -> 0 | N34: =N35+N36 -> 0 | O34: =O35+O36 -> 0 | P34: =P35+P36 -> 2585 | Q34: =Q35+Q36 -> 2721 | R34: =R35+R36 -> 3415 | S34: =S35+S36 -> 3415 | T34: =T35+T36 -> 2721 | ... AJ34: =AJ35+AJ36 -> 7097
B35: ТО и ремонт систем вентиляции и кондиц. | C35: 2230 | D35: 0 | E35: 0 | F35: 0 | I35: 8401 | J35: 8401 | K35: 0 | L35: =SUM(M35:X35) -> 2537 | M35: 0 | N35: 0 | O35: 0 | P35: 0 | Q35: 144 | R35: 838 | S35: 838 | T35: 144 | U35: 144 | V35: 143 | W35: 143 | X35: 143 | Z35: =L35+Y35 -> 2537 | AA35: =J35*1.07-6452 -> 2537.07 | AB35: =Z35-AA35 -> -0.07 | AD35: =Z35+AC35 -> 2537 | AE35: =AD35-L35 -> 0 | AF35: =AD35-J35 -> -5864 | AH35: =AD35+AG35 -> 2537 | AI35: =AH35-L35 -> 0 | AJ35: =AH35-J35 -> -5864
B36: Обслуживание и ремонт оргтехники | C36: 17450 | D36: 15476 | E36: 13755 | F36: 16739 | G36: 16739 | H36: 7595 | I36: 10560 | J36: 10240 | K36: 1810 | L36: =SUM(M36:X36) -> 23201 | M36: 0 | N36: 0 | O36: 0 | P36: 2585 | Q36: 2577 | R36: 2577 | S36: 2577 | T36: 2577 | U36: 2577 | V36: 2577 | W36: 2577 | X36: 2577 | Z36: =L36+Y36 -> 23201 | AA36: =J36*1.07 -> 10956.8 | AB36: =Z36-AA36 -> 12244.2 | AD36: =Z36+AC36 -> 23201 | AE36: =AD36-L36 -> 0 | AF36: =AD36-J36 -> 12961 | AH36: =AD36+AG36 -> 23201 | AI36: =AH36-L36 -> 0 | AJ36: =AH36-J36 -> 12961 | AK36: Пранируется заключение договора на 2027 на обслуживание орг техники куда будет включена услуга по замене расходных материаллов, запчастей, проведение модернизации ПК и орг техники (картриджи, жусткие диски, процессоры и тд) Увелечение за счет статьи запасные части для ИТ (100 млн)
A37: 4.1.11 | B37: Коммунальные услуги | C37: =SUM(C38:C47) -> 30902 | D37: =SUM(D38:D47) -> 35571 | E37: =SUM(E38:E47) -> 37954 | F37: =SUM(F38:F47) -> 33384 | G37: =SUM(G38:G47) -> 76907 | H37: =SUM(H38:H47) -> 51015 | I37: =SUM(I38:I47) -> 31578 | J37: =SUM(J38:J47) -> 31576 | ... AJ37: =SUM(AJ38:AJ47) -> 4411
B38: Водоснабжение, водоотведение | C38: =1549+4952 -> 6501 | D38: =1650+9102 -> 10752 | E38: =2142+6279 -> 8421 | F38: =2804+6335 -> 9139 | G38: =2586+7074 -> 9660 | H38: 3562 | I38: =1852+2978 -> 4830 | J38: =1691+2831 -> 4522 | K38: 2536 | L38: =SUM(M38:X38) -> 5815 | M38: 479 | N38: 481 | O38: 482 | P38: 484 | Q38: 482 | R38: 485 | S38: 483 | T38: 487 | U38: 487 | V38: 489 | W38: 487 | X38: 489 | Z38: =L38+Y38 -> 5815 | AA38: =J38*1.07 -> 4838.54 | AB38: =Z38-AA38 -> 976.46 | AD38: =Z38+AC38 -> 5815 | AE38: =AD38-L38 -> 0 | AF38: =AD38-J38 -> 1293 | AH38: =AD38+AG38 -> 5815 | AI38: =AH38-L38 -> 0 | AJ38: =AH38-J38 -> 1293 | AK38: Проведен анализ. Фактический рост тарифа на услуги водоснабжения и водоотведения в сравнение 2025-2026 годов составляет 29%. Планирование бюджета на основании потребностей и предоставленных документов от регионов (ЭСФ, уведомления).
B39: Теплоэнергия | C39: 24169 | D39: 24206 | E39: 29459 | F39: 24171 | G39: 63944 | H39: 45799 | I39: 21737 | J39: 22044 | K39: 15117 | L39: =SUM(M39:X39) -> 30172 | M39: 3368 | N39: 3368 | O39: 3318 | P39: 3295 | Q39: 1350 | R39: 1335 | S39: 1316 | T39: 1266 | U39: 1552 | V39: 3297 | W39: 3319 | X39: 3388 | Z39: =L39+Y39 -> 30172 | AA39: =J39*1.07 -> 23587.08 | AB39: =Z39-AA39 -> 6584.92 | AD39: =Z39+AC39 -> 30172 | AE39: =AD39-L39 -> 0 | AF39: =AD39-J39 -> 8128 | AH39: =AD39+AG39 -> 30172 | AI39: =AH39-L39 -> 0 | AJ39: =AH39-J39 -> 8128 | AK39: Проведен анализ. Фактический рост тарифа на услуги теплоснабжение в сравнение 2025-2026 годов составляет 25%. Планирование бюджета на основании потребностей и предоставленных документов от регионов (ЭСФ, уведомления).
B40: Услуги КСК | C40: 181 | D40: 613 | E40: 74 | F40: 74 | G40: 72 | H40: 48 | I40: 0 | L40: =SUM(M40:X40) -> 0 | Z40: =L40+Y40 -> 0 | AA40: =J40*1.07 -> 0 | AB40: =Z40-AA40 -> 0 | AD40: =Z40+AC40 -> 0 | AE40: =AD40-L40 -> 0 | AF40: =AD40-J40 -> 0 | AH40: =AD40+AG40 -> 0 | AI40: =AH40-L40 -> 0 | AJ40: =AH40-J40 -> 0
B41: Вывоз мусора | G41: 2425 | H41: 1357 | I41: 2269 | J41: 2269 | K41: 1021 | L41: =SUM(M41:X41) -> 0 | Z41: =L41+Y41 -> 0 | AA41: =J41*1.07-2428 -> -0.17 | AB41: =Z41-AA41 -> 0.17 | AD41: =Z41+AC41 -> 0 | AE41: =AD41-L41 -> 0 | AF41: =AD41-J41 -> -2269 | AH41: =AD41+AG41 -> 0 | AI41: =AH41-L41 -> 0 | AJ41: =AH41-J41 -> -2269
B42: Дератизация | G42: 682 | H42: 249 | I42: 1170 | J42: 1170 | K42: 580 | L42: =SUM(M42:X42) -> 0 | Z42: =L42+Y42 -> 0 | AA42: =J42*1.07-1252 -> -0.1 | AB42: =Z42-AA42 -> 0.1 | AD42: =Z42+AC42 -> 0 | AE42: =AD42-L42 -> 0 | AF42: =AD42-J42 -> -1170 | AH42: =AD42+AG42 -> 0 | AI42: =AH42-L42 -> 0 | AJ42: =AH42-J42 -> -1170
B43: Ком. расходы при аренде недвижимости | I43: 1200 | J43: 1200 | L43: =SUM(M43:X43) -> 0 | Z43: =L43+Y43 -> 0 | AA43: =J43*1.07-1284 -> 0 | AB43: =Z43-AA43 -> 0 | AD43: =Z43+AC43 -> 0 | AE43: =AD43-L43 -> 0 | AF43: =AD43-J43 -> -1200 | AH43: =AD43+AG43 -> 0 | AI43: =AH43-L43 -> 0 | AJ43: =AH43-J43 -> -1200
...

Sheet топл для отопл
B1: Расчет потребности затрат по топливу для отопления на 2027 год
A4: №№ пп | B4: Регион | C4: Город/Область | D4: Наименование объекта/структ.подразделения | E4: Адрес объекта | F4: Отапливаемая площадь, кв.м | G4: Занимаемый филиал | H4: ВСЕГО | I4: Топливо дизельное летнее бензовоз | L4: Дрова | O4: Газ сжиженный | R4: Уголь
I5: Кол-во литров | J5: Цена за литр, тенге без НДС | K5: Сумма, тенге | L5: Кол-во тонн | M5: Цена за тонну, тенге без НДС | N5: Сумма, тенге | O5: Кол-во литров | P5: Цена за литр, тенге без НДС | Q5: Сумма, тенге | R5: Кол-во тонн | S5: Цена за тонну, тенге без НДС | T5: Сумма, тенге
A6: 1 | B6: Алматинский | C6: Жетысуская | D6: Здание дизельной ПРС-75 | E6: Аксуский р-н, с. Капал ПРС-75 | F6: 48 | G6: ОДС | H6: =K6+N6+Q6+T6 -> 7551165 | I6: 17359 | J6: 435 | K6: =I6*J6 -> 7551165 | N6: 0 | Q6: 0 | T6: 0
A7: 2 | B7: Алматинский | C7: Жетысуская | D7: Здание АТС | E7: Ескельдинский р-н, п.Алдабергенова | F7: 197 | G7: ОДС | H7: =K7+N7+Q7+T7 -> 11024205 | I7: 25343 | J7: 435 | K7: =I7*J7 -> 11024205
A8: 3 | B8: Алматинский | C8: Жетысуская | D8: АДМИНИСТРАТИВНЫЕ ЗДАНИЯ | E8: Панфиловский район, г.Жаркент ул Головацкого 125 | F8: 10 | G8: ДКБ | H8: =K8+N8+Q8+T8 -> 210000 | I8: 0 | K8: =I8*J8 -> 0 | R8: 7 | S8: 30000 | T8: =R8*S8 -> 210000
A9: 4 | B9: Алматинский | C9: Алматинская | D9: ЗданиеАТС | E9: Райымбекский р-н,с.Каратоган,ул.Абай | F9: 61 | G9: ОДС | H9: =K9+N9+Q9+T9 -> 1021928.8 | I9: 2349.2616 | J9: 435 | K9: =I9*J9 -> 1021928.8
A10: 5 | B10: Алматинский | C10: Жетысуская | D10: АДМИНИСТРАТИВНЫЕ ЗДАНИЯ | E10: Аксуский р-н, с.Жансугуров. ул Желтоксан 3 | F10: 15 | G10: ДКБ | H10: =K10+N10+Q10+T10 -> 440220 | I10: 1012 | J10: 435 | K10: =I10*J10 -> 440220
A11: 6 | B11: Алматинский | C11: Жетысуская | D11: АДМИНИСТРАТИВНЫЕ ЗДАНИЯ | E11: Аксуский р-н, с.Жансугуров. ул Желтоксан 3 | F11: 60 | G11: ДРБ | H11: =K11+N11+Q11+T11 -> 2301750 | I11: 4050 | J11: 435 | K11: =I11*J11 -> 1761750 | R11: 18 | S11: 30000 | T11: =S11*R11 -> 540000
A12: 7 | B12: Алматинский | C12: Жетысуская | D12: Здание дизельной | E12: Алакольский район, ПРС-70 Ушарал | F12: 48 | G12: ОДС | H12: =K12+N12+Q12+T12 -> 11952060 | I12: 27476 | J12: 435 | K12: =J12*I12 -> 11952060
A13: 8 | B13: Алматинский | C13: Жетысуская | D13: АДМИНИСТРАТИВНЫЕ ЗДАНИЯ | E13: Алакольский р-н, с. Ушарал, ул. Конаева 74 | F13: 15 | G13: ДКБ | H13: =K13+N13+Q13+T13 -> 460665 | I13: 1059 | J13: 435 | K13: =I13*J13 -> 460665
A14: 9 | B14: Алматинский | C14: Жетысуская | D14: АДМИНИСТРАТИВНЫЕ ЗДАНИЯ | E14: Алакольский р-н, с. Ушарал, ул. Конаева 74 | F14: 60 | G14: ДРБ | H14: =K14+N14+Q14+T14 -> 1841790 | I14: 4234 | J14: 435 | K14: =I14*J14 -> 1841790
A15: 10 | B15: Алматинский | C15: Алматинская | D15: СКЛАДЫ | E15: Балхашский р-н, с. Акколь | F15: 28 | G15: ОДС | H15: =K15+N15+Q15+T15 -> 852073.49 | I15: 1958.7896 | J15: 435 | K15: =I15*J15 -> 852073.49
A16: 11 | B16: Алматинский | C16: Алматинская | D16: АДМИНИСТРАТИВНЫЕ ЗДАНИЯ | E16: Балхашский р-н, с. Баканас | F16: 101 | G16: ОДС | H16: =K16+N16+Q16+T16 -> 3073550.8 | I16: 7065.634 | J16: 435 | K16: =I16*J16 -> 3073550.8
A17: 12 | B17: Алматинский | C17: Алматинская | D17: ЗДАНИЕ ДИЗЕЛЬНОЙ | E17: Балхашский р-н, с. Баканас | F17: 29 | G17: ОДС | H17: =K17+N17+Q17+T17 -> 882504.68 | I17: 2028.7464 | J17: 435 | K17: =I17*J17 -> 882504.68
A18: 13 | B18: Алматинский | C18: Алматинская | D18: СКЛАДЫ | E18: Балхашский р-н, с. Баканас | F18: 37 | G18: ОДС | H18: =K18+N18+Q18+T18 -> 1125954.3 | I18: 2588.4006 | J18: 435 | K18: =I18*J18 -> 1125954.3
A19: 14 | B19: Алматинский | C19: Алматинская | D19: ЗДАНИЕ АТС | E19: Балхашский р-н, с. Балатопар | F19: 102 | G19: ОДС | H19: =K19+N19+Q19+T19 -> 3103982 | I19: 7135.5908 | J19: 435 | K19: =I19*J19 -> 3103982
A20: 15 | B20: Алматинский | C20: Алматинская | D20: ЗДАНИЕ АТС | E20: Балхашский р-н, с. Береке | F20: 50 | G20: ОДС | H20: =K20+N20+Q20+T20 -> 1521559.8 | I20: 3497.8386 | J20: 435 | K20: =I20*J20 -> 1521559.8
A21: 16 | B21: Алматинский | C21: Алматинская | D21: Тех.здание ОРС-101 Жанашар | E21: Енбекшиказахский район, Жанашар | F21: 60 | G21: ОДС | H21: =K21+N21+Q21+T21 -> 894024.4 | I21: 2055.2285 | J21: 435 | K21: =I21*J21 -> 894024.4
A22: 17 | B22: Алматинский | C22: Алматинская | D22: Тех.здание Базаркельды УРС-78 | E22: Енбекшиказахский район, Базаркельды | F22: 92 | G22: ОДС | H22: =K22+N22+Q22+T22 -> 1370837.4 | I22: 3151.3504 | J22: 435 | K22: =I22*J22 -> 1370837.4
A23: 18 | B23: Алматинский | C23: Алматинская | D23: Тех.здание Богуты ПРС-94 | E23: Енбекшиказахский район, Богуты | F23: 191 | G23: ОДС | H23: =K23+N23+Q23+T23 -> 2845977.7 | I23: 6542.4774 | J23: 435 | K23: =I23*J23 -> 2845977.7
A24: 19 | B24: Алматинский | C24: Алматинская | D24: АДМИНИСТРАТИВНЫЕ ЗДАНИЯ | E24: Енбекшиказахский район, Есик ул. Абая 109 | F24: 764 | G24: ОДС | H24: =K24+N24+Q24+T24 -> 8773910.7 | I24: 20169.91 | J24: 435 | K24: =I24*J24 -> 8773910.7
... A57: 52 | B57: Алматинский | C57: Жетысуская | D57: АДМИНИСТРАТИВНЫЕ ЗДАНИЯ | E57: Талдыкорган | F57: 868 | G57: СФ | H57: =K57+N57+Q57+T57 -> 29018415 | I57: 66709 | J57: 435 | K57: =I57*J57 -> 29018415
A58: 53 | B58: Актюбинская | C58: Актюбинская | D58: Здание АТС | E58: Кобдинский район, с.Кобда, ул.Астана, 46 | F58: 309 | G58: ОДС | H58: =K58+N58+Q58+T58 -> 1305000 | I58: 3000 | J58: 435 | K58: =I58*J58 -> 1305000 | T58: =R58*S58 -> 0
A59: 54 | B59: Атырауский | C59: Атырау | D59: ГЦУСТ | E59: мкр Жулдыз 51 село Кайыршахтинский округ Орбита | F59: 207.1 | G59: ОДС | H59: =K59+N59+Q59+T59 -> 1305000 | I59: 3000 | J59: 435 | K59: =I59*J59 -> 1305000 | T59: =R59*S59 -> 0
A60: 599 | B60: Северный | C60: СКО | D60: Здание (ЛТУ) Лит А | E60: Айыртауский район, с. Арык-Балык, ул. Бәйкен Әшімов 62 | F60: 141.2 | G60: ДС | H60: =K60+N60+Q60+T60 -> 16736625 | I60: 38475 | J60: 435 | K60: =I60*J60 -> 16736625 | T60: 0
A61: 616 | B61: Северный | C61: СКО | D61: Здание (РУТ) Лит А | E61: Акжарский район, с. Талщик, ул. Целинная 22. | F61: 204.1 | G61: ДС | H61: =K61+N61+Q61+T61 -> 8386800 | I61: 19280 | J61: 435 | K61: =I61*J61 -> 8386800 | T61: 0
A62: 633 | B62: Северный | C62: СКО | D62: Админ. Здание (РУТ) Лит А | E62: Аккайынский район, с. Смирново, ул. Народная 46В. | F62: 293.55 | G62: ДС | H62: =K62+N62+Q62+T62 -> 8386800 | I62: 19280 | J62: 435 | K62: =I62*J62 -> 8386800 | T62: 0
A63: 756 | B63: Северный | C63: СКО | D63: Здание АО"Казахтелеком" (РУТ) Лит А | E63: Есильский район, с. Явленка, ул. Тәуелсіздік -9 | F63: 487.9 | G63: ДС | H63: =K63+N63+Q63+T63 -> 350000 | J63: 435 | K63: =I63*J63 -> 0 | R63: 10 | S63: 35000 | T63: =S63*R63 -> 350000
A64: 771 | B64: Северный | C64: СКО | D64: Здание РУТ Лит А | E64: Жамбылский район, с. Пресновка, ул. Шайкина 40. | F64: 425.5 | G64: ДС | H64: =K64+N64+Q64+T64 -> 8386800 | I64: 19280 | J64: 435 | K64: =I64*J64 -> 8386800 | T64: 0
A65: 809 | B65: Северный | C65: СКО | D65: Адм. Здание (РУТ) Лит А | E65: Кызылжарский район, а. Бесколь, ул. Гагарина -4. | F65: 205.9 | G65: ДС | H65: =K65+N65+Q65+T65 -> 8386800 | I65: 19280 | J65: 435 | K65: =I65*J65 -> 8386800 | T65: 0
A66: 820 | B66: Северный | C66: СКО | D66: Помещение РУТ (часть здания) Лит А | E66: Мамлютский район, г. Мамлютка, ул. Абылай Хан 51 | F66: 384.1 | G66: ДС | H66: =K66+N66+Q66+T66 -> 350000 | J66: 435 | K66: =I66*J66 -> 0 | R66: 10 | S66: 35000 | T66: =R66*S66 -> 350000
A67: 849 | B67: Северный | C67: СКО | D67: Часть здания РУТ Лит А | E67: Район Г. Мусрепова, с.Новоишимское, ул.Абылай Хан 22 | F67: 344.6 | G67: ДС | H67: =K67+N67+Q67+T67 -> 8386800 | I67: 19280 | J67: 435 | K67: =I67*J67 -> 8386800 | T67: 0
A68: 864 | B68: Северный | C68: СКО | D68: Здание РУТ с пристройкой Лит А | E68: район М.Жумабаева, г. Булаево, ул. А. Молдагуловой -7. | F68: 441.8 | G68: ДС | H68: =K68+N68+Q68+T68 -> 16736625 | I68: 38475 | J68: 435 | K68: =I68*J68 -> 16736625 | T68: 0
A69: 874 | B69: Северный | C69: СКО | D69: Эстакада для хран матер | E69: р-н Шал акына, ул.Желтоксан, 14 (здание под лтц арендуется) | F69: 0 | G69: ДС | H69: =K69+N69+Q69+T69 -> 8386800 | I69: 19280 | J69: 435 | K69: =I69*J69 -> 8386800 | T69: 0
A70: 889 | B70: Северный | C70: СКО | D70: Здание техн (РУТ) Лит А | E70: Тайыншинский район, г. Тайынша, ул. Кенесары-125 | F70: 261.1 | G70: ДС | H70: =K70+N70+Q70+T70 -> 16736625 | I70: 38475 | J70: 435 | K70: =I70*J70 -> 16736625 | T70: 0
A71: 916 | B71: Северный | C71: СКО | D71: Здание РУТ(часть зд-я) Лит А | E71: Уалихановский район, с.Кишкенеколь,ул. Уалиханова -81. | F71: 240.7 | G71: ДС | H71: =K71+N71+Q71+T71 -> 8386800 | I71: 19280 | J71: 435 | K71: =I71*J71 -> 8386800 | T71: 0
A72: 1 | B72: Северный | C72: Костанайская | D72: ЛТЦ Узункольского района ЦТО МС | E72: Узункольский район, п.Узунколь, ул. Абылайхана, 69 | F72: 1055.1 | G72: ДС | H72: =K72+N72+Q72+T72 -> 2403375 | I72: 5525 | J72: 435 | K72: =I72*J72 -> 2403375
A73: 2 | B73: Северный | C73: Костанайская | D73: ЛТЦ Мендыкаринского района ЦТО МС | E73: Мендыкаринский район, с.Боровское, ул.Жеңіс, 8 | F73: 996.8 | G73: ДС | H73: =K73+N73+Q73+T73 -> 2860125 | I73: 6575 | J73: 435 | K73: =I73*J73 -> 2860125
A74: 3 | B74: Северный | C74: Костанайская | D74: ЛТЦ Карасуского района ЦТО МС | E74: Карасуский район, п.Карасу, ул.А.Исакова, 78 | F74: 670.4 | G74: ДС | H74: =K74+N74+Q74+T74 -> 1924875 | I74: 4425 | J74: 435 | K74: =I74*J74 -> 1924875
...

Sheet электроэнергия

Sheet охр объектов ПС
B3: 2.4.3 | C3: Охрана объектов производственного назначения | D3: 3117678
C4: Обработка деревян.констр-й огнезащ.сост. | D4: 77605
C5: Обслуживание ОПС | D5: 435819
C6: Обслуживание системы АУГП | D6: 118816
C7: Перезарядка и ремонт огнетушителей | D7: 0
C8: Демонтажные работы | D8: 0
C9: Противопожарные мероприятия | D9: 100366
C10: Техническое освидетельствование , ремонт и заполнение ОТВ системы АГПТ (новая потребность) 1 раз в 10 лет | D10: 2385072 | E10: =D3-D10 -> 732606

Sheet Охр труда
A2: Наименование материала | B2: Кол-во | C2: Цена закупки, тг без НДС | D2: Общая стоимость, тг
A3: АПТЕЧКА АВТОМОБИЛЬНАЯ | B3: 972 | D3: 3402000
A4: Актау | B4: 77 | C4: 3500 | D4: =B4*C4 -> 269500
A5: Актюбинск | B5: 94 | C5: 3500 | D5: =B5*C5 -> 329000
A6: Алматы | B6: 100 | C6: 3500 | D6: =B6*C6 -> 350000
A7: Кокшетау | B7: 20 | C7: 3500 | D7: =B7*C7 -> 70000
A8: Костанай | B8: 120 | C8: 3500 | D8: =B8*C8 -> 420000
A9: Семей | B9: 84 | C9: 3500 | D9: =B9*C9 -> 294000
A10: Талдыкорган | B10: 100 | C10: 3500 | D10: =B10*C10 -> 350000
A11: Тараз | B11: 276 | C11: 3500 | D11: =B11*C11 -> 966000
A12: Усть-Каменогорск | B12: 101 | C12: 3500 | D12: =B12*C12 -> 353500
A13: БОТИНКИ | B13: 410 | D13: 10373000
A14: Актюбинск | B14: 63 | C14: 25300 | D14: =B14*C14 -> 1593900
A15: Астана | B15: 104 | C15: 25300 | D15: =B15*C15 -> 2631200
A16: Костанай | B16: 9 | C16: 25300 | D16: =B16*C16 -> 227700
A17: Кызылорда | B17: 26 | C17: 25300 | D17: =B17*C17 -> 657800
A18: Петропавловск | B18: 42 | C18: 25300 | D18: =B18*C18 -> 1062600
A19: Уральск | B19: 33 | C19: 25300 | D19: =B19*C19 -> 834900
A20: Усть-Каменогорск | B20: 59 | C20: 25300 | D20: =B20*C20 -> 1492700
A21: Шымкент | B21: 74 | C21: 25300 | D21: =B21*C21 -> 1872200
A22: БОТИНКИ КОЖАНЫЕ | B22: 327 | D22: 8273100
A23: Алматы | B23: 150 | C23: 25300 | D23: =B23*C23 -> 3795000
A24: Атырау | B24: 48 | C24: 25300 | D24: =B24*C24 -> 1214400
A25: Семей | B25: 59 | C25: 25300 | D25: =B25*C25 -> 1492700
A26: Талдыкорган | B26: 70 | C26: 25300 | D26: =B26*C26 -> 1771000
A27: БОТИНКИ КОЖАНЫЕ УТЕПЛЕННЫЕ С ПОДНОСКОМ | B27: 441 | D27: 10275300
A28: Актюбинск | B28: 63 | C28: 23300 | D28: =B28*C28 -> 1467900
A29: Астана | B29: 104 | C29: 23300 | D29: =B29*C29 -> 2423200
A30: Атырау | B30: 48 | C30: 23300 | D30: =B30*C30 -> 1118400
A31: Костанай | B31: 17 | C31: 23300 | D31: =B31*C31 -> 396100
A32: Петропавловск | B32: 42 | C32: 23300 | D32: =B32*C32 -> 978600
A33: Семей | B33: 59 | C33: 23300 | D33: =B33*C33 -> 1374700
A34: Тараз | B34: 49 | C34: 23300 | D34: =B34*C34 -> 1141700
A35: Усть-Каменогорск | B35: 59 | C35: 23300 | D35: =B35*C35 -> 1374700
A36: БРЕЗЕНТ | B36: 10 | D36: 600000
A37: Усть-Каменогорск | B37: 10 | C37: 60000 | D37: =B37*C37 -> 600000
A38: Дополнительные фары рабочего света: | B38: 51 | D38: 765000
A39: Алматы | B39: 5 | C39: 15000 | D39: =B39*C39 -> 75000
A40: Астана | B40: 18 | C40: 15000 | D40: =B40*C40 -> 270000
A41: Караганда | B41: 10 | C41: 15000 | D41: =B41*C41 -> 150000
...

Sheet Наемный транспорт
B3: Период | C3: Наемный транспорт производственного назначения
C4: Всего | E4: в том числе | V4: Согласно Приказу №51 от 22.02.2021 г. «Об утверждении Правил предоставления и эксплуатации служебного, дежурного автотранспорта ЦА Общества» и Решению Правления №41/200 от 28.09.2020 г., норматив положенности для Председателя Правления составляет 2 (две) единицы служебного автотранспорта. Таким образом, в бюджете учтено обеспечение двумя транспортными средствами с базированием в городах Астана и Алматы. В предыдущих периодах закуп аренды второго автомобиля для базирования в г. Алматы не осуществлялся.
E5: Легковой | I5: Грузовой | M5: Спец. Транспорт | Q5: Средства механизации
C6: Кол-во единиц (шт) | D6: Сумма (тыс.тг) | E6: Кол-во единиц (шт) | F6: Средн тариф (тенге*час) | G6: Кол-во часов работы | H6: Сумма (тыс.тг) | I6: Кол-во единиц (шт) | J6: Средн тариф (тенге*час) | K6: Кол-во часов работы | L6: Сумма (тыс.тг) | M6: Кол-во единиц (шт) | N6: Средн тариф (тенге*час) | O6: Кол-во часов работы | P6: Сумма (тыс.тг) | Q6: Кол-во единиц (шт) | R6: Средн тариф (тенге*час) | S6: Кол-во часов работы | T6: Сумма (тыс.тг)
B8: 1 квартал | C8: =E8+I8+M8+Q8 -> 12 | D8: =H8+L8+P8+T8 -> 48600 | E8: 12 | F8: 4050 | H8: =E8*F8 -> 48600 | L8: =K8*J8/1000 -> 0 | P8: =O8*N8/1000 -> 0 | T8: =S8*R8/1000 -> 0 | V8: Также запланированы потребности по аренде 12 ед ТСС для обеспечения оперативной мобильности руководящего состава, в целях повышения эффективности бизнес-процессов, соблюдения графиков протоколов деловых мероприятий и поддержания высокого уровня деловой репутации.
B9: 2 квартал | C9: =E9+I9+M9+Q9 -> 12 | D9: =H9+L9+P9+T9 -> 48600 | E9: 12 | F9: 4050 | H9: =E9*F9 -> 48600 | L9: =K9*J9/1000 -> 0 | P9: =O9*N9/1000 -> 0 | T9: =S9*R9/1000 -> 0
B10: 3 квартал | C10: =E10+I10+M10+Q10 -> 12 | D10: =H10+L10+P10+T10 -> 48600 | E10: 12 | F10: 4050 | H10: =E10*F10 -> 48600 | L10: =K10*J10/1000 -> 0 | P10: =O10*N10/1000 -> 0 | T10: =S10*R10/1000 -> 0
B11: 4 квартал | C11: =E11+I11+M11+Q11 -> 12 | D11: =H11+L11+P11+T11 -> 48600 | E11: 12 | F11: 4050 | H11: =E11*F11 -> 48600 | L11: =K11*J11/1000 -> 0 | P11: =O11*N11/1000 -> 0 | T11: =S11*R11/1000 -> 0
B12: Всего на год | D12: =D8+D9+D10+D11 -> 194400 | G12: =G8+G9+G10+G11 -> 0 | H12: =H8+H9+H10+H11 -> 194400 | K12: =K8+K9+K10+K11 -> 0 | L12: =L8+L9+L10+L11 -> 0 | O12: =O8+O9+O10+O11 -> 0 | P12: =P8+P9+P10+P11 -> 0 | S12: =S8+S9+S10+S11 -> 0 | T12: =T8+T9+T10+T11 -> 0
B15: Период | C15: Наемный транспорт административного назначения
C16: Всего | E16: в том числе
E17: Легковой | I17: Грузовой | M17: Спец. Транспорт | Q17: Средства механизации
C18: Кол-во единиц (шт) | D18: Сумма (тыс.тг) | E18: Кол-во единиц (шт) | F18: Средн тариф (тенге*час) | G18: Кол-во часов работы | H18: Сумма (тыс.тг) | I18: Кол-во единиц (шт) | J18: Средн тариф (тенге*час) | K18: Кол-во часов работы | L18: Сумма (тыс.тг) | M18: Кол-во единиц (шт) | N18: Средн тариф (тенге*час) | O18: Кол-во часов работы | P18: Сумма (тыс.тг) | Q18: Кол-во единиц (шт) | R18: Средн тариф (тенге*час) | S18: Кол-во часов работы | T18: Сумма (тыс.тг)
B20: 1 квартал | C20: =E20+I20+M20+Q20 -> 2 | D20: =H20+L20+P20+T20 -> 12600 | E20: 2 | F20: 6300 | H20: =E20*F20 -> 12600 | L20: =K20*J20/1000 -> 0 | P20: =O20*N20/1000 -> 0 | T20: =S20*R20/1000 -> 0
B21: 2 квартал | C21: =E21+I21+M21+Q21 -> 2 | D21: =H21+L21+P21+T21 -> 12600 | E21: 2 | F21: 6300 | H21: =E21*F21 -> 12600 | L21: =K21*J21/1000 -> 0 | P21: =O21*N21/1000 -> 0 | T21: =S21*R21/1000 -> 0
B22: 3 квартал | C22: =E22+I22+M22+Q22 -> 2 | D22: =H22+L22+P22+T22 -> 12600 | E22: 2 | F22: 6300 | H22: =E22*F22 -> 12600 | L22: =K22*J22/1000 -> 0 | P22: =O22*N22/1000 -> 0 | T22: =S22*R22/1000 -> 0
B23: 4 квартал | C23: =E23+I23+M23+Q23 -> 2 | D23: =H23+L23+P23+T23 -> 12600 | E23: 2 | F23: 6300 | H23: =E23*F23 -> 12600 | L23: =K23*J23/1000 -> 0 | P23: =O23*N23/1000 -> 0 | T23: =S23*R23/1000 -> 0
B24: Всего на год | D24: =D20+D21+D22+D23 -> 50400 | G24: =G20+G21+G22+G23 -> 0 | H24: =H20+H21+H22+H23 -> 50400 | K24: =K20+K21+K22+K23 -> 0 | L24: =L20+L21+L22+L23 -> 0 | O24: =O20+O21+O22+O23 -> 0 | P24: =P20+P21+P22+P23 -> 0 | S24: =S20+S21+S22+S23 -> 0 | T24: =T20+T21+T22+T23 -> 0
D26: =D24+D12 -> 244800

Sheet обсл и рем автотр ср
A2: ОБ 2027 по обслуживанию и ремонту ТС
A3: РЕГИОН | B3: Кол-во ТС | C3: Сумма ТО и ремонта, тг
A4: Алматы | B4: 263 | C4: 90000000
A5: Алматинская область | B5: 134 | C5: 41000000
A6: Жетысуская область | B6: 121 | C6: 42000000
A7: Алматинский регион | B7: =SUM(B4:B6) -> 518 | C7: =SUM(C4:C6) -> 173000000
A8: Астана | B8: 114 | C8: 70000000
A9: Акмолинская область | B9: 165 | C9: 48000000
A10: Карагандинская область | B10: 116 | C10: 46000000
A11: Улытауская область | B11: 23 | C11: 9000000
A12: Центральный регион | B12: =SUM(B8:B11) -> 418 | C12: =SUM(C8:C11) -> 173000000
A13: Абайская область | B13: 75 | C13: 28000000
A14: Восточно-Казахстанская область | B14: 92 | C14: 46000000
A15: Павлодарская область | B15: 123 | C15: 45000000
A16: Восточный регион | B16: =SUM(B13:B15) -> 290 | C16: =SUM(C13:C15) -> 119000000
A17: Актюбинская область | B17: 100 | C17: 38000000
A18: Атырауская область | B18: 88 | C18: 29000000
A19: Западно-Казахстанская область | B19: 113 | C19: 38000000
A20: Мангистауская область | B20: 73 | C20: 28000000
A21: Западный регион | B21: =SUM(B17:B20) -> 374 | C21: =SUM(C17:C20) -> 133000000
A22: Костанайская область | B22: 148 | C22: 60000000
A23: Северо-Казахстанская область | B23: 142 | C23: 60000000
A24: Северный регион | B24: =SUM(B22:B23) -> 290 | C24: =SUM(C22:C23) -> 120000000
A25: Туркестанская область | B25: 78 | C25: 23600000
A26: Шымкент | B26: 81 | C26: 33400000
A27: Жамбылская область | B27: 103 | C27: 36000000
A28: Кызылординская область | B28: 88 | C28: 29000000
A29: Южный регион | B29: =SUM(B25:B28) -> 350 | C29: =SUM(C25:C28) -> 122000000
A30: ИТОГО | B30: =B7+B12+B16+B21+B24+B29 -> 2240 | C30: =C7+C12+C16+C21+C24+C29 -> 840000000

Sheet Расшифр авто ПС
B2: Расшифровка денежных средств, планируемых на ТО и ремонт автотранспортных средств
A4: №п/п | B4: Тип ТС | C4: Модель | D4: Гос. № | E4: Филиал, за которым закреплено ТС | F4: Год выпуска | G4: Остаточная стоимость | H4: Вид ремонта | I4: Затраты | J4: Регион | K4: Город
